Workbook

Sheet Individuell
A2: Row Labels | B2: Poäng Totalt | C2: Tävlingar | D2: Antal Skott | E2: Antal Träff
A3: Damer 16-17 | B3: 70 | C3: 5 | D3: 100 | E3: 46 | F3: =E3/D3 -> 0.46
A4: Agnes Tapper | B4: 27 | C4: 2 | D4: 40 | E4: 16 | F4: =E4/D4 -> 0.4
A5: Felicia Hedberg | B5: 15 | C5: 1 | D5: 20 | E5: 14 | F5: =E5/D5 -> 0.7
A6: Solveig Ghisler-Solvang | B6: 15 | C6: 1 | D6: 20 | E6: 12 | F6: =E6/D6 -> 0.6
A7: Ebba Sundling | B7: 13 | C7: 1 | D7: 20 | E7: 4 | F7: =E7/D7 -> 0.2
A8: Damer 18-21 | B8: 58 | C8: 4 | D8: 80 | E8: 32 | F8: =E8/D8 -> 0.4
A9: Ida Mürvin | B9: 15 | C9: 1 | D9: 20 | E9: 5 | F9: =E9/D9 -> 0.25
A10: Ylva Oppås | B10: 15 | C10: 1 | D10: 20 | E10: 10 | F10: =E10/D10 -> 0.5
A11: Jennifer Stigsson | B11: 15 | C11: 1 | D11: 20 | E11: 7 | F11: =E11/D11 -> 0.35
A12: Agnes Eklund | B12: 13 | C12: 1 | D12: 20 | E12: 10 | F12: =E12/D12 -> 0.5
A13: Magda Persson | F13: =E13/D13 -> #DIV/0!
A14: Damer 18-22 | B14: 15 | C14: 1 | D14: 20 | E14: 2 | F14: =E14/D14 -> 0.1
A15: Jennifer Stigsson | B15: 15 | C15: 1 | D15: 20 | E15: 2 | F15: =E15/D15 -> 0.1
A16: Flickor 10-11 | B16: 130 | C16: 26 | D16: 260 | E16: 134 | F16: =E16/D16 -> 0.51538462
A17: Amelia Fjärrnäs | B17: 30 | C17: 6 | D17: 60 | E17: 46 | F17: =E17/D17 -> 0.76666667
A18: Ines Hall | B18: 30 | C18: 6 | D18: 60 | E18: 34 | F18: =E18/D18 -> 0.56666667
A19: Tove Eklund | B19: 10 | C19: 2 | D19: 20 | E19: 6 | F19: =E19/D19 -> 0.3
A20: Elsie Hahlin | B20: 10 | C20: 2 | D20: 20 | E20: 10 | F20: =E20/D20 -> 0.5
A21: Sigrid Nordlander | B21: 10 | C21: 2 | D21: 20 | E21: 14 | F21: =E21/D21 -> 0.7
A22: Signe Brodén | B22: 5 | C22: 1 | D22: 10 | E22: 3 | F22: =E22/D22 -> 0.3
A23: Märta Turunen | B23: 5 | C23: 1 | D23: 10 | E23: 4 | F23: =E23/D23 -> 0.4
A24: Hanna Pettersson | B24: 5 | C24: 1 | D24: 10 | E24: 5 | F24: =E24/D24 -> 0.5
A25: Stina Mürvin | B25: 5 | C25: 1 | D25: 10 | E25: 2 | F25: =E25/D25 -> 0.2
... A48: Astrid Karlsson | B48: 4 | C48: 1 | D48: 15 | E48: 6 | F48: =E48/D48 -> 0.4
A49: Rut Ireholm | F49: =E49/D49 -> #DIV/0!
A50: Flickor 14-15 | B50: 216 | C50: 17 | D50: 250 | E50: 142 | F50: =E50/D50 -> 0.568
A51: Ella Keller | B51: 63 | C51: 5 | D51: 70 | E51: 37 | F51: =E51/D51 -> 0.52857143
A52: Julia Nilsson | B52: 45 | C52: 3 | D52: 45 | E52: 30 | F52: =E52/D52 -> 0.66666667
A53: Isabelle Hörnberg | B53: 32 | C53: 3 | D53: 45 | E53: 21 | F53: =E53/D53 -> 0.46666667
A54: Hanna Johansson | B54: 26 | C54: 2 | D54: 30 | E54: 16 | F54: =E54/D54 -> 0.53333333
A55: Linnea Forsberg | B55: 15 | C55: 1 | D55: 15 | E55: 11 | F55: =E55/D55 -> 0.73333333
A56: Elin Bennstam | B56: 13 | C56: 1 | D56: 15 | E56: 7 | F56: =E56/D56 -> 0.46666667
A57: Ella Sandh | B57: 12 | C57: 1 | D57: 15 | E57: 12 | F57: =E57/D57 -> 0.8
A58: Selma Pettersson | B58: 10 | C58: 1 | D58: 15 | E58: 8 | F58: =E58/D58 -> 0.53333333
A59: Edit Brask | F59: =E59/D59 -> #DIV/0!
A60: Alma Lundqvist | F60: =E60/D60 -> #DIV/0!
A61: Emma Landgren | F61: =E61/D61 -> #DIV/0!
A62: Herrar 16-17 | B62: 210 | C62: 16 | D62: 310 | E62: 108 | F62: =E62/D62 -> 0.3483871
A63: Georg Fladrich | B63: 43 | C63: 3 | D63: 50 | E63: 27 | F63: =E63/D63 -> 0.54
A64: Hampus Karlsson | B64: 39 | C64: 3 | D64: 60 | E64: 24 | F64: =E64/D64 -> 0.4
A65: Hugo Ljungaeus | B65: 28 | C65: 2 | D65: 40 | E65: 12 | F65: =E65/D65 -> 0.3
A66: Oskar Berggren | B66: 26 | C66: 2 | D66: 40 | E66: 10 | F66: =E66/D66 -> 0.25
A67: Eskil Clement | B67: 23 | C67: 2 | D67: 40 | E67: 13 | F67: =E67/D67 -> 0.325
A68: Eskild Carlson | B68: 15 | C68: 1 | D68: 20 | E68: 6 | F68: =E68/D68 -> 0.3
A69: Wilhelm Hallander | B69: 12 | C69: 1 | D69: 20 | E69: -1 | F69: =E69/D69 -> -0.05
A70: Wille Selkee | B70: 12 | C70: 1 | D70: 20 | E70: 9 | F70: =E70/D70 -> 0.45
A71: Oskar Grändemark | B71: 12 | C71: 1 | D71: 20 | E71: 8 | F71: =E71/D71 -> 0.4
A72: Isak Mårdh | F72: =E72/D72 -> #DIV/0!
A73: Pojkar 10-11 | B73: 240 | C73: 48 | D73: 480 | E73: 210 | F73: =E73/D73 -> 0.4375
A74: Karl Bergh | B74: 25 | C74: 5 | D74: 50 | E74: 18 | F74: =E74/D74 -> 0.36
A75: Jamie Qvist | B75: 25 | C75: 5 | D75: 50 | E75: 26 | F75: =E75/D75 -> 0.52
A76: Arvid Fröjdman | B76: 20 | C76: 4 | D76: 40 | E76: 23 | F76: =E76/D76 -> 0.575
A77: Emil Sundberg | B77: 15 | C77: 3 | D77: 30 | E77: 20 | F77: =E77/D77 -> 0.66666667
A78: Samuel Siby Rubio | B78: 15 | C78: 3 | D78: 30 | E78: 11 | F78: =E78/D78 -> 0.36666667
A79: August Carlqvist | B79: 15 | C79: 3 | D79: 30 | E79: 14 | F79: =E79/D79 -> 0.46666667
A80: Isak Ehlers | B80: 15 | C80: 3 | D80: 30 | E80: 30 | F80: =E80/D80 -> 1
A81: Olof Oscarsson | B81: 10 | C81: 2 | D81: 20 | E81: 9 | F81: =E81/D81 -> 0.45
A82: Gusten Fagerberg | B82: 10 | C82: 2 | D82: 20 | E82: 13 | F82: =E82/D82 -> 0.65
A83: Tore Wallquist | B83: 10 | C83: 2 | D83: 20 | E83: 5 | F83: =E83/D83 -> 0.25
A84: Manne Agnvall | B84: 10 | C84: 2 | D84: 20 | E84: 4 | F84: =E84/D84 -> 0.2
... A96: Isak Berg | B96: 5 | C96: 1 | D96: 10 | E96: 5 | F96: =E96/D96 -> 0.5
A97: Nils Norrlin | F97: =E97/D97 -> #DIV/0!
A98: Willbur Staaf | F98: =E98/D98 -> #DIV/0!
A99: Pojkar 12-13 | B99: 510 | C99: 52 | D99: 745 | E99: 416 | F99: =E99/D99 -> 0.55838926
A100: Erik Vidunger | B100: 78 | C100: 6 | D100: 85 | E100: 63 | F100: =E100/D100 -> 0.74117647
A101: Erik Bergh | B101: 72 | C101: 6 | D101: 85 | E101: 55 | F101: =E101/D101 -> 0.64705882
A102: Sam Boberg | B102: 51 | C102: 5 | D102: 70 | E102: 39 | F102: =E102/D102 -> 0.55714286
A103: Felix Hamrin | B103: 44 | C103: 5 | D103: 70 | E103: 36 | F103: =E103/D103 -> 0.51428571
A104: Daniel Nilsson | B104: 34 | C104: 3 | D104: 40 | E104: 26 | F104: =E104/D104 -> 0.65
A105: Thrulls Staaf | B105: 30 | C105: 2 | D105: 30 | E105: 24 | F105: =E105/D105 -> 0.8
A106: Gustav Frick Gräslund | B106: 28 | C106: 2 | D106: 30 | E106: 25 | F106: =E106/D106 -> 0.83333333
A107: Emil Lundqvist | B107: 26 | C107: 3 | D107: 45 | E107: 23 | F107: =E107/D107 -> 0.51111111
A108: Assar Sand | B108: 19 | C108: 2 | D108: 25 | E108: 7 | F108: =E108/D108 -> 0.28
A109: Theodor Hörnberg | B109: 15 | C109: 3 | D109: 45 | E109: 18 | F109: =E109/D109 -> 0.4
A110: Philip Norberg | B110: 13 | C110: 1 | D110: 10 | E110: 6 | F110: =E110/D110 -> 0.6
... A124: Noa Nordgren | B124: 3 | C124: 1 | D124: 15 | E124: 1 | F124: =E124/D124 -> 0.066666667
A125: Hugo Anell | F125: =E125/D125 -> #DIV/0!
A126: Pojkar 14-15 | B126: 525 | C126: 54 | D126: 755 | E126: 347 | F126: =E126/D126 -> 0.45960265
A127: Marcus Nilsson | B127: 86 | C127: 6 | D127: 85 | E127: 48 | F127: =E127/D127 -> 0.56470588
A128: Leo Isaksson Eggimann | B128: 71 | C128: 6 | D128: 85 | E128: 42 | F128: =E128/D128 -> 0.49411765
A129: Liam Fjärrnäs | B129: 64 | C129: 6 | D129: 85 | E129: 46 | F129: =E129/D129 -> 0.54117647
A130: Harry Skoog | B130: 58 | C130: 6 | D130: 85 | E130: 47 | F130: =E130/D130 -> 0.55294118
A131: Alex Boberg | B131: 53 | C131: 5 | D131: 70 | E131: 43 | F131: =E131/D131 -> 0.61428571
A132: Hugo Grändemark | B132: 43 | C132: 5 | D132: 70 | E132: 23 | F132: =E132/D132 -> 0.32857143
A133: Felix Ehlers | B133: 30 | C133: 2 | D133: 30 | E133: 18 | F133: =E133/D133 -> 0.6
A134: Sixten Sand | B134: 23 | C134: 2 | D134: 25 | E134: 7 | F134: =E134/D134 -> 0.28
A135: Simon Sandell | B135: 22 | C135: 3 | D135: 45 | E135: 13 | F135: =E135/D135 -> 0.28888889
A136: Oliver Qvist | B136: 17 | C136: 3 | D136: 40 | E136: 19 | F136: =E136/D136 -> 0.475
A137: Leo Härnman | B137: 11 | C137: 2 | D137: 25 | E137: 15 | F137: =E137/D137 -> 0.6
... A145: Ville Johansson | B145: 4 | C145: 1 | D145: 15 | E145: 1 | F145: =E145/D145 -> 0.066666667
A146: Malte Strömqvist | F146: =E146/D146 -> #DIV/0!
A147: Olle Oskarsson | F147: =E147/D147 -> #DIV/0!
A148: (blank) | B148: 0 | C148: 21 | E148: 0 | F148: =E148/D148 -> #DIV/0!
A149: (blank) | B149: 0 | C149: 21 | E149: 0 | F149: =E149/D149 -> #DIV/0!
A150: Öppen klass/nybörjare | B150: 265 | C150: 53 | D150: 510 | E150: 301 | F150: =E150/D150 -> 0.59019608
A151: Milo Qvist | B151: 25 | C151: 5 | D151: 40 | E151: 34 | F151: =E151/D151 -> 0.85
A152: Agnes Boberg | B152: 25 | C152: 5 | D152: 50 | E152: 31 | F152: =E152/D152 -> 0.62
A153: Filip Ehlers | B153: 15 | C153: 3 | D153: 30 | E153: 20 | F153: =E153/D153 -> 0.66666667
A154: Nora Wallquist | B154: 10 | C154: 2 | D154: 20 | E154: 8 | F154: =E154/D154 -> 0.4
...

Sheet Sammanställning klubb
A1: Poängställning Klubbkampen | D1: Medaljligan | J1: Träffprocent | R1: Medaljligan
R3: Klass | S3: (Multiple Items)
A4: Klass | B4: (All) | D4: Klass | E4: (All) | J4: Klass | K4: (Multiple Items) | R4: Klubb | S4: (Multiple Items)
A6: Row Labels | B6: Sum of P2 | D6: Antal Medaljplaceringar | E6: Filter | J6: Row Labels | K6: Antal Skott | L6: Antal Träff | M6: Procent | R6: Row Labels | S6: Count of Namn
A7: Föreningen Nässjö Ski | B7: 818 | D7: Row Labels | E7: Guld | F7: Silver | G7: Brons | H7: Medajer | J7: ASK Växjö | K7: 65 | L7: 24 | M7: =L7/K7 -> 0.36923077 | R7: Borås Biathlon Race 7/3 | S7: 54
A8: Borås Skidlöparklubb | B8: 628 | D8: Borås Skidlöparklubb | E8: 19 | F8: 13 | G8: 11 | H8: 43 | J8: Borås Skidlöparklubb | K8: 850 | L8: 406 | M8: =L8/K8 -> 0.47764706 | R8: Kimstadträffen 8/3 | S8: 89
A9: Kimstad Gymnastik o IF | B9: 399 | D9: Föreningen Nässjö Ski | E9: 9 | F9: 11 | G9: 14 | H9: 34 | J9: Boxholm-Ekeby Skidklubb | K9: 35 | L9: 10 | M9: =L9/K9 -> 0.28571429 | R9: Landehof 1/2 Kortdistans | S9: 49
A10: OK Landehof | B10: 321 | D10: OK Landehof | E10: 12 | F10: 5 | G10: 3 | H10: 20 | J10: Föreningen Nässjö Ski | K10: 1200 | L10: 515 | M10: =L10/K10 -> 0.42916667 | R10: Nässjö 18/1 Kortdistans | S10: 80
A11: Trollhättans Skid o Orienteringsklubb | B11: 320 | D11: Trollhättans Skid o Orienteringsklubb | E11: 5 | F11: 5 | G11: 5 | H11: 15 | J11: IF Hallby Skid o Orienteringsklubb | K11: 65 | L11: 25 | M11: =L11/K11 -> 0.38461538 | R11: Trollhättan 31/1 Sprint | S11: 53
A12: Sya Skidklubb | B12: 189 | D12: Kimstad Gymnastik o IF | E12: 6 | F12: 7 | G12: 2 | H12: 15 | J12: IF Ski Team Skåne | K12: 20 | L12: 12 | M12: =L12/K12 -> 0.6 | R12: Ätran 7/2 Kortdistans | S12: 26
A13: Svaide Roma Skid- och Orienteringsklubb | B13: 130 | D13: Sya Skidklubb | E13: 2 | F13: 5 | G13: 1 | H13: 8 | J13: Kimstad Gymnastik o IF | K13: 610 | L13: 266 | M13: =L13/K13 -> 0.43606557 | R13: Medajer | S13: 351
A14: Linköpings Skidklubb | B14: 115 | D14: Linköpings Skidklubb | E14: 3 | F14: 2 | G14: 1 | H14: 6 | J14: Landsbro IF Skidklubb | K14: 75 | L14: 22 | M14: =L14/K14 -> 0.29333333
A15: IF Hallby Skid o Orienteringsklubb | B15: 70 | D15: Vreta Skid o Motionsklubb | G15: 3 | H15: 3 | J15: Linköpings Skidklubb | K15: 185 | L15: 105 | M15: =L15/K15 -> 0.56756757
A16: Vreta Skid o Motionsklubb | B16: 63 | D16: Landsbro IF Skidklubb | F16: 3 | H16: 3 | J16: OK Landehof | K16: 390 | L16: 241 | M16: =L16/K16 -> 0.61794872
A17: Ulricehamns Idrottsförening | B17: 58 | D17: IF Hallby Skid o Orienteringsklubb | F17: 3 | H17: 3 | J17: Svaide Roma Skid- och Orienteringsklubb | K17: 235 | L17: 64 | M17: =L17/K17 -> 0.27234043
A18: Landsbro IF Skidklubb | B18: 47 | D18: Ulricehamns Idrottsförening | G18: 2 | H18: 2 | J18: Sya Skidklubb | K18: 225 | L18: 97 | M18: =L18/K18 -> 0.43111111
A19: Boxholm-Ekeby Skidklubb | B19: 44 | D19: Ätrans IF | G19: 2 | H19: 2 | J19: Trollhättans Skid o Orienteringsklubb | K19: 415 | L19: 145 | M19: =L19/K19 -> 0.34939759
A20: ASK Växjö | B20: 40 | D20: DEN | E20: 2 | H20: 2 | J20: Ulricehamns Idrottsförening | K20: 90 | L20: 27 | M20: =L20/K20 -> 0.3
A21: DEN | B21: 30 | D21: ASK Växjö | E21: 1 | H21: 1 | J21: Vreta Skid o Motionsklubb | K21: 80 | L21: 22 | M21: =L21/K21 -> 0.275
A22: Skidklubben Bore Torsby | B22: 18 | D22: Biathlon Östersund Idrottsförening | E22: 1 | H22: 1 | J22: Idrottsklubben Stern | M22: =L22/K22 -> #DIV/0!
A23: Ätrans IF | B23: 15 | D23: Svaide Roma Skid- och Orienteringsklubb | E23: 1 | H23: 1 | J23: Biathlon Östersund Idrottsförening | K23: 20 | L23: 9 | M23: =L23/K23 -> 0.45
A24: Biathlon Östersund Idrottsförening | B24: 15 | D24: IF Ski Team Skåne | E24: 1 | H24: 1 | J24: Ätrans IF | K24: 20 | L24: 4 | M24: =L24/K24 -> 0.2
A25: IF Ski Team Skåne | B25: 15 | D25: Boxholm-Ekeby Skidklubb | G25: 1 | H25: 1 | J25: Söderköpings Skidklubb | K25: 15 | L25: 7 | M25: =L25/K25 -> 0.46666667
A26: Idrottsklubben Stern | B26: 15 | D26: Medajer | E26: 62 | F26: 54 | G26: 45 | H26: 161 | J26: Garphyttans Idrottsförening | K26: 15 | L26: 7 | M26: =L26/K26 -> 0.46666667
A27: Söderköpings Skidklubb | B27: 9 | J27: Skidklubben Bore Torsby | K27: 30 | L27: 17 | M27: =L27/K27 -> 0.56666667
A28: Garphyttans Idrottsförening | B28: 6 | J28: DEN | K28: 40 | L28: 18 | M28: =L28/K28 -> 0.45
A29: (blank) | B29: 0 | J29: Grand Total | K29: 4680 | L29: 2043 | M29: =L29/K29 -> 0.43653846
A30: Grand Total | B30: 3365

Sheet Rådata
A1: Klass | B1: Tävling | C1: Skott | D1: Träff | E1: T% | F1: T1 | G1: T2 | H1: T3 | I1: T4 | J1: T5 | K1: Poäng | L1: P2 | M1: Plac | N1: Nr | O1: Namn | P1: Klubb | Q1: L | R1: S | S1: Åktid | T1: Tillägg | U1: Totaltid | V1: Diff | W1: Kommentar
A2: Pojkar 10-11 | B2: Nässjö 18/1 Kortdistans | C2: 10 | D2: =Table1[[#This Row],[Skott]]-SUM(Table1[[#This Row],[T1]:[T5]]) -> 2 | E2: =IFERROR(-(SUM(Table1[[#This Row],[T1]:[T5]])-Table1[[#This Row],[Skott]])/Table1[[#This Row],[Skott]],"") -> 0.2 | F2: =IFERROR(LEFT(Table1[[#This Row],[L]],1)*1,"") -> 3 | G2: =IFERROR(RIGHT(LEFT(Table1[[#This Row],[L]],2),1)*1,"") -> 5 | H2: =IFERROR(IF(Table1[[#This Row],[Skott]]=10,"",RIGHT(Table1[[#This Row],[L]],1))*1,"") | I2: =IFERROR(LEFT(Table1[[#This Row],[S]],1)*1,"") | J2: =IFERROR(RIGHT(LEFT(Table1[[#This Row],[S]],2),1)*1,"") | K2: =IF(Table1[[#This Row],[Plac]]="",0,IFERROR(VLOOKUP(Table1[[#This Row],[Plac]],Referens!$B$16:$C$28,2,0),1)) -> 8 | L2: 5 | M2: 7 | N2: 6 | O2: Tore Wallquist | P2: ASK Växjö | Q2: 35 | S2: 0.39791667 | T2: 0.16666667 | U2: 0.56458333 | V2: 0.24652778
A3: Pojkar 10-11 | B3: Nässjö 18/1 Kortdistans | F3: =IFERROR(LEFT(Table1[[#This Row],[L]],1)*1,"") | G3: =IFERROR(RIGHT(LEFT(Table1[[#This Row],[L]],2),1)*1,"") | H3: =IFERROR(IF(Table1[[#This Row],[Skott]]=10,"",RIGHT(Table1[[#This Row],[L]],1))*1,"") | I3: =IFERROR(LEFT(Table1[[#This Row],[S]],1)*1,"") | J3: =IFERROR(RIGHT(LEFT(Table1[[#This Row],[S]],2),1)*1,"") | N3: 8 | O3: Nils Norrlin | P3: ASK Växjö | S3: - | T3: - | U3: - | W3: DNS
A4: Pojkar 12-13 | B4: Nässjö 18/1 Kortdistans | C4: 15 | D4: =Table1[[#This Row],[Skott]]-SUM(Table1[[#This Row],[T1]:[T5]]) -> 9 | E4: =IFERROR(-(SUM(Table1[[#This Row],[T1]:[T5]])-Table1[[#This Row],[Skott]])/Table1[[#This Row],[Skott]],"") -> 0.6 | F4: =IFERROR(LEFT(Table1[[#This Row],[L]],1)*1,"") -> 3 | G4: =IFERROR(RIGHT(LEFT(Table1[[#This Row],[L]],2),1)*1,"") -> 2 | H4: =IFERROR(IF(Table1[[#This Row],[Skott]]=10,"",RIGHT(Table1[[#This Row],[L]],1))*1,"") -> 1 | I4: =IFERROR(LEFT(Table1[[#This Row],[S]],1)*1,"") | J4: =IFERROR(RIGHT(LEFT(Table1[[#This Row],[S]],2),1)*1,"") | K4: =IF(Table1[[#This Row],[Plac]]="",0,IFERROR(VLOOKUP(Table1[[#This Row],[Plac]],Referens!$B$16:$C$28,2,0),1)) -> 7 | L4: =Table1[[#This Row],[Poäng]] -> 7 | M4: 8 | N4: 33 | O4: Arvid Palmblad | P4: ASK Växjö | Q4: 321 | S4: 0.69027778 | T4: 0.125 | U4: 0.81527778 | V4: 0.22083333
A5: Pojkar 12-13 | B5: Nässjö 18/1 Kortdistans | C5: 15 | D5: =Table1[[#This Row],[Skott]]-SUM(Table1[[#This Row],[T1]:[T5]]) -> 4 | E5: =IFERROR(-(SUM(Table1[[#This Row],[T1]:[T5]])-Table1[[#This Row],[Skott]])/Table1[[#This Row],[Skott]],"") -> 0.26666667 | F5: =IFERROR(LEFT(Table1[[#This Row],[L]],1)*1,"") -> 4 | G5: =IFERROR(RIGHT(LEFT(Table1[[#This Row],[L]],2),1)*1,"") -> 4 | H5: =IFERROR(IF(Table1[[#This Row],[Skott]]=10,"",RIGHT(Table1[[#This Row],[L]],1))*1,"") -> 3 | I5: =IFERROR(LEFT(Table1[[#This Row],[S]],1)*1,"") | J5: =IFERROR(RIGHT(LEFT(Table1[[#This Row],[S]],2),1)*1,"") | K5: =IF(Table1[[#This Row],[Plac]]="",0,IFERROR(VLOOKUP(Table1[[#This Row],[Plac]],Referens!$B$16:$C$28,2,0),1)) -> 4 | L5: =Table1[[#This Row],[Poäng]] -> 4 | M5: 11 | N5: 28 | O5: John Palmblad | P5: ASK Växjö | Q5: 443 | S5: 0.65763889 | T5: 0.22916667 | U5: 0.88680556 | V5: 0.29236111
A6: Öppen klass/nybörjare | B6: Nässjö 18/1 Kortdistans | C6: 10 | D6: =Table1[[#This Row],[Skott]]-SUM(Table1[[#This Row],[T1]:[T5]]) -> 2 | E6: =IFERROR(-(SUM(Table1[[#This Row],[T1]:[T5]])-Table1[[#This Row],[Skott]])/Table1[[#This Row],[Skott]],"") -> 0.2 | F6: =IFERROR(LEFT(Table1[[#This Row],[L]],1)*1,"") -> 4 | G6: =IFERROR(RIGHT(LEFT(Table1[[#This Row],[L]],2),1)*1,"") -> 4 | H6: =IFERROR(IF(Table1[[#This Row],[Skott]]=10,"",RIGHT(Table1[[#This Row],[L]],1))*1,"") | I6: =IFERROR(LEFT(Table1[[#This Row],[S]],1)*1,"") | J6: =IFERROR(RIGHT(LEFT(Table1[[#This Row],[S]],2),1)*1,"") | K6: =IF(Table1[[#This Row],[Plac]]="",0,IFERROR(VLOOKUP(Table1[[#This Row],[Plac]],Referens!$B$16:$C$28,2,0),1)) -> 0 | L6: 5 | N6: 40 | O6: Nora Wallquist | P6: ASK Växjö | Q6: 44 | S6: 0.32152778 | T6: - | U6: 0.32152778 | V6: 0.1
A7: Flickor 12-13 | B7: Nässjö 18/1 Kortdistans | C7: 15 | D7: =Table1[[#This Row],[Skott]]-SUM(Table1[[#This Row],[T1]:[T5]]) -> 6 | E7: =IFERROR(-(SUM(Table1[[#This Row],[T1]:[T5]])-Table1[[#This Row],[Skott]])/Table1[[#This Row],[Skott]],"") -> 0.4 | F7: =IFERROR(LEFT(Table1[[#This Row],[L]],1)*1,"") -> 2 | G7: =IFERROR(RIGHT(LEFT(Table1[[#This Row],[L]],2),1)*1,"") -> 4 | H7: =IFERROR(IF(Table1[[#This Row],[Skott]]=10,"",RIGHT(Table1[[#This Row],[L]],1))*1,"") -> 3 | I7: =IFERROR(LEFT(Table1[[#This Row],[S]],1)*1,"") | J7: =IFERROR(RIGHT(LEFT(Table1[[#This Row],[S]],2),1)*1,"") | K7: =IF(Table1[[#This Row],[Plac]]="",0,IFERROR(VLOOKUP(Table1[[#This Row],[Plac]],Referens!$B$16:$C$28,2,0),1)) -> 4 | L7: =Table1[[#This Row],[Poäng]] -> 4 | M7: 11 | N7: 53 | O7: Astrid Karlsson | P7: ASK Växjö | Q7: 243 | S7: 0.72222222 | T7: 0.1875 | U7: 0.90972222 | V7: 0.25972222
A8: Pojkar 10-11 | B8: Ätran 7/2 Kortdistans | C8: 10 | D8: =Table1[[#This Row],[Skott]]-SUM(Table1[[#This Row],[T1]:[T5]]) -> 3 | E8: =IFERROR(-(SUM(Table1[[#This Row],[T1]:[T5]])-Table1[[#This Row],[Skott]])/Table1[[#This Row],[Skott]],"") -> 0.3 | F8: =IFERROR(LEFT(Table1[[#This Row],[L]],1)*1,"") -> 5 | G8: =IFERROR(RIGHT(LEFT(Table1[[#This Row],[L]],2),1)*1,"") -> 2 | I8: =IFERROR(LEFT(Table1[[#This Row],[S]],1)*1,"") | J8: =IFERROR(RIGHT(LEFT(Table1[[#This Row],[S]],2),1)*1,"") | K8: =IF(Table1[[#This Row],[Plac]]="",0,IFERROR(VLOOKUP(Table1[[#This Row],[Plac]],Referens!$B$16:$C$28,2,0),1)) -> 15 | L8: 5 | M8: 1 | N8: 12 | O8: Tore Wallquist | P8: ASK Växjö | Q8: 52 | S8: 0.62222222 | T8: 0.14583333 | U8: 0.76805556 | V8: -
A9: Öppen klass/nybörjare | B9: Ätran 7/2 Kortdistans | C9: 10 | D9: =Table1[[#This Row],[Skott]]-SUM(Table1[[#This Row],[T1]:[T5]]) -> 6 | E9: =IFERROR(-(SUM(Table1[[#This Row],[T1]:[T5]])-Table1[[#This Row],[Skott]])/Table1[[#This Row],[Skott]],"") -> 0.6 | F9: =IFERROR(LEFT(Table1[[#This Row],[L]],1)*1,"") -> 0 | G9: =IFERROR(RIGHT(LEFT(Table1[[#This Row],[L]],2),1)*1,"") -> 4 | H9: =IFERROR(IF(Table1[[#This Row],[Skott]]=10,"",RIGHT(Table1[[#This Row],[L]],1))*1,"") | I9: =IFERROR(LEFT(Table1[[#This Row],[S]],1)*1,"") | J9: =IFERROR(RIGHT(LEFT(Table1[[#This Row],[S]],2),1)*1,"") | L9: 5 | N9: 53 | O9: Nora Wallquist | P9: ASK Växjö | Q9: 04 | S9: 0.55694444 | T9: 0.083333333 | U9: 0.64027778 | V9: 0.19444444
A10: Öppen klass/nybörjare | B10: Ätran 7/2 Kortdistans | C10: 20 | D10: =Table1[[#This Row],[Skott]]-SUM(Table1[[#This Row],[T1]:[T5]]) -> 5 | E10: =IFERROR(-(SUM(Table1[[#This Row],[T1]:[T5]])-Table1[[#This Row],[Skott]])/Table1[[#This Row],[Skott]],"") -> 0.25 | F10: =IFERROR(LEFT(Table1[[#This Row],[L]],1)*1,"") -> 3 | G10: =IFERROR(RIGHT(LEFT(Table1[[#This Row],[L]],2),1)*1,"") -> 5 | I10: =IFERROR(LEFT(Table1[[#This Row],[S]],1)*1,"") -> 3 | J10: =IFERROR(RIGHT(LEFT(Table1[[#This Row],[S]],2),1)*1,"") -> 4 | L10: 5 | N10: 70 | O10: Elin Wallquist | P10: ASK Växjö | Q10: 35 | R10: 34 | S10: 1.0993056 | T10: 0.3125 | U10: 1.4118056 | V10: 0.175
A11: Damer senior_motion | B11: Landehof 1/2 Kortdistans | C11: 20 | D11: =Table1[[#This Row],[Skott]]-SUM(Table1[[#This Row],[T1]:[T5]]) -> 9 | E11: =IFERROR(-(SUM(Table1[[#This Row],[T1]:[T5]])-Table1[[#This Row],[Skott]])/Table1[[#This Row],[Skott]],"") -> 0.45 | F11: =IFERROR(LEFT(Table1[[#This Row],[L]],1)*1,"") -> 3 | G11: =IFERROR(RIGHT(LEFT(Table1[[#This Row],[L]],2),1)*1,"") -> 4 | I11: =IFERROR(LEFT(Table1[[#This Row],[S]],1)*1,"") -> 1 | J11: =IFERROR(RIGHT(LEFT(Table1[[#This Row],[S]],2),1)*1,"") -> 3 | K11: =IF(Table1[[#This Row],[Plac]]="",0,IFERROR(VLOOKUP(Table1[[#This Row],[Plac]],Referens!$B$16:$C$28,2,0),1)) -> 15 | L11: =Table1[[#This Row],[Poäng]] -> 15 | M11: 1 | N11: 69 | O11: Olivia Grönkvist | P11: Biathlon Östersund Idrottsförening | Q11: 34 | R11: 13 | S11: 0.99027778 | T11: 0.22916667 | U11: 1.2194444 | V11: -
A12: Pojkar 10-11 | B12: Nässjö 18/1 Kortdistans | C12: 10 | D12: =Table1[[#This Row],[Skott]]-SUM(Table1[[#This Row],[T1]:[T5]]) -> 4 | E12: =IFERROR(-(SUM(Table1[[#This Row],[T1]:[T5]])-Table1[[#This Row],[Skott]])/Table1[[#This Row],[Skott]],"") -> 0.4 | F12: =IFERROR(LEFT(Table1[[#This Row],[L]],1)*1,"") -> 3 | G12: =IFERROR(RIGHT(LEFT(Table1[[#This Row],[L]],2),1)*1,"") -> 3 | H12: =IFERROR(IF(Table1[[#This Row],[Skott]]=10,"",RIGHT(Table1[[#This Row],[L]],1))*1,"") | I12: =IFERROR(LEFT(Table1[[#This Row],[S]],1)*1,"") | J12: =IFERROR(RIGHT(LEFT(Table1[[#This Row],[S]],2),1)*1,"") | K12: =IF(Table1[[#This Row],[Plac]]="",0,IFERROR(VLOOKUP(Table1[[#This Row],[Plac]],Referens!$B$16:$C$28,2,0),1)) -> 11 | L12: 5 | M12: 4 | N12: 11 | O12: Karl Bergh | P12: Borås Skidlöparklubb | Q12: 33 | S12: 0.36111111 | T12: 0.125 | U12: 0.48611111 | V12: 0.16805556 | W12: Korrigering efter fel på mål
A13: Flickor 10-11 | B13: Nässjö 18/1 Kortdistans | C13: 10 | D13: =Table1[[#This Row],[Skott]]-SUM(Table1[[#This Row],[T1]:[T5]]) -> 5 | E13: =IFERROR(-(SUM(Table1[[#This Row],[T1]:[T5]])-Table1[[#This Row],[Skott]])/Table1[[#This Row],[Skott]],"") -> 0.5 | F13: =IFERROR(LEFT(Table1[[#This Row],[L]],1)*1,"") -> 3 | G13: =IFERROR(RIGHT(LEFT(Table1[[#This Row],[L]],2),1)*1,"") -> 2 | H13: =IFERROR(IF(Table1[[#This Row],[Skott]]=10,"",RIGHT(Table1[[#This Row],[L]],1))*1,"") | I13: =IFERROR(LEFT(Table1[[#This Row],[S]],1)*1,"") | J13: =IFERROR(RIGHT(LEFT(Table1[[#This Row],[S]],2),1)*1,"") | K13: =IF(Table1[[#This Row],[Plac]]="",0,IFERROR(VLOOKUP(Table1[[#This Row],[Plac]],Referens!$B$16:$C$28,2,0),1)) -> 12 | L13: 5 | M13: 3 | N13: 17 | O13: Ines Hall | P13: Borås Skidlöparklubb | Q13: 32 | S13: 0.37083333 | T13: 0.10416667 | U13: 0.475 | V13: 0.090972222
A14: Pojkar 12-13 | B14: Nässjö 18/1 Kortdistans | C14: 15 | D14: =Table1[[#This Row],[Skott]]-SUM(Table1[[#This Row],[T1]:[T5]]) -> 12 | E14: =IFERROR(-(SUM(Table1[[#This Row],[T1]:[T5]])-Table1[[#This Row],[Skott]])/Table1[[#This Row],[Skott]],"") -> 0.8 | F14: =IFERROR(LEFT(Table1[[#This Row],[L]],1)*1,"") -> 1 | G14: =IFERROR(RIGHT(LEFT(Table1[[#This Row],[L]],2),1)*1,"") -> 1 | H14: =IFERROR(IF(Table1[[#This Row],[Skott]]=10,"",RIGHT(Table1[[#This Row],[L]],1))*1,"") -> 1 | I14: =IFERROR(LEFT(Table1[[#This Row],[S]],1)*1,"") | J14: =IFERROR(RIGHT(LEFT(Table1[[#This Row],[S]],2),1)*1,"") | K14: =IF(Table1[[#This Row],[Plac]]="",0,IFERROR(VLOOKUP(Table1[[#This Row],[Plac]],Referens!$B$16:$C$28,2,0),1)) -> 15 | L14: =Table1[[#This Row],[Poäng]] -> 15 | M14: 1 | N14: 29 | O14: Gustav Frick Gräslund | P14: Borås Skidlöparklubb | Q14: 111 | S14: 0.53194444 | T14: 0.0625 | U14: 0.59444444 | V14: -
A15: Pojkar 12-13 | B15: Nässjö 18/1 Kortdistans | C15: 15 | D15: =Table1[[#This Row],[Skott]]-SUM(Table1[[#This Row],[T1]:[T5]]) -> 10 | E15: =IFERROR(-(SUM(Table1[[#This Row],[T1]:[T5]])-Table1[[#This Row],[Skott]])/Table1[[#This Row],[Skott]],"") -> 0.66666667 | F15: =IFERROR(LEFT(Table1[[#This Row],[L]],1)*1,"") -> 1 | G15: =IFERROR(RIGHT(LEFT(Table1[[#This Row],[L]],2),1)*1,"") -> 2 | H15: =IFERROR(IF(Table1[[#This Row],[Skott]]=10,"",RIGHT(Table1[[#This Row],[L]],1))*1,"") -> 2 | I15: =IFERROR(LEFT(Table1[[#This Row],[S]],1)*1,"") | J15: =IFERROR(RIGHT(LEFT(Table1[[#This Row],[S]],2),1)*1,"") | K15: =IF(Table1[[#This Row],[Plac]]="",0,IFERROR(VLOOKUP(Table1[[#This Row],[Plac]],Referens!$B$16:$C$28,2,0),1)) -> 12 | L15: =Table1[[#This Row],[Poäng]] -> 12 | M15: 3 | N15: 38 | O15: Erik Vidunger | P15: Borås Skidlöparklubb | Q15: 122 | S15: 0.55277778 | T15: 0.10416667 | U15: 0.65694444 | V15: 0.0625
A16: Pojkar 12-13 | B16: Nässjö 18/1 Kortdistans | C16: 15 | D16: =Table1[[#This Row],[Skott]]-SUM(Table1[[#This Row],[T1]:[T5]]) -> 9 | E16: =IFERROR(-(SUM(Table1[[#This Row],[T1]:[T5]])-Table1[[#This Row],[Skott]])/Table1[[#This Row],[Skott]],"") -> 0.6 | F16: =IFERROR(LEFT(Table1[[#This Row],[L]],1)*1,"") -> 3 | G16: =IFERROR(RIGHT(LEFT(Table1[[#This Row],[L]],2),1)*1,"") -> 1 | H16: =IFERROR(IF(Table1[[#This Row],[Skott]]=10,"",RIGHT(Table1[[#This Row],[L]],1))*1,"") -> 2 | I16: =IFERROR(LEFT(Table1[[#This Row],[S]],1)*1,"") | J16: =IFERROR(RIGHT(LEFT(Table1[[#This Row],[S]],2),1)*1,"") | K16: =IF(Table1[[#This Row],[Plac]]="",0,IFERROR(VLOOKUP(Table1[[#This Row],[Plac]],Referens!$B$16:$C$28,2,0),1)) -> 11 | L16: =Table1[[#This Row],[Poäng]] -> 11 | M16: 4 | N16: 27 | O16: Erik Bergh | P16: Borås Skidlöparklubb | Q16: 312 | S16: 0.55833333 | T16: 0.125 | U16: 0.68333333 | V16: 0.088888889
A17: Flickor 12-13 | B17: Nässjö 18/1 Kortdistans | C17: 15 | D17: =Table1[[#This Row],[Skott]]-SUM(Table1[[#This Row],[T1]:[T5]]) -> 8 | E17: =IFERROR(-(SUM(Table1[[#This Row],[T1]:[T5]])-Table1[[#This Row],[Skott]])/Table1[[#This Row],[Skott]],"") -> 0.53333333 | F17: =IFERROR(LEFT(Table1[[#This Row],[L]],1)*1,"") -> 4 | G17: =IFERROR(RIGHT(LEFT(Table1[[#This Row],[L]],2),1)*1,"") -> 3 | H17: =IFERROR(IF(Table1[[#This Row],[Skott]]=10,"",RIGHT(Table1[[#This Row],[L]],1))*1,"") -> 0 | I17: =IFERROR(LEFT(Table1[[#This Row],[S]],1)*1,"") | J17: =IFERROR(RIGHT(LEFT(Table1[[#This Row],[S]],2),1)*1,"") | K17: =IF(Table1[[#This Row],[Plac]]="",0,IFERROR(VLOOKUP(Table1[[#This Row],[Plac]],Referens!$B$16:$C$28,2,0),1)) -> 15 | L17: =Table1[[#This Row],[Poäng]] -> 15 | M17: 1 | N17: 47 | O17: Ester Hall | P17: Borås Skidlöparklubb | Q17: 430 | S17: 0.50416667 | T17: 0.14583333 | U17: 0.65 | V17: -
A18: Flickor 12-13 | B18: Nässjö 18/1 Kortdistans | C18: 15 | D18: =Table1[[#This Row],[Skott]]-SUM(Table1[[#This Row],[T1]:[T5]]) -> 8 | E18: =IFERROR(-(SUM(Table1[[#This Row],[T1]:[T5]])-Table1[[#This Row],[Skott]])/Table1[[#This Row],[Skott]],"") -> 0.53333333 | F18: =IFERROR(LEFT(Table1[[#This Row],[L]],1)*1,"") -> 1 | G18: =IFERROR(RIGHT(LEFT(Table1[[#This Row],[L]],2),1)*1,"") -> 5 | H18: =IFERROR(IF(Table1[[#This Row],[Skott]]=10,"",RIGHT(Table1[[#This Row],[L]],1))*1,"") -> 1 | I18: =IFERROR(LEFT(Table1[[#This Row],[S]],1)*1,"") | J18: =IFERROR(RIGHT(LEFT(Table1[[#This Row],[S]],2),1)*1,"") | K18: =IF(Table1[[#This Row],[Plac]]="",0,IFERROR(VLOOKUP(Table1[[#This Row],[Plac]],Referens!$B$16:$C$28,2,0),1)) -> 13 | L18: =Table1[[#This Row],[Poäng]] -> 13 | M18: 2 | N18: 46 | O18: Karin Frick Gräslund | P18: Borås Skidlöparklubb | Q18: 151 | S18: 0.53958333 | T18: 0.14583333 | U18: 0.68541667 | V18: 0.035416667
A19: Pojkar 14-15 | B19: Nässjö 18/1 Kortdistans | C19: 15 | D19: =Table1[[#This Row],[Skott]]-SUM(Table1[[#This Row],[T1]:[T5]]) -> 10 | E19: =IFERROR(-(SUM(Table1[[#This Row],[T1]:[T5]])-Table1[[#This Row],[Skott]])/Table1[[#This Row],[Skott]],"") -> 0.66666667 | F19: =IFERROR(LEFT(Table1[[#This Row],[L]],1)*1,"") -> 2 | G19: =IFERROR(RIGHT(LEFT(Table1[[#This Row],[L]],2),1)*1,"") -> 3 | H19: =IFERROR(IF(Table1[[#This Row],[Skott]]=10,"",RIGHT(Table1[[#This Row],[L]],1))*1,"") -> 0 | I19: =IFERROR(LEFT(Table1[[#This Row],[S]],1)*1,"") | J19: =IFERROR(RIGHT(LEFT(Table1[[#This Row],[S]],2),1)*1,"") | K19: =IF(Table1[[#This Row],[Plac]]="",0,IFERROR(VLOOKUP(Table1[[#This Row],[Plac]],Referens!$B$16:$C$28,2,0),1)) -> 10 | L19: =Table1[[#This Row],[Poäng]] -> 10 | M19: 5 | N19: 76 | O19: Harry Skoog | P19: Borås Skidlöparklubb | Q19: 230 | S19: 0.89722222 | T19: 0.10416667 | U19: 1.0013889 | V19: 0.18819444
A20: Herrar senior_motion | B20: Nässjö 18/1 Kortdistans | C20: 20 | D20: =Table1[[#This Row],[Skott]]-SUM(Table1[[#This Row],[T1]:[T5]]) -> 7 | E20: =IFERROR(-(SUM(Table1[[#This Row],[T1]:[T5]])-Table1[[#This Row],[Skott]])/Table1[[#This Row],[Skott]],"") -> 0.35 | F20: =IFERROR(LEFT(Table1[[#This Row],[L]],1)*1,"") -> 4 | G20: =IFERROR(RIGHT(LEFT(Table1[[#This Row],[L]],2),1)*1,"") -> 4 | I20: =IFERROR(LEFT(Table1[[#This Row],[S]],1)*1,"") -> 3 | J20: =IFERROR(RIGHT(LEFT(Table1[[#This Row],[S]],2),1)*1,"") -> 2 | K20: =IF(Table1[[#This Row],[Plac]]="",0,IFERROR(VLOOKUP(Table1[[#This Row],[Plac]],Referens!$B$16:$C$28,2,0),1)) -> 15 | L20: =Table1[[#This Row],[Poäng]] -> 15 | M20: 1 | N20: 101 | O20: Christoffer Skoog | P20: Borås Skidlöparklubb | Q20: 44 | R20: 32 | S20: 1.0090278 | T20: 0.40625 | U20: 1.4152778 | V20: -
A21: Herrar senior_motion | B21: Nässjö 18/1 Kortdistans | C21: 20 | D21: =Table1[[#This Row],[Skott]]-SUM(Table1[[#This Row],[T1]:[T5]]) -> 4 | E21: =IFERROR(-(SUM(Table1[[#This Row],[T1]:[T5]])-Table1[[#This Row],[Skott]])/Table1[[#This Row],[Skott]],"") -> 0.2 | F21: =IFERROR(LEFT(Table1[[#This Row],[L]],1)*1,"") -> 4 | G21: =IFERROR(RIGHT(LEFT(Table1[[#This Row],[L]],2),1)*1,"") -> 5 | I21: =IFERROR(LEFT(Table1[[#This Row],[S]],1)*1,"") -> 4 | J21: =IFERROR(RIGHT(LEFT(Table1[[#This Row],[S]],2),1)*1,"") -> 3 | K21: =IF(Table1[[#This Row],[Plac]]="",0,IFERROR(VLOOKUP(Table1[[#This Row],[Plac]],Referens!$B$16:$C$28,2,0),1)) -> 13 | L21: =Table1[[#This Row],[Poäng]] -> 13 | M21: 2 | N21: 100 | O21: Linus Hall | P21: Borås Skidlöparklubb | Q21: 45 | R21: 43 | S21: 0.97569444 | T21: 0.5 | U21: 1.4756944 | V21: 0.060416667
A22: Damer senior_motion | B22: Nässjö 18/1 Kortdistans | C22: 20 | D22: =Table1[[#This Row],[Skott]]-SUM(Table1[[#This Row],[T1]:[T5]]) -> 5 | E22: =IFERROR(-(SUM(Table1[[#This Row],[T1]:[T5]])-Table1[[#This Row],[Skott]])/Table1[[#This Row],[Skott]],"") -> 0.25 | F22: =IFERROR(LEFT(Table1[[#This Row],[L]],1)*1,"") -> 5 | G22: =IFERROR(RIGHT(LEFT(Table1[[#This Row],[L]],2),1)*1,"") -> 3 | I22: =IFERROR(LEFT(Table1[[#This Row],[S]],1)*1,"") -> 3 | J22: =IFERROR(RIGHT(LEFT(Table1[[#This Row],[S]],2),1)*1,"") -> 4 | K22: =IF(Table1[[#This Row],[Plac]]="",0,IFERROR(VLOOKUP(Table1[[#This Row],[Plac]],Referens!$B$16:$C$28,2,0),1)) -> 15 | L22: =Table1[[#This Row],[Poäng]] -> 15 | M22: 1 | N22: 106 | O22: Sofia Frick | P22: Borås Skidlöparklubb | Q22: 53 | R22: 34 | S22: 0.98888889 | T22: 0.46875 | U22: 1.4576389 | V22: -
A23: Damer senior_motion | B23: Nässjö 18/1 Kortdistans | C23: 20 | D23: =Table1[[#This Row],[Skott]]-SUM(Table1[[#This Row],[T1]:[T5]]) -> 5 | E23: =IFERROR(-(SUM(Table1[[#This Row],[T1]:[T5]])-Table1[[#This Row],[Skott]])/Table1[[#This Row],[Skott]],"") -> 0.25 | F23: =IFERROR(LEFT(Table1[[#This Row],[L]],1)*1,"") -> 4 | G23: =IFERROR(RIGHT(LEFT(Table1[[#This Row],[L]],2),1)*1,"") -> 3 | I23: =IFERROR(LEFT(Table1[[#This Row],[S]],1)*1,"") -> 4 | J23: =IFERROR(RIGHT(LEFT(Table1[[#This Row],[S]],2),1)*1,"") -> 4 | K23: =IF(Table1[[#This Row],[Plac]]="",0,IFERROR(VLOOKUP(Table1[[#This Row],[Plac]],Referens!$B$16:$C$28,2,0),1)) -> 12 | L23: =Table1[[#This Row],[Poäng]] -> 12 | M23: 3 | N23: 105 | O23: Kristin Vidunger | P23: Borås Skidlöparklubb | Q23: 43 | R23: 44 | S23: 1.2138889 | T23: 0.46875 | U23: 1.6826389 | V23: 0.225
A24: Pojkar 10-11 | B24: Trollhättan 31/1 Sprint | C24: 10 | D24: =Table1[[#This Row],[Skott]]-SUM(Table1[[#This Row],[T1]:[T5]]) -> 2 | E24: =IFERROR(-(SUM(Table1[[#This Row],[T1]:[T5]])-Table1[[#This Row],[Skott]])/Table1[[#This Row],[Skott]],"") -> 0.2 | F24: =IFERROR(LEFT(Table1[[#This Row],[L]],1)*1,"") -> 4 | G24: =IFERROR(RIGHT(LEFT(Table1[[#This Row],[L]],2),1)*1,"") -> 4 | H24: =IFERROR(IF(Table1[[#This Row],[Skott]]=10,"",RIGHT(Table1[[#This Row],[L]],1))*1,"") | I24: =IFERROR(LEFT(Table1[[#This Row],[S]],1)*1,"") | J24: =IFERROR(RIGHT(LEFT(Table1[[#This Row],[S]],2),1)*1,"") | K24: =IF(Table1[[#This Row],[Plac]]="",0,IFERROR(VLOOKUP(Table1[[#This Row],[Plac]],Referens!$B$16:$C$28,2,0),1)) -> 15 | L24: 5 | M24: 1 | N24: 1 | O24: Karl Bergh | P24: Borås Skidlöparklubb | Q24: 44 | S24: 0.56944444 | T24: - | U24: 0.56944444 | V24: -
A25: Flickor 10-11 | B25: Trollhättan 31/1 Sprint | C25: 10 | D25: =Table1[[#This Row],[Skott]]-SUM(Table1[[#This Row],[T1]:[T5]]) -> 8 | E25: =IFERROR(-(SUM(Table1[[#This Row],[T1]:[T5]])-Table1[[#This Row],[Skott]])/Table1[[#This Row],[Skott]],"") -> 0.8 | F25: =IFERROR(LEFT(Table1[[#This Row],[L]],1)*1,"") -> 1 | G25: =IFERROR(RIGHT(LEFT(Table1[[#This Row],[L]],2),1)*1,"") -> 1 | H25: =IFERROR(IF(Table1[[#This Row],[Skott]]=10,"",RIGHT(Table1[[#This Row],[L]],1))*1,"") | I25: =IFERROR(LEFT(Table1[[#This Row],[S]],1)*1,"") | J25: =IFERROR(RIGHT(LEFT(Table1[[#This Row],[S]],2),1)*1,"") | K25: =IF(Table1[[#This Row],[Plac]]="",0,IFERROR(VLOOKUP(Table1[[#This Row],[Plac]],Referens!$B$16:$C$28,2,0),1)) -> 15 | L25: 5 | M25: 1 | N25: 8 | O25: Ines Hall | P25: Borås Skidlöparklubb | Q25: 1 | S25: 0.47986111 | T25: - | U25: 0.47986111 | V25: -
A26: Pojkar 12-13 | B26: Trollhättan 31/1 Sprint | C26: 10 | D26: =Table1[[#This Row],[Skott]]-SUM(Table1[[#This Row],[T1]:[T5]]) -> 8 | E26: =IFERROR(-(SUM(Table1[[#This Row],[T1]:[T5]])-Table1[[#This Row],[Skott]])/Table1[[#This Row],[Skott]],"") -> 0.8 | F26: =IFERROR(LEFT(Table1[[#This Row],[L]],1)*1,"") -> 1 | G26: =IFERROR(RIGHT(LEFT(Table1[[#This Row],[L]],2),1)*1,"") -> 1 | H26: =IFERROR(IF(Table1[[#This Row],[Skott]]=10,"",RIGHT(Table1[[#This Row],[L]],1))*1,"") | I26: =IFERROR(LEFT(Table1[[#This Row],[S]],1)*1,"") | J26: =IFERROR(RIGHT(LEFT(Table1[[#This Row],[S]],2),1)*1,"") | K26: =IF(Table1[[#This Row],[Plac]]="",0,IFERROR(VLOOKUP(Table1[[#This Row],[Plac]],Referens!$B$16:$C$28,2,0),1)) -> 15 | L26: =Table1[[#This Row],[Poäng]] -> 15 | M26: 1 | N26: 12 | O26: Erik Vidunger | P26: Borås Skidlöparklubb | Q26: 11 | S26: 0.65694444 | T26: - | U26: 0.65694444 | V26: -
A27: Pojkar 12-13 | B27: Trollhättan 31/1 Sprint | C27: 10 | D27: =Table1[[#This Row],[Skott]]-SUM(Table1[[#This Row],[T1]:[T5]]) -> 5 | E27: =IFERROR(-(SUM(Table1[[#This Row],[T1]:[T5]])-Table1[[#This Row],[Skott]])/Table1[[#This Row],[Skott]],"") -> 0.5 | F27: =IFERROR(LEFT(Table1[[#This Row],[L]],1)*1,"") -> 2 | G27: =IFERROR(RIGHT(LEFT(Table1[[#This Row],[L]],2),1)*1,"") -> 3 | H27: =IFERROR(IF(Table1[[#This Row],[Skott]]=10,"",RIGHT(Table1[[#This Row],[L]],1))*1,"") | I27: =IFERROR(LEFT(Table1[[#This Row],[S]],1)*1,"") | J27: =IFERROR(RIGHT(LEFT(Table1[[#This Row],[S]],2),1)*1,"") | K27: =IF(Table1[[#This Row],[Plac]]="",0,IFERROR(VLOOKUP(Table1[[#This Row],[Plac]],Referens!$B$16:$C$28,2,0),1)) -> 12 | L27: =Table1[[#This Row],[Poäng]] -> 12 | M27: 3 | N27: 13 | O27: Erik Bergh | P27: Borås Skidlöparklubb | Q27: 23 | S27: 0.71527778 | T27: - | U27: 0.71527778 | V27: 0.058333333
A28: Flickor 12-13 | B28: Trollhättan 31/1 Sprint | C28: 10 | D28: =Table1[[#This Row],[Skott]]-SUM(Table1[[#This Row],[T1]:[T5]]) -> 8 | E28: =IFERROR(-(SUM(Table1[[#This Row],[T1]:[T5]])-Table1[[#This Row],[Skott]])/Table1[[#This Row],[Skott]],"") -> 0.8 | F28: =IFERROR(LEFT(Table1[[#This Row],[L]],1)*1,"") -> 1 | G28: =IFERROR(RIGHT(LEFT(Table1[[#This Row],[L]],2),1)*1,"") -> 1 | H28: =IFERROR(IF(Table1[[#This Row],[Skott]]=10,"",RIGHT(Table1[[#This Row],[L]],1))*1,"") | I28: =IFERROR(LEFT(Table1[[#This Row],[S]],1)*1,"") | J28: =IFERROR(RIGHT(LEFT(Table1[[#This Row],[S]],2),1)*1,"") | K28: =IF(Table1[[#This Row],[Plac]]="",0,IFERROR(VLOOKUP(Table1[[#This Row],[Plac]],Referens!$B$16:$C$28,2,0),1)) -> 15 | L28: =Table1[[#This Row],[Poäng]] -> 15 | M28: 1 | N28: 26 | O28: Ester Hall | P28: Borås Skidlöparklubb | Q28: 11 | S28: 0.58333333 | T28: - | U28: 0.58333333 | V28: - | W28: Tid ej exakt inlagd. Placering är rätt.
A29: Pojkar 14-15 | B29: Trollhättan 31/1 Sprint | C29: 10 | D29: =Table1[[#This Row],[Skott]]-SUM(Table1[[#This Row],[T1]:[T5]]) -> 4 | E29: =IFERROR(-(SUM(Table1[[#This Row],[T1]:[T5]])-Table1[[#This Row],[Skott]])/Table1[[#This Row],[Skott]],"") -> 0.4 | F29: =IFERROR(LEFT(Table1[[#This Row],[L]],1)*1,"") -> 2 | G29: =IFERROR(RIGHT(LEFT(Table1[[#This Row],[L]],2),1)*1,"") -> 4 | H29: =IFERROR(IF(Table1[[#This Row],[Skott]]=10,"",RIGHT(Table1[[#This Row],[L]],1))*1,"") | I29: =IFERROR(LEFT(Table1[[#This Row],[S]],1)*1,"") | J29: =IFERROR(RIGHT(LEFT(Table1[[#This Row],[S]],2),1)*1,"") | K29: =IF(Table1[[#This Row],[Plac]]="",0,IFERROR(VLOOKUP(Table1[[#This Row],[Plac]],Referens!$B$16:$C$28,2,0),1)) -> 10 | L29: =Table1[[#This Row],[Poäng]] -> 10 | M29: 5 | N29: 46 | O29: Harry Skoog | P29: Borås Skidlöparklubb | Q29: 24 | S29: 0.75902778 | T29: - | U29: 0.75902778 | V29: 0.10208333
A30: Herrar senior_motion | B30: Trollhättan 31/1 Sprint | C30: 20 | D30: =Table1[[#This Row],[Skott]]-SUM(Table1[[#This Row],[T1]:[T5]]) -> 2 | E30: =IFERROR(-(SUM(Table1[[#This Row],[T1]:[T5]])-Table1[[#This Row],[Skott]])/Table1[[#This Row],[Skott]],"") -> 0.1 | F30: =IFERROR(LEFT(Table1[[#This Row],[L]],1)*1,"") -> 4 | G30: =IFERROR(RIGHT(LEFT(Table1[[#This Row],[L]],2),1)*1,"") -> 4 | I30: =IFERROR(LEFT(Table1[[#This Row],[S]],1)*1,"") -> 5 | J30: =IFERROR(RIGHT(LEFT(Table1[[#This Row],[S]],2),1)*1,"") -> 5 | K30: =IF(Table1[[#This Row],[Plac]]="",0,IFERROR(VLOOKUP(Table1[[#This Row],[Plac]],Referens!$B$16:$C$28,2,0),1)) -> 15 | L30: =Table1[[#This Row],[Poäng]] -> 15 | M30: 1 | N30: 60 | O30: Linus Hall | P30: Borås Skidlöparklubb | Q30: 4 | R30: 5 | S30: 1.0152778 | T30: - | U30: 1.0152778 | V30: -
A31: Herrar senior_motion | B31: Trollhättan 31/1 Sprint | C31: 20 | D31: =Table1[[#This Row],[Skott]]-SUM(Table1[[#This Row],[T1]:[T5]]) -> 4 | E31: =IFERROR(-(SUM(Table1[[#This Row],[T1]:[T5]])-Table1[[#This Row],[Skott]])/Table1[[#This Row],[Skott]],"") -> 0.2 | F31: =IFERROR(LEFT(Table1[[#This Row],[L]],1)*1,"") -> 4 | G31: =IFERROR(RIGHT(LEFT(Table1[[#This Row],[L]],2),1)*1,"") -> 4 | I31: =IFERROR(LEFT(Table1[[#This Row],[S]],1)*1,"") -> 4 | J31: =IFERROR(RIGHT(LEFT(Table1[[#This Row],[S]],2),1)*1,"") -> 4 | K31: =IF(Table1[[#This Row],[Plac]]="",0,IFERROR(VLOOKUP(Table1[[#This Row],[Plac]],Referens!$B$16:$C$28,2,0),1)) -> 13 | L31: =Table1[[#This Row],[Poäng]] -> 13 | M31: 2 | N31: 61 | O31: Christoffer Skoog | P31: Borås Skidlöparklubb | Q31: 4 | R31: 4 | S31: 1.0701389 | T31: - | U31: 1.0701389 | V31: 0.054861111
A32: Herrar senior_motion | B32: Trollhättan 31/1 Sprint | C32: 20 | D32: =Table1[[#This Row],[Skott]]-SUM(Table1[[#This Row],[T1]:[T5]]) -> 2 | E32: =IFERROR(-(SUM(Table1[[#This Row],[T1]:[T5]])-Table1[[#This Row],[Skott]])/Table1[[#This Row],[Skott]],"") -> 0.1 | F32: =IFERROR(LEFT(Table1[[#This Row],[L]],1)*1,"") -> 5 | G32: =IFERROR(RIGHT(LEFT(Table1[[#This Row],[L]],2),1)*1,"") -> 5 | I32: =IFERROR(LEFT(Table1[[#This Row],[S]],1)*1,"") -> 4 | J32: =IFERROR(RIGHT(LEFT(Table1[[#This Row],[S]],2),1)*1,"") -> 4 | K32: =IF(Table1[[#This Row],[Plac]]="",0,IFERROR(VLOOKUP(Table1[[#This Row],[Plac]],Referens!$B$16:$C$28,2,0),1)) -> 10 | L32: =Table1[[#This Row],[Poäng]] -> 10 | M32: 5 | N32: 59 | O32: Niclas Bergh | P32: Borås Skidlöparklubb | Q32: 5 | R32: 4 | S32: 1.2430556 | T32: - | U32: 1.2430556 | V32: 0.22777778
A33: Damer senior_motion | B33: Trollhättan 31/1 Sprint | C33: 20 | D33: =Table1[[#This Row],[Skott]]-SUM(Table1[[#This Row],[T1]:[T5]]) -> 2 | E33: =IFERROR(-(SUM(Table1[[#This Row],[T1]:[T5]])-Table1[[#This Row],[Skott]])/Table1[[#This Row],[Skott]],"") -> 0.1 | F33: =IFERROR(LEFT(Table1[[#This Row],[L]],1)*1,"") -> 4 | G33: =IFERROR(RIGHT(LEFT(Table1[[#This Row],[L]],2),1)*1,"") -> 4 | I33: =IFERROR(LEFT(Table1[[#This Row],[S]],1)*1,"") -> 5 | J33: =IFERROR(RIGHT(LEFT(Table1[[#This Row],[S]],2),1)*1,"") -> 5 | K33: =IF(Table1[[#This Row],[Plac]]="",0,IFERROR(VLOOKUP(Table1[[#This Row],[Plac]],Referens!$B$16:$C$28,2,0),1)) -> 13 | L33: =Table1[[#This Row],[Poäng]] -> 13 | M33: 2 | N33: 63 | O33: Kristin Vidunger | P33: Borås Skidlöparklubb | Q33: 4 | R33: 5 | S33: 1.2590278 | T33: - | U33: 1.2590278 | V33: 0.11666667
A34: Flickor 10-11 | B34: Landehof 1/2 Kortdistans | C34: 10 | D34: =Table1[[#This Row],[Skott]]-SUM(Table1[[#This Row],[T1]:[T5]]) -> 7 | E34: =IFERROR(-(SUM(Table1[[#This Row],[T1]:[T5]])-Table1[[#This Row],[Skott]])/Table1[[#This Row],[Skott]],"") -> 0.7 | F34: =IFERROR(LEFT(Table1[[#This Row],[L]],1)*1,"") -> 1 | G34: =IFERROR(RIGHT(LEFT(Table1[[#This Row],[L]],2),1)*1,"") -> 2 | H34: =IFERROR(IF(Table1[[#This Row],[Skott]]=10,"",RIGHT(Table1[[#This Row],[L]],1))*1,"") | I34: =IFERROR(LEFT(Table1[[#This Row],[S]],1)*1,"") | J34: =IFERROR(RIGHT(LEFT(Table1[[#This Row],[S]],2),1)*1,"") | K34: =IF(Table1[[#This Row],[Plac]]="",0,IFERROR(VLOOKUP(Table1[[#This Row],[Plac]],Referens!$B$16:$C$28,2,0),1)) -> 13 | L34: 5 | M34: 2 | N34: 18 | O34: Ines Hall | P34: Borås Skidlöparklubb | Q34: 12 | S34: 0.50625 | T34: 0.0625 | U34: 0.56875 | V34: 0.025694444
A35: Pojkar 10-11 | B35: Landehof 1/2 Kortdistans | C35: 10 | D35: =Table1[[#This Row],[Skott]]-SUM(Table1[[#This Row],[T1]:[T5]]) -> 7 | E35: =IFERROR(-(SUM(Table1[[#This Row],[T1]:[T5]])-Table1[[#This Row],[Skott]])/Table1[[#This Row],[Skott]],"") -> 0.7 | F35: =IFERROR(LEFT(Table1[[#This Row],[L]],1)*1,"") -> 1 | G35: =IFERROR(RIGHT(LEFT(Table1[[#This Row],[L]],2),1)*1,"") -> 2 | H35: =IFERROR(IF(Table1[[#This Row],[Skott]]=10,"",RIGHT(Table1[[#This Row],[L]],1))*1,"") | I35: =IFERROR(LEFT(Table1[[#This Row],[S]],1)*1,"") | J35: =IFERROR(RIGHT(LEFT(Table1[[#This Row],[S]],2),1)*1,"") | K35: =IF(Table1[[#This Row],[Plac]]="",0,IFERROR(VLOOKUP(Table1[[#This Row],[Plac]],Referens!$B$16:$C$28,2,0),1)) -> 15 | L35: 5 | M35: 1 | N35: 24 | O35: Karl Bergh | P35: Borås Skidlöparklubb | Q35: 12 | S35: 0.52916667 | T35: 0.0625 | U35: 0.59166667 | V35: -
A36: Flickor 12-13 | B36: Landehof 1/2 Kortdistans | C36: 15 | D36: =Table1[[#This Row],[Skott]]-SUM(Table1[[#This Row],[T1]:[T5]]) -> 14 | E36: =IFERROR(-(SUM(Table1[[#This Row],[T1]:[T5]])-Table1[[#This Row],[Skott]])/Table1[[#This Row],[Skott]],"") -> 0.93333333 | F36: =IFERROR(LEFT(Table1[[#This Row],[L]],1)*1,"") -> 0 | G36: =IFERROR(RIGHT(LEFT(Table1[[#This Row],[L]],2),1)*1,"") -> 0 | H36: =IFERROR(IF(Table1[[#This Row],[Skott]]=10,"",RIGHT(Table1[[#This Row],[L]],1))*1,"") -> 1 | I36: =IFERROR(LEFT(Table1[[#This Row],[S]],1)*1,"") | J36: =IFERROR(RIGHT(LEFT(Table1[[#This Row],[S]],2),1)*1,"") | K36: =IF(Table1[[#This Row],[Plac]]="",0,IFERROR(VLOOKUP(Table1[[#This Row],[Plac]],Referens!$B$16:$C$28,2,0),1)) -> 15 | L36: =Table1[[#This Row],[Poäng]] -> 15 | M36: 1 | N36: 35 | O36: Karin Frick Gräslund | P36: Borås Skidlöparklubb | Q36: 001 | S36: 0.65069444 | T36: 0.020833333 | U36: 0.67152778 | V36: -
A37: Flickor 12-13 | B37: Landehof 1/2 Kortdistans | C37: 15 | D37: =Table1[[#This Row],[Skott]]-SUM(Table1[[#This Row],[T1]:[T5]]) -> 10 | E37: =IFERROR(-(SUM(Table1[[#This Row],[T1]:[T5]])-Table1[[#This Row],[Skott]])/Table1[[#This Row],[Skott]],"") -> 0.66666667 | F37: =IFERROR(LEFT(Table1[[#This Row],[L]],1)*1,"") -> 3 | G37: =IFERROR(RIGHT(LEFT(Table1[[#This Row],[L]],2),1)*1,"") -> 2 | H37: =IFERROR(IF(Table1[[#This Row],[Skott]]=10,"",RIGHT(Table1[[#This Row],[L]],1))*1,"") -> 0 | I37: =IFERROR(LEFT(Table1[[#This Row],[S]],1)*1,"") | J37: =IFERROR(RIGHT(LEFT(Table1[[#This Row],[S]],2),1)*1,"") | K37: =IF(Table1[[#This Row],[Plac]]="",0,IFERROR(VLOOKUP(Table1[[#This Row],[Plac]],Referens!$B$16:$C$28,2,0),1)) -> 13 | L37: =Table1[[#This Row],[Poäng]] -> 13 | M37: 2 | N37: 38 | O37: Ester Hall | P37: Borås Skidlöparklubb | Q37: 320 | S37: 0.56944444 | T37: 0.10416667 | U37: 0.67361111 | V37: 0.0020833333
A38: Pojkar 12-13 | B38: Landehof 1/2 Kortdistans | C38: 15 | D38: =Table1[[#This Row],[Skott]]-SUM(Table1[[#This Row],[T1]:[T5]]) -> 13 | E38: =IFERROR(-(SUM(Table1[[#This Row],[T1]:[T5]])-Table1[[#This Row],[Skott]])/Table1[[#This Row],[Skott]],"") -> 0.86666667 | F38: =IFERROR(LEFT(Table1[[#This Row],[L]],1)*1,"") -> 1 | G38: =IFERROR(RIGHT(LEFT(Table1[[#This Row],[L]],2),1)*1,"") -> 1 | H38: =IFERROR(IF(Table1[[#This Row],[Skott]]=10,"",RIGHT(Table1[[#This Row],[L]],1))*1,"") -> 0 | I38: =IFERROR(LEFT(Table1[[#This Row],[S]],1)*1,"") | J38: =IFERROR(RIGHT(LEFT(Table1[[#This Row],[S]],2),1)*1,"") | K38: =IF(Table1[[#This Row],[Plac]]="",0,IFERROR(VLOOKUP(Table1[[#This Row],[Plac]],Referens!$B$16:$C$28,2,0),1)) -> 13 | L38: =Table1[[#This Row],[Poäng]] -> 13 | M38: 2 | N38: 42 | O38: Gustav Frick Gräslund | P38: Borås Skidlöparklubb | Q38: 110 | S38: 0.59652778 | T38: 0.041666667 | U38: 0.63819444 | V38: 0.054861111
A39: Pojkar 12-13 | B39: Landehof 1/2 Kortdistans | C39: 15 | D39: =Table1[[#This Row],[Skott]]-SUM(Table1[[#This Row],[T1]:[T5]]) -> 12 | E39: =IFERROR(-(SUM(Table1[[#This Row],[T1]:[T5]])-Table1[[#This Row],[Skott]])/Table1[[#This Row],[Skott]],"") -> 0.8 | F39: =IFERROR(LEFT(Table1[[#This Row],[L]],1)*1,"") -> 0 | G39: =IFERROR(RIGHT(LEFT(Table1[[#This Row],[L]],2),1)*1,"") -> 2 | H39: =IFERROR(IF(Table1[[#This Row],[Skott]]=10,"",RIGHT(Table1[[#This Row],[L]],1))*1,"") -> 1 | I39: =IFERROR(LEFT(Table1[[#This Row],[S]],1)*1,"") | J39: =IFERROR(RIGHT(LEFT(Table1[[#This Row],[S]],2),1)*1,"") | K39: =IF(Table1[[#This Row],[Plac]]="",0,IFERROR(VLOOKUP(Table1[[#This Row],[Plac]],Referens!$B$16:$C$28,2,0),1)) -> 12 | L39: =Table1[[#This Row],[Poäng]] -> 12 | M39: 3 | N39: 48 | O39: Erik Vidunger | P39: Borås Skidlöparklubb | Q39: 021 | S39: 0.59791667 | T39: 0.0625 | U39: 0.66041667 | V39: 0.077083333
A40: Pojkar 12-13 | B40: Landehof 1/2 Kortdistans | C40: 15 | D40: =Table1[[#This Row],[Skott]]-SUM(Table1[[#This Row],[T1]:[T5]]) -> 8 | E40: =IFERROR(-(SUM(Table1[[#This Row],[T1]:[T5]])-Table1[[#This Row],[Skott]])/Table1[[#This Row],[Skott]],"") -> 0.53333333 | F40: =IFERROR(LEFT(Table1[[#This Row],[L]],1)*1,"") -> 3 | G40: =IFERROR(RIGHT(LEFT(Table1[[#This Row],[L]],2),1)*1,"") -> 1 | H40: =IFERROR(IF(Table1[[#This Row],[Skott]]=10,"",RIGHT(Table1[[#This Row],[L]],1))*1,"") -> 3 | I40: =IFERROR(LEFT(Table1[[#This Row],[S]],1)*1,"") | J40: =IFERROR(RIGHT(LEFT(Table1[[#This Row],[S]],2),1)*1,"") | K40: =IF(Table1[[#This Row],[Plac]]="",0,IFERROR(VLOOKUP(Table1[[#This Row],[Plac]],Referens!$B$16:$C$28,2,0),1)) -> 10 | L40: =Table1[[#This Row],[Poäng]] -> 10 | M40: 5 | N40: 47 | O40: Erik Bergh | P40: Borås Skidlöparklubb | Q40: 313 | S40: 0.62916667 | T40: 0.14583333 | U40: 0.775 | V40: 0.19166667
A41: Pojkar 12-13 | B41: Landehof 1/2 Kortdistans | N41: 43 | O41: Hugo Anell | P41: Borås Skidlöparklubb | S41: - | T41: - | U41: - | W41: DNS
A42: Pojkar 14-15 | B42: Landehof 1/2 Kortdistans | C42: 15 | D42: =Table1[[#This Row],[Skott]]-SUM(Table1[[#This Row],[T1]:[T5]]) -> 8 | E42: =IFERROR(-(SUM(Table1[[#This Row],[T1]:[T5]])-Table1[[#This Row],[Skott]])/Table1[[#This Row],[Skott]],"") -> 0.53333333 | F42: =IFERROR(LEFT(Table1[[#This Row],[L]],1)*1,"") -> 1 | G42: =IFERROR(RIGHT(LEFT(Table1[[#This Row],[L]],2),1)*1,"") -> 2 | H42: =IFERROR(IF(Table1[[#This Row],[Skott]]=10,"",RIGHT(Table1[[#This Row],[L]],1))*1,"") -> 4 | I42: =IFERROR(LEFT(Table1[[#This Row],[S]],1)*1,"") | J42: =IFERROR(RIGHT(LEFT(Table1[[#This Row],[S]],2),1)*1,"") | K42: =IF(Table1[[#This Row],[Plac]]="",0,IFERROR(VLOOKUP(Table1[[#This Row],[Plac]],Referens!$B$16:$C$28,2,0),1)) -> 12 | L42: =Table1[[#This Row],[Poäng]] -> 12 | M42: 3 | N42: 57 | O42: Harry Skoog | P42: Borås Skidlöparklubb | Q42: 124 | S42: 0.84166667 | T42: 0.14583333 | U42: 0.9875 | V42: 0.13472222
A43: Damer senior_motion | B43: Landehof 1/2 Kortdistans | C43: 20 | D43: =Table1[[#This Row],[Skott]]-SUM(Table1[[#This Row],[T1]:[T5]]) -> 1 | E43: =IFERROR(-(SUM(Table1[[#This Row],[T1]:[T5]])-Table1[[#This Row],[Skott]])/Table1[[#This Row],[Skott]],"") -> 0.05 | F43: =IFERROR(LEFT(Table1[[#This Row],[L]],1)*1,"") -> 5 | G43: =IFERROR(RIGHT(LEFT(Table1[[#This Row],[L]],2),1)*1,"") -> 4 | I43: =IFERROR(LEFT(Table1[[#This Row],[S]],1)*1,"") -> 5 | J43: =IFERROR(RIGHT(LEFT(Table1[[#This Row],[S]],2),1)*1,"") -> 5 | K43: =IF(Table1[[#This Row],[Plac]]="",0,IFERROR(VLOOKUP(Table1[[#This Row],[Plac]],Referens!$B$16:$C$28,2,0),1)) -> 12 | L43: =Table1[[#This Row],[Poäng]] -> 12 | M43: 3 | N43: 71 | O43: Sofia Frick | P43: Borås Skidlöparklubb | Q43: 54 | R43: 55 | S43: 1.1951389 | T43: 0.39583333 | U43: 1.5909722 | V43: 0.37152778
A44: Herrar senior_motion | B44: Landehof 1/2 Kortdistans | C44: 20 | D44: =Table1[[#This Row],[Skott]]-SUM(Table1[[#This Row],[T1]:[T5]]) -> 9 | E44: =IFERROR(-(SUM(Table1[[#This Row],[T1]:[T5]])-Table1[[#This Row],[Skott]])/Table1[[#This Row],[Skott]],"") -> 0.45 | F44: =IFERROR(LEFT(Table1[[#This Row],[L]],1)*1,"") -> 1 | G44: =IFERROR(RIGHT(LEFT(Table1[[#This Row],[L]],2),1)*1,"") -> 1 | I44: =IFERROR(LEFT(Table1[[#This Row],[S]],1)*1,"") -> 5 | J44: =IFERROR(RIGHT(LEFT(Table1[[#This Row],[S]],2),1)*1,"") -> 4 | K44: =IF(Table1[[#This Row],[Plac]]="",0,IFERROR(VLOOKUP(Table1[[#This Row],[Plac]],Referens!$B$16:$C$28,2,0),1)) -> 15 | L44: =Table1[[#This Row],[Poäng]] -> 15 | M44: 1 | N44: 72 | O44: Linus Hall | P44: Borås Skidlöparklubb | Q44: 11 | R44: 54 | S44: 1.0784722 | T44: 0.22916667 | U44: 1.3076389 | V44: -
A45: Herrar senior_motion | B45: Landehof 1/2 Kortdistans | C45: 20 | D45: =Table1[[#This Row],[Skott]]-SUM(Table1[[#This Row],[T1]:[T5]]) -> 3 | E45: =IFERROR(-(SUM(Table1[[#This Row],[T1]:[T5]])-Table1[[#This Row],[Skott]])/Table1[[#This Row],[Skott]],"") -> 0.15 | F45: =IFERROR(LEFT(Table1[[#This Row],[L]],1)*1,"") -> 4 | G45: =IFERROR(RIGHT(LEFT(Table1[[#This Row],[L]],2),1)*1,"") -> 5 | I45: =IFERROR(LEFT(Table1[[#This Row],[S]],1)*1,"") -> 4 | J45: =IFERROR(RIGHT(LEFT(Table1[[#This Row],[S]],2),1)*1,"") -> 4 | K45: =IF(Table1[[#This Row],[Plac]]="",0,IFERROR(VLOOKUP(Table1[[#This Row],[Plac]],Referens!$B$16:$C$28,2,0),1)) -> 13 | L45: =Table1[[#This Row],[Poäng]] -> 13 | M45: 2 | N45: 73 | O45: Christoffer Skoogh | P45: Borås Skidlöparklubb | Q45: 45 | R45: 44 | S45: 1.1541667 | T45: 0.35416667 | U45: 1.5083333 | V45: 0.20069444
A46: Flickor 10-11 | B46: Ätran 7/2 Kortdistans | C46: 10 | D46: =Table1[[#This Row],[Skott]]-SUM(Table1[[#This Row],[T1]:[T5]]) -> 5 | E46: =IFERROR(-(SUM(Table1[[#This Row],[T1]:[T5]])-Table1[[#This Row],[Skott]])/Table1[[#This Row],[Skott]],"") -> 0.5 | F46: =IFERROR(LEFT(Table1[[#This Row],[L]],1)*1,"") -> 2 | G46: =IFERROR(RIGHT(LEFT(Table1[[#This Row],[L]],2),1)*1,"") -> 3 | I46: =IFERROR(LEFT(Table1[[#This Row],[S]],1)*1,"") | J46: =IFERROR(RIGHT(LEFT(Table1[[#This Row],[S]],2),1)*1,"") | K46: =IF(Table1[[#This Row],[Plac]]="",0,IFERROR(VLOOKUP(Table1[[#This Row],[Plac]],Referens!$B$16:$C$28,2,0),1)) -> 13 | L46: 5 | M46: 2 | N46: 16 | O46: Ines Hall | P46: Borås Skidlöparklubb | Q46: 23 | S46: 0.54513889 | T46: 0.10416667 | U46: 0.64930556 | V46: 0.10208333
A47: Pojkar 14-15 | B47: Ätran 7/2 Kortdistans | C47: 15 | D47: =Table1[[#This Row],[Skott]]-SUM(Table1[[#This Row],[T1]:[T5]]) -> 8 | E47: =IFERROR(-(SUM(Table1[[#This Row],[T1]:[T5]])-Table1[[#This Row],[Skott]])/Table1[[#This Row],[Skott]],"") -> 0.53333333 | F47: =IFERROR(LEFT(Table1[[#This Row],[L]],1)*1,"") -> 3 | G47: =IFERROR(RIGHT(LEFT(Table1[[#This Row],[L]],2),1)*1,"") -> 2 | H47: =IFERROR(IF(Table1[[#This Row],[Skott]]=10,"",RIGHT(Table1[[#This Row],[L]],1))*1,"") -> 2 | I47: =IFERROR(LEFT(Table1[[#This Row],[S]],1)*1,"") | J47: =IFERROR(RIGHT(LEFT(Table1[[#This Row],[S]],2),1)*1,"") | K47: =IF(Table1[[#This Row],[Plac]]="",0,IFERROR(VLOOKUP(Table1[[#This Row],[Plac]],Referens!$B$16:$C$28,2,0),1)) -> 11 | L47: =Table1[[#This Row],[Poäng]] -> 11 | M47: 4 | N47: 21 | O47: Harry Skoog | P47: Borås Skidlöparklubb | Q47: 322 | S47: 0.69097222 | T47: 0.14583333 | U47: 0.83680556 | V47: 0.1625
A48: Pojkar 12-13 | B48: Ätran 7/2 Kortdistans | C48: 15 | D48: =Table1[[#This Row],[Skott]]-SUM(Table1[[#This Row],[T1]:[T5]]) -> 11 | E48: =IFERROR(-(SUM(Table1[[#This Row],[T1]:[T5]])-Table1[[#This Row],[Skott]])/Table1[[#This Row],[Skott]],"") -> 0.73333333 | F48: =IFERROR(LEFT(Table1[[#This Row],[L]],1)*1,"") -> 2 | G48: =IFERROR(RIGHT(LEFT(Table1[[#This Row],[L]],2),1)*1,"") -> 1 | H48: =IFERROR(IF(Table1[[#This Row],[Skott]]=10,"",RIGHT(Table1[[#This Row],[L]],1))*1,"") -> 1 | I48: =IFERROR(LEFT(Table1[[#This Row],[S]],1)*1,"") | J48: =IFERROR(RIGHT(LEFT(Table1[[#This Row],[S]],2),1)*1,"") | K48: =IF(Table1[[#This Row],[Plac]]="",0,IFERROR(VLOOKUP(Table1[[#This Row],[Plac]],Referens!$B$16:$C$28,2,0),1)) -> 13 | L48: =Table1[[#This Row],[Poäng]] -> 13 | M48: 2 | N48: 32 | O48: Erik Vidunger | P48: Borås Skidlöparklubb | Q48: 211 | S48: 0.62361111 | T48: 0.083333333 | U48: 0.70694444 | V48: 0.0027777778
A49: Pojkar 12-13 | B49: Ätran 7/2 Kortdistans | C49: 15 | D49: =Table1[[#This Row],[Skott]]-SUM(Table1[[#This Row],[T1]:[T5]]) -> 8 | E49: =IFERROR(-(SUM(Table1[[#This Row],[T1]:[T5]])-Table1[[#This Row],[Skott]])/Table1[[#This Row],[Skott]],"") -> 0.53333333 | F49: =IFERROR(LEFT(Table1[[#This Row],[L]],1)*1,"") -> 3 | G49: =IFERROR(RIGHT(LEFT(Table1[[#This Row],[L]],2),1)*1,"") -> 3 | H49: =IFERROR(IF(Table1[[#This Row],[Skott]]=10,"",RIGHT(Table1[[#This Row],[L]],1))*1,"") -> 1 | I49: =IFERROR(LEFT(Table1[[#This Row],[S]],1)*1,"") | J49: =IFERROR(RIGHT(LEFT(Table1[[#This Row],[S]],2),1)*1,"") | K49: =IF(Table1[[#This Row],[Plac]]="",0,IFERROR(VLOOKUP(Table1[[#This Row],[Plac]],Referens!$B$16:$C$28,2,0),1)) -> 11 | L49: =Table1[[#This Row],[Poäng]] -> 11 | M49: 4 | N49: 31 | O49: Erik Bergh | P49: Borås Skidlöparklubb | Q49: 331 | S49: 0.62638889 | T49: 0.14583333 | U49: 0.77222222 | V49: 0.068055556
A50: Flickor 12-13 | B50: Ätran 7/2 Kortdistans | C50: 15 | D50: =Table1[[#This Row],[Skott]]-SUM(Table1[[#This Row],[T1]:[T5]]) -> 10 | E50: =IFERROR(-(SUM(Table1[[#This Row],[T1]:[T5]])-Table1[[#This Row],[Skott]])/Table1[[#This Row],[Skott]],"") -> 0.66666667 | F50: =IFERROR(LEFT(Table1[[#This Row],[L]],1)*1,"") -> 1 | G50: =IFERROR(RIGHT(LEFT(Table1[[#This Row],[L]],2),1)*1,"") -> 2 | H50: =IFERROR(IF(Table1[[#This Row],[Skott]]=10,"",RIGHT(Table1[[#This Row],[L]],1))*1,"") -> 2 | I50: =IFERROR(LEFT(Table1[[#This Row],[S]],1)*1,"") | J50: =IFERROR(RIGHT(LEFT(Table1[[#This Row],[S]],2),1)*1,"") | K50: =IF(Table1[[#This Row],[Plac]]="",0,IFERROR(VLOOKUP(Table1[[#This Row],[Plac]],Referens!$B$16:$C$28,2,0),1)) -> 15 | L50: =Table1[[#This Row],[Poäng]] -> 15 | M50: 1 | N50: 43 | O50: Ester Hall | P50: Borås Skidlöparklubb | Q50: 122 | S50: 0.61041667 | T50: 0.10416667 | U50: 0.71458333 | V50: -
A51: Herrar senior_motion | B51: Ätran 7/2 Kortdistans | C51: 20 | D51: =Table1[[#This Row],[Skott]]-SUM(Table1[[#This Row],[T1]:[T5]]) -> 4 | E51: =IFERROR(-(SUM(Table1[[#This Row],[T1]:[T5]])-Table1[[#This Row],[Skott]])/Table1[[#This Row],[Skott]],"") -> 0.2 | F51: =IFERROR(LEFT(Table1[[#This Row],[L]],1)*1,"") -> 4 | G51: =IFERROR(RIGHT(LEFT(Table1[[#This Row],[L]],2),1)*1,"") -> 5 | I51: =IFERROR(LEFT(Table1[[#This Row],[S]],1)*1,"") -> 4 | J51: =IFERROR(RIGHT(LEFT(Table1[[#This Row],[S]],2),1)*1,"") -> 3 | K51: =IF(Table1[[#This Row],[Plac]]="",0,IFERROR(VLOOKUP(Table1[[#This Row],[Plac]],Referens!$B$16:$C$28,2,0),1)) -> 15 | L51: =Table1[[#This Row],[Poäng]] -> 15 | M51: 1 | N51: 64 | O51: Linus Hall | P51: Borås Skidlöparklubb | Q51: 45 | R51: 43 | S51: 0.83819444 | T51: 0.33333333 | U51: 1.1715278 | V51: -
A52: Herrar senior_motion | B52: Ätran 7/2 Kortdistans | C52: 20 | D52: =Table1[[#This Row],[Skott]]-SUM(Table1[[#This Row],[T1]:[T5]]) -> 1 | E52: =IFERROR(-(SUM(Table1[[#This Row],[T1]:[T5]])-Table1[[#This Row],[Skott]])/Table1[[#This Row],[Skott]],"") -> 0.05 | F52: =IFERROR(LEFT(Table1[[#This Row],[L]],1)*1,"") -> 4 | G52: =IFERROR(RIGHT(LEFT(Table1[[#This Row],[L]],2),1)*1,"") -> 5 | I52: =IFERROR(LEFT(Table1[[#This Row],[S]],1)*1,"") -> 5 | J52: =IFERROR(RIGHT(LEFT(Table1[[#This Row],[S]],2),1)*1,"") -> 5 | K52: =IF(Table1[[#This Row],[Plac]]="",0,IFERROR(VLOOKUP(Table1[[#This Row],[Plac]],Referens!$B$16:$C$28,2,0),1)) -> 12 | L52: =Table1[[#This Row],[Poäng]] -> 12 | M52: 3 | N52: 62 | O52: Christoffer Skoog | P52: Borås Skidlöparklubb | Q52: 45 | R52: 55 | S52: 0.93055556 | T52: 0.39583333 | U52: 1.3263889 | V52: 0.15486111
A53: Flickor 10-11 | B53: Kimstadträffen 8/3 | C53: 10 | D53: =Table1[[#This Row],[Skott]]-SUM(Table1[[#This Row],[T1]:[T5]]) -> 3 | E53: =IFERROR(-(SUM(Table1[[#This Row],[T1]:[T5]])-Table1[[#This Row],[Skott]])/Table1[[#This Row],[Skott]],"") -> 0.3 | F53: =IFERROR(LEFT(Table1[[#This Row],[L]],1)*1,"") -> 4 | G53: =IFERROR(RIGHT(LEFT(Table1[[#This Row],[L]],2),1)*1,"") -> 3 | H53: =IFERROR(IF(Table1[[#This Row],[Skott]]=10,"",RIGHT(Table1[[#This Row],[L]],1))*1,"") | I53: =IFERROR(LEFT(Table1[[#This Row],[S]],1)*1,"") | J53: =IFERROR(RIGHT(LEFT(Table1[[#This Row],[S]],2),1)*1,"") | K53: =IF(Table1[[#This Row],[Plac]]="",0,IFERROR(VLOOKUP(Table1[[#This Row],[Plac]],Referens!$B$16:$C$28,2,0),1)) -> 12 | L53: 5 | M53: 3 | N53: 40 | O53: Ines Hall | P53: Borås Skidlöparklubb | Q53: 43 | S53: 0.49166667 | T53: 0.14583333 | U53: 0.6375 | V53: 0.175
A54: Pojkar 10-11 | B54: Kimstadträffen 8/3 | C54: 10 | D54: =Table1[[#This Row],[Skott]]-SUM(Table1[[#This Row],[T1]:[T5]]) -> 5 | E54: =IFERROR(-(SUM(Table1[[#This Row],[T1]:[T5]])-Table1[[#This Row],[Skott]])/Table1[[#This Row],[Skott]],"") -> 0.5 | F54: =IFERROR(LEFT(Table1[[#This Row],[L]],1)*1,"") -> 2 | G54: =IFERROR(RIGHT(LEFT(Table1[[#This Row],[L]],2),1)*1,"") -> 3 | H54: =IFERROR(IF(Table1[[#This Row],[Skott]]=10,"",RIGHT(Table1[[#This Row],[L]],1))*1,"") | I54: =IFERROR(LEFT(Table1[[#This Row],[S]],1)*1,"") | J54: =IFERROR(RIGHT(LEFT(Table1[[#This Row],[S]],2),1)*1,"") | K54: =IF(Table1[[#This Row],[Plac]]="",0,IFERROR(VLOOKUP(Table1[[#This Row],[Plac]],Referens!$B$16:$C$28,2,0),1)) -> 12 | L54: 5 | M54: 3 | N54: 51 | O54: Karl Bergh | P54: Borås Skidlöparklubb | Q54: 23 | S54: 0.48680556 | T54: 0.10416667 | U54: 0.59097222 | V54: 0.15208333
A55: Flickor 12-13 | B55: Kimstadträffen 8/3 | C55: 15 | D55: =Table1[[#This Row],[Skott]]-SUM(Table1[[#This Row],[T1]:[T5]]) -> 10 | E55: =IFERROR(-(SUM(Table1[[#This Row],[T1]:[T5]])-Table1[[#This Row],[Skott]])/Table1[[#This Row],[Skott]],"") -> 0.66666667 | F55: =IFERROR(LEFT(Table1[[#This Row],[L]],1)*1,"") -> 1 | G55: =IFERROR(RIGHT(LEFT(Table1[[#This Row],[L]],2),1)*1,"") -> 1 | H55: =IFERROR(IF(Table1[[#This Row],[Skott]]=10,"",RIGHT(Table1[[#This Row],[L]],1))*1,"") -> 3 | I55: =IFERROR(LEFT(Table1[[#This Row],[S]],1)*1,"") | J55: =IFERROR(RIGHT(LEFT(Table1[[#This Row],[S]],2),1)*1,"") | K55: =IF(Table1[[#This Row],[Plac]]="",0,IFERROR(VLOOKUP(Table1[[#This Row],[Plac]],Referens!$B$16:$C$28,2,0),1)) -> 15 | L55: =Table1[[#This Row],[Poäng]] -> 15 | M55: 1 | N55: 92 | O55: Ester Hall | P55: Borås Skidlöparklubb | Q55: 113 | S55: 0.63680556 | T55: 0.10416667 | U55: 0.74097222 | V55: -
A56: Pojkar 12-13 | B56: Kimstadträffen 8/3 | C56: 15 | D56: =Table1[[#This Row],[Skott]]-SUM(Table1[[#This Row],[T1]:[T5]]) -> 11 | E56: =IFERROR(-(SUM(Table1[[#This Row],[T1]:[T5]])-Table1[[#This Row],[Skott]])/Table1[[#This Row],[Skott]],"") -> 0.73333333 | F56: =IFERROR(LEFT(Table1[[#This Row],[L]],1)*1,"") -> 2 | G56: =IFERROR(RIGHT(LEFT(Table1[[#This Row],[L]],2),1)*1,"") -> 1 | H56: =IFERROR(IF(Table1[[#This Row],[Skott]]=10,"",RIGHT(Table1[[#This Row],[L]],1))*1,"") -> 1 | I56: =IFERROR(LEFT(Table1[[#This Row],[S]],1)*1,"") | J56: =IFERROR(RIGHT(LEFT(Table1[[#This Row],[S]],2),1)*1,"") | K56: =IF(Table1[[#This Row],[Plac]]="",0,IFERROR(VLOOKUP(Table1[[#This Row],[Plac]],Referens!$B$16:$C$28,2,0),1)) -> 15 | L56: =Table1[[#This Row],[Poäng]] -> 15 | M56: 1 | N56: 95 | O56: Erik Bergh | P56: Borås Skidlöparklubb | Q56: 21 | S56: 0.70138889 | T56: 0.0625 | U56: 0.76388889 | V56: -
A57: Pojkar 12-13 | B57: Kimstadträffen 8/3 | C57: 15 | D57: =Table1[[#This Row],[Skott]]-SUM(Table1[[#This Row],[T1]:[T5]]) -> 7 | E57: =IFERROR(-(SUM(Table1[[#This Row],[T1]:[T5]])-Table1[[#This Row],[Skott]])/Table1[[#This Row],[Skott]],"") -> 0.46666667 | F57: =IFERROR(LEFT(Table1[[#This Row],[L]],1)*1,"") -> 3 | G57: =IFERROR(RIGHT(LEFT(Table1[[#This Row],[L]],2),1)*1,"") -> 3 | H57: =IFERROR(IF(Table1[[#This Row],[Skott]]=10,"",RIGHT(Table1[[#This Row],[L]],1))*1,"") -> 2 | I57: =IFERROR(LEFT(Table1[[#This Row],[S]],1)*1,"") | J57: =IFERROR(RIGHT(LEFT(Table1[[#This Row],[S]],2),1)*1,"") | K57: =IF(Table1[[#This Row],[Plac]]="",0,IFERROR(VLOOKUP(Table1[[#This Row],[Plac]],Referens!$B$16:$C$28,2,0),1)) -> 11 | L57: =Table1[[#This Row],[Poäng]] -> 11 | M57: 4 | N57: 97 | O57: Erik Vidunger | P57: Borås Skidlöparklubb | Q57: 332 | S57: 0.66458333 | T57: 0.16666667 | U57: 0.83125 | V57: 0.067361111
A58: Pojkar 14-15 | B58: Kimstadträffen 8/3 | C58: 15 | D58: =Table1[[#This Row],[Skott]]-SUM(Table1[[#This Row],[T1]:[T5]]) -> 8 | E58: =IFERROR(-(SUM(Table1[[#This Row],[T1]:[T5]])-Table1[[#This Row],[Skott]])/Table1[[#This Row],[Skott]],"") -> 0.53333333 | F58: =IFERROR(LEFT(Table1[[#This Row],[L]],1)*1,"") -> 2 | G58: =IFERROR(RIGHT(LEFT(Table1[[#This Row],[L]],2),1)*1,"") -> 3 | H58: =IFERROR(IF(Table1[[#This Row],[Skott]]=10,"",RIGHT(Table1[[#This Row],[L]],1))*1,"") -> 2 | I58: =IFERROR(LEFT(Table1[[#This Row],[S]],1)*1,"") | J58: =IFERROR(RIGHT(LEFT(Table1[[#This Row],[S]],2),1)*1,"") | K58: =IF(Table1[[#This Row],[Plac]]="",0,IFERROR(VLOOKUP(Table1[[#This Row],[Plac]],Referens!$B$16:$C$28,2,0),1)) -> 8 | L58: =Table1[[#This Row],[Poäng]] -> 8 | M58: 7 | N58: 126 | O58: Harry Skoog | P58: Borås Skidlöparklubb | Q58: 232 | S58: 1.0458333 | T58: 0.14583333 | U58: 1.1916667 | V58: 0.14930556
A59: Damer senior_motion | B59: Kimstadträffen 8/3 | C59: 20 | D59: =Table1[[#This Row],[Skott]]-SUM(Table1[[#This Row],[T1]:[T5]]) -> 4 | E59: =IFERROR(-(SUM(Table1[[#This Row],[T1]:[T5]])-Table1[[#This Row],[Skott]])/Table1[[#This Row],[Skott]],"") -> 0.2 | F59: =IFERROR(LEFT(Table1[[#This Row],[L]],1)*1,"") -> 5 | G59: =IFERROR(RIGHT(LEFT(Table1[[#This Row],[L]],2),1)*1,"") -> 2 | I59: =IFERROR(LEFT(Table1[[#This Row],[S]],1)*1,"") -> 4 | J59: =IFERROR(RIGHT(LEFT(Table1[[#This Row],[S]],2),1)*1,"") -> 5 | K59: =IF(Table1[[#This Row],[Plac]]="",0,IFERROR(VLOOKUP(Table1[[#This Row],[Plac]],Referens!$B$16:$C$28,2,0),1)) -> 13 | L59: =Table1[[#This Row],[Poäng]] -> 13 | M59: 2 | N59: 150 | O59: Kristin Vidunger | P59: Borås Skidlöparklubb | Q59: 52 | R59: 45 | S59: 1.5986111 | T59: 0.5 | U59: 2.0986111 | V59: 0.18125
A60: Herrar senior_motion | B60: Kimstadträffen 8/3 | C60: 20 | D60: =Table1[[#This Row],[Skott]]-SUM(Table1[[#This Row],[T1]:[T5]]) -> 8 | E60: =IFERROR(-(SUM(Table1[[#This Row],[T1]:[T5]])-Table1[[#This Row],[Skott]])/Table1[[#This Row],[Skott]],"") -> 0.4 | F60: =IFERROR(LEFT(Table1[[#This Row],[L]],1)*1,"") -> 2 | G60: =IFERROR(RIGHT(LEFT(Table1[[#This Row],[L]],2),1)*1,"") -> 4 | I60: =IFERROR(LEFT(Table1[[#This Row],[S]],1)*1,"") -> 4 | J60: =IFERROR(RIGHT(LEFT(Table1[[#This Row],[S]],2),1)*1,"") -> 2 | K60: =IF(Table1[[#This Row],[Plac]]="",0,IFERROR(VLOOKUP(Table1[[#This Row],[Plac]],Referens!$B$16:$C$28,2,0),1)) -> 12 | L60: =Table1[[#This Row],[Poäng]] -> 12 | M60: 3 | N60: 157 | O60: Linus Hall | P60: Borås Skidlöparklubb | Q60: 24 | R60: 42 | S60: 1.2805556 | T60: 0.375 | U60: 1.6555556 | V60: 0.14722222
A61: Herrar senior_motion | B61: Kimstadträffen 8/3 | C61: 20 | D61: =Table1[[#This Row],[Skott]]-SUM(Table1[[#This Row],[T1]:[T5]]) -> 9 | E61: =IFERROR(-(SUM(Table1[[#This Row],[T1]:[T5]])-Table1[[#This Row],[Skott]])/Table1[[#This Row],[Skott]],"") -> 0.45 | F61: =IFERROR(LEFT(Table1[[#This Row],[L]],1)*1,"") -> 4 | G61: =IFERROR(RIGHT(LEFT(Table1[[#This Row],[L]],2),1)*1,"") -> 2 | I61: =IFERROR(LEFT(Table1[[#This Row],[S]],1)*1,"") -> 2 | J61: =IFERROR(RIGHT(LEFT(Table1[[#This Row],[S]],2),1)*1,"") -> 3 | K61: =IF(Table1[[#This Row],[Plac]]="",0,IFERROR(VLOOKUP(Table1[[#This Row],[Plac]],Referens!$B$16:$C$28,2,0),1)) -> 8 | L61: =Table1[[#This Row],[Poäng]] -> 8 | M61: 7 | N61: 160 | O61: Christoffer Skoog | P61: Borås Skidlöparklubb | Q61: 42 | R61: 23 | S61: 1.4034722 | T61: 0.34375 | U61: 1.7472222 | V61: 0.23888889
A62: Flickor 10-11 | B62: Borås Biathlon Race 7/3 | C62: 10 | D62: =Table1[[#This Row],[Skott]]-SUM(Table1[[#This Row],[T1]:[T5]]) -> 6 | E62: =IFERROR(-(SUM(Table1[[#This Row],[T1]:[T5]])-Table1[[#This Row],[Skott]])/Table1[[#This Row],[Skott]],"") -> 0.6 | F62: =IFERROR(LEFT(Table1[[#This Row],[L]],1)*1,"") -> 2 | G62: =IFERROR(RIGHT(LEFT(Table1[[#This Row],[L]],2),1)*1,"") -> 2 | H62: =IFERROR(IF(Table1[[#This Row],[Skott]]=10,"",RIGHT(Table1[[#This Row],[L]],1))*1,"") | I62: =IFERROR(LEFT(Table1[[#This Row],[S]],1)*1,"") | J62: =IFERROR(RIGHT(LEFT(Table1[[#This Row],[S]],2),1)*1,"") | K62: =IF(Table1[[#This Row],[Plac]]="",0,IFERROR(VLOOKUP(Table1[[#This Row],[Plac]],Referens!$B$16:$C$28,2,0),1)) -> 13 | L62: 5 | M62: 2 | N62: 16 | O62: Ines Hall | P62: Borås Skidlöparklubb | Q62: 22 | S62: 0.54097222 | T62: - | U62: 0.54097222 | V62: 0.020138889
A63: Pojkar 10-11 | B63: Borås Biathlon Race 7/3 | C63: 10 | D63: =Table1[[#This Row],[Skott]]-SUM(Table1[[#This Row],[T1]:[T5]]) -> 0 | E63: =IFERROR(-(SUM(Table1[[#This Row],[T1]:[T5]])-Table1[[#This Row],[Skott]])/Table1[[#This Row],[Skott]],"") -> 0 | F63: =IFERROR(LEFT(Table1[[#This Row],[L]],1)*1,"") -> 5 | G63: =IFERROR(RIGHT(LEFT(Table1[[#This Row],[L]],2),1)*1,"") -> 5 | H63: =IFERROR(IF(Table1[[#This Row],[Skott]]=10,"",RIGHT(Table1[[#This Row],[L]],1))*1,"") | I63: =IFERROR(LEFT(Table1[[#This Row],[S]],1)*1,"") | J63: =IFERROR(RIGHT(LEFT(Table1[[#This Row],[S]],2),1)*1,"") | K63: =IF(Table1[[#This Row],[Plac]]="",0,IFERROR(VLOOKUP(Table1[[#This Row],[Plac]],Referens!$B$16:$C$28,2,0),1)) -> 11 | L63: 5 | M63: 4 | N63: 20 | O63: Karl Bergh | P63: Borås Skidlöparklubb | Q63: 55 | S63: 0.59930556 | T63: 0.041666667 | U63: 0.64097222 | V63: 0.21180556 | W63: 1 missad straffrunda 1min
A64: Pojkar 12-13 | B64: Borås Biathlon Race 7/3 | C64: 15 | D64: =Table1[[#This Row],[Skott]]-SUM(Table1[[#This Row],[T1]:[T5]]) -> 15 | E64: =IFERROR(-(SUM(Table1[[#This Row],[T1]:[T5]])-Table1[[#This Row],[Skott]])/Table1[[#This Row],[Skott]],"") -> 1 | F64: =IFERROR(LEFT(Table1[[#This Row],[L]],1)*1,"") -> 0 | G64: =IFERROR(RIGHT(LEFT(Table1[[#This Row],[L]],2),1)*1,"") -> 0 | H64: =IFERROR(IF(Table1[[#This Row],[Skott]]=10,"",RIGHT(Table1[[#This Row],[L]],1))*1,"") -> 0 | I64: =IFERROR(LEFT(Table1[[#This Row],[S]],1)*1,"") | J64: =IFERROR(RIGHT(LEFT(Table1[[#This Row],[S]],2),1)*1,"") | K64: =IF(Table1[[#This Row],[Plac]]="",0,IFERROR(VLOOKUP(Table1[[#This Row],[Plac]],Referens!$B$16:$C$28,2,0),1)) -> 15 | L64: =Table1[[#This Row],[Poäng]] -> 15 | M64: 1 | N64: 35 | O64: Erik Vidunger | P64: Borås Skidlöparklubb | Q64: 0 | S64: 0.6625 | T64: - | U64: 0.6625 | V64: -
A65: Pojkar 12-13 | B65: Borås Biathlon Race 7/3 | C65: 15 | D65: =Table1[[#This Row],[Skott]]-SUM(Table1[[#This Row],[T1]:[T5]]) -> 14 | E65: =IFERROR(-(SUM(Table1[[#This Row],[T1]:[T5]])-Table1[[#This Row],[Skott]])/Table1[[#This Row],[Skott]],"") -> 0.93333333 | F65: =IFERROR(LEFT(Table1[[#This Row],[L]],1)*1,"") -> 1 | G65: =IFERROR(RIGHT(LEFT(Table1[[#This Row],[L]],2),1)*1,"") -> 0 | H65: =IFERROR(IF(Table1[[#This Row],[Skott]]=10,"",RIGHT(Table1[[#This Row],[L]],1))*1,"") -> 0 | I65: =IFERROR(LEFT(Table1[[#This Row],[S]],1)*1,"") | J65: =IFERROR(RIGHT(LEFT(Table1[[#This Row],[S]],2),1)*1,"") | K65: =IF(Table1[[#This Row],[Plac]]="",0,IFERROR(VLOOKUP(Table1[[#This Row],[Plac]],Referens!$B$16:$C$28,2,0),1)) -> 13 | L65: =Table1[[#This Row],[Poäng]] -> 13 | M65: 2 | N65: 32 | O65: Erik Bergh | P65: Borås Skidlöparklubb | Q65: 10 | S65: 0.70277778 | T65: - | U65: 0.70277778 | V65: 0.040277778
A66: Flickor 12-13 | B66: Borås Biathlon Race 7/3 | C66: 15 | D66: =Table1[[#This Row],[Skott]]-SUM(Table1[[#This Row],[T1]:[T5]]) -> 14 | E66: =IFERROR(-(SUM(Table1[[#This Row],[T1]:[T5]])-Table1[[#This Row],[Skott]])/Table1[[#This Row],[Skott]],"") -> 0.93333333 | F66: =IFERROR(LEFT(Table1[[#This Row],[L]],1)*1,"") -> 1 | G66: =IFERROR(RIGHT(LEFT(Table1[[#This Row],[L]],2),1)*1,"") -> 0 | H66: =IFERROR(IF(Table1[[#This Row],[Skott]]=10,"",RIGHT(Table1[[#This Row],[L]],1))*1,"") -> 0 | I66: =IFERROR(LEFT(Table1[[#This Row],[S]],1)*1,"") | J66: =IFERROR(RIGHT(LEFT(Table1[[#This Row],[S]],2),1)*1,"") | K66: =IF(Table1[[#This Row],[Plac]]="",0,IFERROR(VLOOKUP(Table1[[#This Row],[Plac]],Referens!$B$16:$C$28,2,0),1)) -> 15 | L66: =Table1[[#This Row],[Poäng]] -> 15 | M66: 1 | N66: 45 | O66: Ester Hall | P66: Borås Skidlöparklubb | Q66: 10 | S66: 0.63888889 | T66: - | U66: 0.63888889 | V66: 0.10763889
A67: Pojkar 14-15 | B67: Borås Biathlon Race 7/3 | C67: 15 | D67: =Table1[[#This Row],[Skott]]-SUM(Table1[[#This Row],[T1]:[T5]]) -> 9 | E67: =IFERROR(-(SUM(Table1[[#This Row],[T1]:[T5]])-Table1[[#This Row],[Skott]])/Table1[[#This Row],[Skott]],"") -> 0.6 | F67: =IFERROR(LEFT(Table1[[#This Row],[L]],1)*1,"") -> 2 | G67: =IFERROR(RIGHT(LEFT(Table1[[#This Row],[L]],2),1)*1,"") -> 2 | H67: =IFERROR(IF(Table1[[#This Row],[Skott]]=10,"",RIGHT(Table1[[#This Row],[L]],1))*1,"") -> 2 | I67: =IFERROR(LEFT(Table1[[#This Row],[S]],1)*1,"") | J67: =IFERROR(RIGHT(LEFT(Table1[[#This Row],[S]],2),1)*1,"") | K67: =IF(Table1[[#This Row],[Plac]]="",0,IFERROR(VLOOKUP(Table1[[#This Row],[Plac]],Referens!$B$16:$C$28,2,0),1)) -> 7 | L67: =Table1[[#This Row],[Poäng]] -> 7 | M67: 8 | N67: 63 | O67: Harry Skoog | P67: Borås Skidlöparklubb | Q67: 22 | S67: 0.80138889 | T67: - | U67: 0.80138889 | V67: 0.22638889
A68: Herrar senior_motion | B68: Borås Biathlon Race 7/3 | C68: 20 | D68: =Table1[[#This Row],[Skott]]-SUM(Table1[[#This Row],[T1]:[T5]]) -> 12 | E68: =IFERROR(-(SUM(Table1[[#This Row],[T1]:[T5]])-Table1[[#This Row],[Skott]])/Table1[[#This Row],[Skott]],"") -> 0.6 | F68: =IFERROR(LEFT(Table1[[#This Row],[L]],1)*1,"") -> 1 | G68: =IFERROR(RIGHT(LEFT(Table1[[#This Row],[L]],2),1)*1,"") -> 1 | I68: =IFERROR(LEFT(Table1[[#This Row],[S]],1)*1,"") -> 3 | J68: =IFERROR(RIGHT(LEFT(Table1[[#This Row],[S]],2),1)*1,"") -> 3 | K68: =IF(Table1[[#This Row],[Plac]]="",0,IFERROR(VLOOKUP(Table1[[#This Row],[Plac]],Referens!$B$16:$C$28,2,0),1)) -> 15 | L68: =Table1[[#This Row],[Poäng]] -> 15 | M68: 1 | N68: 94 | O68: Adam Nelin | P68: Borås Skidlöparklubb | Q68: 1 | R68: 3 | S68: 0.68611111 | T68: - | U68: 0.68611111 | V68: -
A69: Öppen klass/nybörjare | B69: Nässjö 18/1 Kortdistans | C69: 10 | D69: =Table1[[#This Row],[Skott]]-SUM(Table1[[#This Row],[T1]:[T5]]) -> 7 | E69: =IFERROR(-(SUM(Table1[[#This Row],[T1]:[T5]])-Table1[[#This Row],[Skott]])/Table1[[#This Row],[Skott]],"") -> 0.7 | F69: =IFERROR(LEFT(Table1[[#This Row],[L]],1)*1,"") -> 1 | G69: =IFERROR(RIGHT(LEFT(Table1[[#This Row],[L]],2),1)*1,"") -> 2 | H69: =IFERROR(IF(Table1[[#This Row],[Skott]]=10,"",RIGHT(Table1[[#This Row],[L]],1))*1,"") | I69: =IFERROR(LEFT(Table1[[#This Row],[S]],1)*1,"") | J69: =IFERROR(RIGHT(LEFT(Table1[[#This Row],[S]],2),1)*1,"") | L69: 5 | N69: 64 | O69: Edvin Rostedt | P69: Boxholm-Ekeby Skidklubb | Q69: 12 | S69: 0.51111111 | T69: - | U69: 0.51111111 | V69: 0.28680556
A70: Herrar 16-17 | B70: Nässjö 18/1 Kortdistans | C70: 20 | D70: =Table1[[#This Row],[Skott]]-SUM(Table1[[#This Row],[T1]:[T5]]) -> 9 | E70: =IFERROR(-(SUM(Table1[[#This Row],[T1]:[T5]])-Table1[[#This Row],[Skott]])/Table1[[#This Row],[Skott]],"") -> 0.45 | F70: =IFERROR(LEFT(Table1[[#This Row],[L]],1)*1,"") -> 2 | G70: =IFERROR(RIGHT(LEFT(Table1[[#This Row],[L]],2),1)*1,"") -> 3 | H70: =IFERROR(IF(Table1[[#This Row],[Skott]]=10,"",RIGHT(Table1[[#This Row],[L]],1))*1,"") -> 3 | I70: =IFERROR(LEFT(Table1[[#This Row],[S]],1)*1,"") -> 2 | J70: =IFERROR(RIGHT(LEFT(Table1[[#This Row],[S]],2),1)*1,"") -> 1 | K70: =IF(Table1[[#This Row],[Plac]]="",0,IFERROR(VLOOKUP(Table1[[#This Row],[Plac]],Referens!$B$16:$C$28,2,0),1)) -> 12 | L70: =Table1[[#This Row],[Poäng]] -> 12 | M70: 3 | N70: 91 | O70: Wille Selkee | P70: Boxholm-Ekeby Skidklubb | Q70: 23 | R70: 21 | S70: 1.23125 | T70: 0.25 | U70: 1.48125 | V70: 0.048611111
A71: Öppen klass/nybörjare | B71: Kimstadträffen 8/3 | C71: 10 | D71: =Table1[[#This Row],[Skott]]-SUM(Table1[[#This Row],[T1]:[T5]]) -> 9 | E71: =IFERROR(-(SUM(Table1[[#This Row],[T1]:[T5]])-Table1[[#This Row],[Skott]])/Table1[[#This Row],[Skott]],"") -> 0.9 | F71: =IFERROR(LEFT(Table1[[#This Row],[L]],1)*1,"") -> 1 | G71: =IFERROR(RIGHT(LEFT(Table1[[#This Row],[L]],2),1)*1,"") -> 0 | H71: =IFERROR(IF(Table1[[#This Row],[Skott]]=10,"",RIGHT(Table1[[#This Row],[L]],1))*1,"") | I71: =IFERROR(LEFT(Table1[[#This Row],[S]],1)*1,"") | J71: =IFERROR(RIGHT(LEFT(Table1[[#This Row],[S]],2),1)*1,"") | L71: 5 | N71: 6 | O71: Astrid Bring | P71: Boxholm-Ekeby Skidklubb | Q71: 10 | S71: - | T71: - | U71: - | V71: -
A72: Öppen klass/nybörjare | B72: Kimstadträffen 8/3 | C72: 10 | D72: =Table1[[#This Row],[Skott]]-SUM(Table1[[#This Row],[T1]:[T5]]) -> 8 | E72: =IFERROR(-(SUM(Table1[[#This Row],[T1]:[T5]])-Table1[[#This Row],[Skott]])/Table1[[#This Row],[Skott]],"") -> 0.8 | F72: =IFERROR(LEFT(Table1[[#This Row],[L]],1)*1,"") -> 1 | G72: =IFERROR(RIGHT(LEFT(Table1[[#This Row],[L]],2),1)*1,"") -> 1 | H72: =IFERROR(IF(Table1[[#This Row],[Skott]]=10,"",RIGHT(Table1[[#This Row],[L]],1))*1,"") | I72: =IFERROR(LEFT(Table1[[#This Row],[S]],1)*1,"") | J72: =IFERROR(RIGHT(LEFT(Table1[[#This Row],[S]],2),1)*1,"") | L72: 5 | N72: 8 | O72: Ingrid Bring | P72: Boxholm-Ekeby Skidklubb | Q72: 1 | S72: - | T72: - | U72: - | V72: -
A73: Öppen klass/nybörjare | B73: Kimstadträffen 8/3 | C73: 10 | D73: =Table1[[#This Row],[Skott]]-SUM(Table1[[#This Row],[T1]:[T5]]) -> 2 | E73: =IFERROR(-(SUM(Table1[[#This Row],[T1]:[T5]])-Table1[[#This Row],[Skott]])/Table1[[#This Row],[Skott]],"") -> 0.2 | F73: =IFERROR(LEFT(Table1[[#This Row],[L]],1)*1,"") -> 4 | G73: =IFERROR(RIGHT(LEFT(Table1[[#This Row],[L]],2),1)*1,"") -> 4 | H73: =IFERROR(IF(Table1[[#This Row],[Skott]]=10,"",RIGHT(Table1[[#This Row],[L]],1))*1,"") | I73: =IFERROR(LEFT(Table1[[#This Row],[S]],1)*1,"") | J73: =IFERROR(RIGHT(LEFT(Table1[[#This Row],[S]],2),1)*1,"") | L73: 5 | N73: 22 | O73: Edit Bring | P73: Boxholm-Ekeby Skidklubb | Q73: 44 | S73: - | T73: - | U73: - | V73: -
A74: Öppen klass/nybörjare | B74: Kimstadträffen 8/3 | C74: 10 | D74: =Table1[[#This Row],[Skott]]-SUM(Table1[[#This Row],[T1]:[T5]]) -> 2 | E74: =IFERROR(-(SUM(Table1[[#This Row],[T1]:[T5]])-Table1[[#This Row],[Skott]])/Table1[[#This Row],[Skott]],"") -> 0.2 | F74: =IFERROR(LEFT(Table1[[#This Row],[L]],1)*1,"") -> 4 | G74: =IFERROR(RIGHT(LEFT(Table1[[#This Row],[L]],2),1)*1,"") -> 4 | H74: =IFERROR(IF(Table1[[#This Row],[Skott]]=10,"",RIGHT(Table1[[#This Row],[L]],1))*1,"") | I74: =IFERROR(LEFT(Table1[[#This Row],[S]],1)*1,"") | J74: =IFERROR(RIGHT(LEFT(Table1[[#This Row],[S]],2),1)*1,"") | L74: 5 | N74: 26 | O74: Ellen Rostedt | P74: Boxholm-Ekeby Skidklubb | Q74: 44 | S74: - | T74: - | U74: - | V74: -
A75: Pojkar 12-13 | B75: Kimstadträffen 8/3 | C75: 15 | D75: =Table1[[#This Row],[Skott]]-SUM(Table1[[#This Row],[T1]:[T5]]) -> 1 | E75: =IFERROR(-(SUM(Table1[[#This Row],[T1]:[T5]])-Table1[[#This Row],[Skott]])/Table1[[#This Row],[Skott]],"") -> 0.066666667 | F75: =IFERROR(LEFT(Table1[[#This Row],[L]],1)*1,"") -> 5 | G75: =IFERROR(RIGHT(LEFT(Table1[[#This Row],[L]],2),1)*1,"") -> 5 | H75: =IFERROR(IF(Table1[[#This Row],[Skott]]=10,"",RIGHT(Table1[[#This Row],[L]],1))*1,"") -> 4 | I75: =IFERROR(LEFT(Table1[[#This Row],[S]],1)*1,"") | J75: =IFERROR(RIGHT(LEFT(Table1[[#This Row],[S]],2),1)*1,"") | K75: =IF(Table1[[#This Row],[Plac]]="",0,IFERROR(VLOOKUP(Table1[[#This Row],[Plac]],Referens!$B$16:$C$28,2,0),1)) -> 7 | L75: =Table1[[#This Row],[Poäng]] -> 7 | M75: 8 | N75: 101 | O75: Edvin Rostedt | P75: Boxholm-Ekeby Skidklubb | Q75: 554 | S75: 1.0027778 | T75: 0.29166667 | U75: 1.2944444 | V75: 0.53055556
A76: Herrar 16-17 | B76: Kimstadträffen 8/3 | F76: =IFERROR(LEFT(Table1[[#This Row],[L]],1)*1,"") -> 2 | G76: =IFERROR(RIGHT(LEFT(Table1[[#This Row],[L]],2),1)*1,"") -> 4 | I76: =IFERROR(LEFT(Table1[[#This Row],[S]],1)*1,"") -> 1 | J76: =IFERROR(RIGHT(LEFT(Table1[[#This Row],[S]],2),1)*1,"") -> 1 | N76: 141 | O76: Wille Selkee | P76: Boxholm-Ekeby Skidklubb | Q76: 24 | R76: 1 | S76: - | T76: 0.21875 | U76: 0.21875 | W76: DNF
A77: Damer 16-17 | B77: Borås Biathlon Race 7/3 | C77: 20 | D77: =Table1[[#This Row],[Skott]]-SUM(Table1[[#This Row],[T1]:[T5]]) -> 12 | E77: =IFERROR(-(SUM(Table1[[#This Row],[T1]:[T5]])-Table1[[#This Row],[Skott]])/Table1[[#This Row],[Skott]],"") -> 0.6 | F77: =IFERROR(LEFT(Table1[[#This Row],[L]],1)*1,"") -> 1 | G77: =IFERROR(RIGHT(LEFT(Table1[[#This Row],[L]],2),1)*1,"") -> 1 | I77: =IFERROR(LEFT(Table1[[#This Row],[S]],1)*1,"") -> 3 | J77: =IFERROR(RIGHT(LEFT(Table1[[#This Row],[S]],2),1)*1,"") -> 3 | K77: =IF(Table1[[#This Row],[Plac]]="",0,IFERROR(VLOOKUP(Table1[[#This Row],[Plac]],Referens!$B$16:$C$28,2,0),1)) -> 15 | L77: =Table1[[#This Row],[Poäng]] -> 15 | M77: 1 | N77: 81 | O77: Solveig Ghisler-Solvang | P77: DEN | Q77: 1 | R77: 3 | S77: 0.97916667 | T77: - | U77: 0.97916667 | V77: -
A78: Herrar 16-17 | B78: Borås Biathlon Race 7/3 | C78: 20 | D78: =Table1[[#This Row],[Skott]]-SUM(Table1[[#This Row],[T1]:[T5]]) -> 6 | E78: =IFERROR(-(SUM(Table1[[#This Row],[T1]:[T5]])-Table1[[#This Row],[Skott]])/Table1[[#This Row],[Skott]],"") -> 0.3 | F78: =IFERROR(LEFT(Table1[[#This Row],[L]],1)*1,"") -> 3 | G78: =IFERROR(RIGHT(LEFT(Table1[[#This Row],[L]],2),1)*1,"") -> 3 | I78: =IFERROR(LEFT(Table1[[#This Row],[S]],1)*1,"") -> 4 | J78: =IFERROR(RIGHT(LEFT(Table1[[#This Row],[S]],2),1)*1,"") -> 4 | K78: =IF(Table1[[#This Row],[Plac]]="",0,IFERROR(VLOOKUP(Table1[[#This Row],[Plac]],Referens!$B$16:$C$28,2,0),1)) -> 15 | L78: =Table1[[#This Row],[Poäng]] -> 15 | M78: 1 | N78: 84 | O78: Eskild Carlson | P78: DEN | Q78: 3 | R78: 4 | S78: 0.98333333 | T78: - | U78: 0.98333333 | V78: -
A79: Pojkar 10-11 | B79: Nässjö 18/1 Kortdistans | C79: 10 | D79: =Table1[[#This Row],[Skott]]-SUM(Table1[[#This Row],[T1]:[T5]]) -> 5 | E79: =IFERROR(-(SUM(Table1[[#This Row],[T1]:[T5]])-Table1[[#This Row],[Skott]])/Table1[[#This Row],[Skott]],"") -> 0.5 | F79: =IFERROR(LEFT(Table1[[#This Row],[L]],1)*1,"") -> 2 | G79: =IFERROR(RIGHT(LEFT(Table1[[#This Row],[L]],2),1)*1,"") -> 3 | H79: =IFERROR(IF(Table1[[#This Row],[Skott]]=10,"",RIGHT(Table1[[#This Row],[L]],1))*1,"") | I79: =IFERROR(LEFT(Table1[[#This Row],[S]],1)*1,"") | J79: =IFERROR(RIGHT(LEFT(Table1[[#This Row],[S]],2),1)*1,"") | K79: =IF(Table1[[#This Row],[Plac]]="",0,IFERROR(VLOOKUP(Table1[[#This Row],[Plac]],Referens!$B$16:$C$28,2,0),1)) -> 12 | L79: 5 | M79: 3 | N79: 1 | O79: Jamie Qvist | P79: Föreningen Nässjö Ski | Q79: 23 | S79: 0.38125 | T79: 0.10416667 | U79: 0.48541667 | V79: 0.16736111
A80: Flickor 10-11 | B80: Nässjö 18/1 Kortdistans | C80: 10 | D80: =Table1[[#This Row],[Skott]]-SUM(Table1[[#This Row],[T1]:[T5]]) -> 7 | E80: =IFERROR(-(SUM(Table1[[#This Row],[T1]:[T5]])-Table1[[#This Row],[Skott]])/Table1[[#This Row],[Skott]],"") -> 0.7 | F80: =IFERROR(LEFT(Table1[[#This Row],[L]],1)*1,"") -> 2 | G80: =IFERROR(RIGHT(LEFT(Table1[[#This Row],[L]],2),1)*1,"") -> 1 | H80: =IFERROR(IF(Table1[[#This Row],[Skott]]=10,"",RIGHT(Table1[[#This Row],[L]],1))*1,"") | I80: =IFERROR(LEFT(Table1[[#This Row],[S]],1)*1,"") | J80: =IFERROR(RIGHT(LEFT(Table1[[#This Row],[S]],2),1)*1,"") | K80: =IF(Table1[[#This Row],[Plac]]="",0,IFERROR(VLOOKUP(Table1[[#This Row],[Plac]],Referens!$B$16:$C$28,2,0),1)) -> 13 | L80: 5 | M80: 2 | N80: 16 | O80: Amelia Fjärrnäs | P80: Föreningen Nässjö Ski | Q80: 21 | S80: 0.36805556 | T80: 0.0625 | U80: 0.43055556 | V80: 0.046527778
A81: Pojkar 12-13 | B81: Nässjö 18/1 Kortdistans | C81: 15 | D81: =Table1[[#This Row],[Skott]]-SUM(Table1[[#This Row],[T1]:[T5]]) -> 9 | E81: =IFERROR(-(SUM(Table1[[#This Row],[T1]:[T5]])-Table1[[#This Row],[Skott]])/Table1[[#This Row],[Skott]],"") -> 0.6 | F81: =IFERROR(LEFT(Table1[[#This Row],[L]],1)*1,"") -> 0 | G81: =IFERROR(RIGHT(LEFT(Table1[[#This Row],[L]],2),1)*1,"") -> 2 | H81: =IFERROR(IF(Table1[[#This Row],[Skott]]=10,"",RIGHT(Table1[[#This Row],[L]],1))*1,"") -> 4 | I81: =IFERROR(LEFT(Table1[[#This Row],[S]],1)*1,"") | J81: =IFERROR(RIGHT(LEFT(Table1[[#This Row],[S]],2),1)*1,"") | K81: =IF(Table1[[#This Row],[Plac]]="",0,IFERROR(VLOOKUP(Table1[[#This Row],[Plac]],Referens!$B$16:$C$28,2,0),1)) -> 10 | L81: =Table1[[#This Row],[Poäng]] -> 10 | M81: 5 | N81: 31 | O81: Felix Hamrin | P81: Föreningen Nässjö Ski | Q81: 024 | S81: 0.58055556 | T81: 0.125 | U81: 0.70555556 | V81: 0.11111111
A82: Pojkar 12-13 | B82: Nässjö 18/1 Kortdistans | C82: 15 | D82: =Table1[[#This Row],[Skott]]-SUM(Table1[[#This Row],[T1]:[T5]]) -> 7 | E82: =IFERROR(-(SUM(Table1[[#This Row],[T1]:[T5]])-Table1[[#This Row],[Skott]])/Table1[[#This Row],[Skott]],"") -> 0.46666667 | F82: =IFERROR(LEFT(Table1[[#This Row],[L]],1)*1,"") -> 3 | G82: =IFERROR(RIGHT(LEFT(Table1[[#This Row],[L]],2),1)*1,"") -> 4 | H82: =IFERROR(IF(Table1[[#This Row],[Skott]]=10,"",RIGHT(Table1[[#This Row],[L]],1))*1,"") -> 1 | I82: =IFERROR(LEFT(Table1[[#This Row],[S]],1)*1,"") | J82: =IFERROR(RIGHT(LEFT(Table1[[#This Row],[S]],2),1)*1,"") | K82: =IF(Table1[[#This Row],[Plac]]="",0,IFERROR(VLOOKUP(Table1[[#This Row],[Plac]],Referens!$B$16:$C$28,2,0),1)) -> 9 | L82: =Table1[[#This Row],[Poäng]] -> 9 | M82: 6 | N82: 32 | O82: Sam Boberg | P82: Föreningen Nässjö Ski | Q82: 341 | S82: 0.55972222 | T82: 0.16666667 | U82: 0.72638889 | V82: 0.13194444
A83: Pojkar 12-13 | B83: Nässjö 18/1 Kortdistans | C83: 15 | D83: =Table1[[#This Row],[Skott]]-SUM(Table1[[#This Row],[T1]:[T5]]) -> 4 | E83: =IFERROR(-(SUM(Table1[[#This Row],[T1]:[T5]])-Table1[[#This Row],[Skott]])/Table1[[#This Row],[Skott]],"") -> 0.26666667 | F83: =IFERROR(LEFT(Table1[[#This Row],[L]],1)*1,"") -> 4 | G83: =IFERROR(RIGHT(LEFT(Table1[[#This Row],[L]],2),1)*1,"") -> 2 | H83: =IFERROR(IF(Table1[[#This Row],[Skott]]=10,"",RIGHT(Table1[[#This Row],[L]],1))*1,"") -> 5 | I83: =IFERROR(LEFT(Table1[[#This Row],[S]],1)*1,"") | J83: =IFERROR(RIGHT(LEFT(Table1[[#This Row],[S]],2),1)*1,"") | K83: =IF(Table1[[#This Row],[Plac]]="",0,IFERROR(VLOOKUP(Table1[[#This Row],[Plac]],Referens!$B$16:$C$28,2,0),1)) -> 5 | L83: =Table1[[#This Row],[Poäng]] -> 5 | M83: 10 | N83: 36 | O83: Emil Lundqvist | P83: Föreningen Nässjö Ski | Q83: 425 | S83: 0.61180556 | T83: 0.22916667 | U83: 0.84097222 | V83: 0.24652778
A84: Pojkar 12-13 | B84: Nässjö 18/1 Kortdistans | C84: 15 | D84: =Table1[[#This Row],[Skott]]-SUM(Table1[[#This Row],[T1]:[T5]]) -> 5 | E84: =IFERROR(-(SUM(Table1[[#This Row],[T1]:[T5]])-Table1[[#This Row],[Skott]])/Table1[[#This Row],[Skott]],"") -> 0.33333333 | F84: =IFERROR(LEFT(Table1[[#This Row],[L]],1)*1,"") -> 2 | G84: =IFERROR(RIGHT(LEFT(Table1[[#This Row],[L]],2),1)*1,"") -> 4 | H84: =IFERROR(IF(Table1[[#This Row],[Skott]]=10,"",RIGHT(Table1[[#This Row],[L]],1))*1,"") -> 4 | I84: =IFERROR(LEFT(Table1[[#This Row],[S]],1)*1,"") | J84: =IFERROR(RIGHT(LEFT(Table1[[#This Row],[S]],2),1)*1,"") | K84: =IF(Table1[[#This Row],[Plac]]="",0,IFERROR(VLOOKUP(Table1[[#This Row],[Plac]],Referens!$B$16:$C$28,2,0),1)) -> 2 | L84: =Table1[[#This Row],[Poäng]] -> 2 | M84: 13 | N84: 26 | O84: Theodor Hörnberg | P84: Föreningen Nässjö Ski | Q84: 244 | S84: 0.85625 | T84: 0.20833333 | U84: 1.0645833 | V84: 0.47013889
A85: Öppen klass/nybörjare | B85: Nässjö 18/1 Kortdistans | C85: 10 | D85: =Table1[[#This Row],[Skott]]-SUM(Table1[[#This Row],[T1]:[T5]]) -> 5 | E85: =IFERROR(-(SUM(Table1[[#This Row],[T1]:[T5]])-Table1[[#This Row],[Skott]])/Table1[[#This Row],[Skott]],"") -> 0.5 | F85: =IFERROR(LEFT(Table1[[#This Row],[L]],1)*1,"") -> 4 | G85: =IFERROR(RIGHT(LEFT(Table1[[#This Row],[L]],2),1)*1,"") -> 1 | H85: =IFERROR(IF(Table1[[#This Row],[Skott]]=10,"",RIGHT(Table1[[#This Row],[L]],1))*1,"") | I85: =IFERROR(LEFT(Table1[[#This Row],[S]],1)*1,"") | J85: =IFERROR(RIGHT(LEFT(Table1[[#This Row],[S]],2),1)*1,"") | K85: =IF(Table1[[#This Row],[Plac]]="",0,IFERROR(VLOOKUP(Table1[[#This Row],[Plac]],Referens!$B$16:$C$28,2,0),1)) -> 0 | L85: 5 | N85: 42 | O85: Agnes Boberg | P85: Föreningen Nässjö Ski | Q85: 41 | S85: 0.27222222 | T85: - | U85: 0.27222222 | V85: 0.050694444
A86: Flickor 12-13 | B86: Nässjö 18/1 Kortdistans | C86: 15 | D86: =Table1[[#This Row],[Skott]]-SUM(Table1[[#This Row],[T1]:[T5]]) -> 4 | E86: =IFERROR(-(SUM(Table1[[#This Row],[T1]:[T5]])-Table1[[#This Row],[Skott]])/Table1[[#This Row],[Skott]],"") -> 0.26666667 | F86: =IFERROR(LEFT(Table1[[#This Row],[L]],1)*1,"") -> 4 | G86: =IFERROR(RIGHT(LEFT(Table1[[#This Row],[L]],2),1)*1,"") -> 5 | H86: =IFERROR(IF(Table1[[#This Row],[Skott]]=10,"",RIGHT(Table1[[#This Row],[L]],1))*1,"") -> 2 | I86: =IFERROR(LEFT(Table1[[#This Row],[S]],1)*1,"") | J86: =IFERROR(RIGHT(LEFT(Table1[[#This Row],[S]],2),1)*1,"") | K86: =IF(Table1[[#This Row],[Plac]]="",0,IFERROR(VLOOKUP(Table1[[#This Row],[Plac]],Referens!$B$16:$C$28,2,0),1)) -> 7 | L86: =Table1[[#This Row],[Poäng]] -> 7 | M86: 8 | N86: 51 | O86: Siri Isaksson Eggimann | P86: Föreningen Nässjö Ski | Q86: 452 | S86: 0.63125 | T86: 0.22916667 | U86: 0.86041667 | V86: 0.21041667
A87: Flickor 12-13 | B87: Nässjö 18/1 Kortdistans | C87: 15 | D87: =Table1[[#This Row],[Skott]]-SUM(Table1[[#This Row],[T1]:[T5]]) -> 11 | E87: =IFERROR(-(SUM(Table1[[#This Row],[T1]:[T5]])-Table1[[#This Row],[Skott]])/Table1[[#This Row],[Skott]],"") -> 0.73333333 | F87: =IFERROR(LEFT(Table1[[#This Row],[L]],1)*1,"") -> 1 | G87: =IFERROR(RIGHT(LEFT(Table1[[#This Row],[L]],2),1)*1,"") -> 1 | H87: =IFERROR(IF(Table1[[#This Row],[Skott]]=10,"",RIGHT(Table1[[#This Row],[L]],1))*1,"") -> 2 | I87: =IFERROR(LEFT(Table1[[#This Row],[S]],1)*1,"") | J87: =IFERROR(RIGHT(LEFT(Table1[[#This Row],[S]],2),1)*1,"") | K87: =IF(Table1[[#This Row],[Plac]]="",0,IFERROR(VLOOKUP(Table1[[#This Row],[Plac]],Referens!$B$16:$C$28,2,0),1)) -> 6 | L87: =Table1[[#This Row],[Poäng]] -> 6 | M87: 9 | N87: 58 | O87: Bonnie Bohlin | P87: Föreningen Nässjö Ski | Q87: 112 | S87: 0.79027778 | T87: 0.083333333 | U87: 0.87361111 | V87: 0.22361111
A88: Öppen klass/nybörjare | B88: Nässjö 18/1 Kortdistans | F88: =IFERROR(LEFT(Table1[[#This Row],[L]],1)*1,"") | G88: =IFERROR(RIGHT(LEFT(Table1[[#This Row],[L]],2),1)*1,"") | H88: =IFERROR(IF(Table1[[#This Row],[Skott]]=10,"",RIGHT(Table1[[#This Row],[L]],1))*1,"") | I88: =IFERROR(LEFT(Table1[[#This Row],[S]],1)*1,"") | J88: =IFERROR(RIGHT(LEFT(Table1[[#This Row],[S]],2),1)*1,"") | L88: 5 | N88: 63 | O88: Milo Qvist | P88: Föreningen Nässjö Ski | S88: - | T88: - | U88: - | W88: DNS
A89: Pojkar 14-15 | B89: Nässjö 18/1 Kortdistans | C89: 15 | D89: =Table1[[#This Row],[Skott]]-SUM(Table1[[#This Row],[T1]:[T5]]) -> 9 | E89: =IFERROR(-(SUM(Table1[[#This Row],[T1]:[T5]])-Table1[[#This Row],[Skott]])/Table1[[#This Row],[Skott]],"") -> 0.6 | F89: =IFERROR(LEFT(Table1[[#This Row],[L]],1)*1,"") -> 0 | G89: =IFERROR(RIGHT(LEFT(Table1[[#This Row],[L]],2),1)*1,"") -> 4 | H89: =IFERROR(IF(Table1[[#This Row],[Skott]]=10,"",RIGHT(Table1[[#This Row],[L]],1))*1,"") -> 2 | I89: =IFERROR(LEFT(Table1[[#This Row],[S]],1)*1,"") | J89: =IFERROR(RIGHT(LEFT(Table1[[#This Row],[S]],2),1)*1,"") | K89: =IF(Table1[[#This Row],[Plac]]="",0,IFERROR(VLOOKUP(Table1[[#This Row],[Plac]],Referens!$B$16:$C$28,2,0),1)) -> 12 | L89: =Table1[[#This Row],[Poäng]] -> 12 | M89: 3 | N89: 75 | O89: Leo Isaksson Eggimann | P89: Föreningen Nässjö Ski | Q89: 042 | S89: 0.825 | T89: 0.125 | U89: 0.95 | V89: 0.13680556
A90: Pojkar 14-15 | B90: Nässjö 18/1 Kortdistans | C90: 15 | D90: =Table1[[#This Row],[Skott]]-SUM(Table1[[#This Row],[T1]:[T5]]) -> 9 | E90: =IFERROR(-(SUM(Table1[[#This Row],[T1]:[T5]])-Table1[[#This Row],[Skott]])/Table1[[#This Row],[Skott]],"") -> 0.6 | F90: =IFERROR(LEFT(Table1[[#This Row],[L]],1)*1,"") -> 3 | G90: =IFERROR(RIGHT(LEFT(Table1[[#This Row],[L]],2),1)*1,"") -> 0 | H90: =IFERROR(IF(Table1[[#This Row],[Skott]]=10,"",RIGHT(Table1[[#This Row],[L]],1))*1,"") -> 3 | I90: =IFERROR(LEFT(Table1[[#This Row],[S]],1)*1,"") | J90: =IFERROR(RIGHT(LEFT(Table1[[#This Row],[S]],2),1)*1,"") | K90: =IF(Table1[[#This Row],[Plac]]="",0,IFERROR(VLOOKUP(Table1[[#This Row],[Plac]],Referens!$B$16:$C$28,2,0),1)) -> 11 | L90: =Table1[[#This Row],[Poäng]] -> 11 | M90: 4 | N90: 72 | O90: Alex Boberg | P90: Föreningen Nässjö Ski | Q90: 303 | S90: 0.8625 | T90: 0.125 | U90: 0.9875 | V90: 0.17430556
A91: Pojkar 14-15 | B91: Nässjö 18/1 Kortdistans | C91: 15 | D91: =Table1[[#This Row],[Skott]]-SUM(Table1[[#This Row],[T1]:[T5]]) -> 5 | E91: =IFERROR(-(SUM(Table1[[#This Row],[T1]:[T5]])-Table1[[#This Row],[Skott]])/Table1[[#This Row],[Skott]],"") -> 0.33333333 | F91: =IFERROR(LEFT(Table1[[#This Row],[L]],1)*1,"") -> 4 | G91: =IFERROR(RIGHT(LEFT(Table1[[#This Row],[L]],2),1)*1,"") -> 4 | H91: =IFERROR(IF(Table1[[#This Row],[Skott]]=10,"",RIGHT(Table1[[#This Row],[L]],1))*1,"") -> 2 | I91: =IFERROR(LEFT(Table1[[#This Row],[S]],1)*1,"") | J91: =IFERROR(RIGHT(LEFT(Table1[[#This Row],[S]],2),1)*1,"") | K91: =IF(Table1[[#This Row],[Plac]]="",0,IFERROR(VLOOKUP(Table1[[#This Row],[Plac]],Referens!$B$16:$C$28,2,0),1)) -> 8 | L91: =Table1[[#This Row],[Poäng]] -> 8 | M91: 7 | N91: 77 | O91: Liam Fjärrnäs | P91: Föreningen Nässjö Ski | Q91: 442 | S91: 0.85694444 | T91: 0.20833333 | U91: 1.0652778 | V91: 0.25208333
A92: Pojkar 14-15 | B92: Nässjö 18/1 Kortdistans | C92: 15 | D92: =Table1[[#This Row],[Skott]]-SUM(Table1[[#This Row],[T1]:[T5]]) -> 5 | E92: =IFERROR(-(SUM(Table1[[#This Row],[T1]:[T5]])-Table1[[#This Row],[Skott]])/Table1[[#This Row],[Skott]],"") -> 0.33333333 | F92: =IFERROR(LEFT(Table1[[#This Row],[L]],1)*1,"") -> 1 | G92: =IFERROR(RIGHT(LEFT(Table1[[#This Row],[L]],2),1)*1,"") -> 5 | H92: =IFERROR(IF(Table1[[#This Row],[Skott]]=10,"",RIGHT(Table1[[#This Row],[L]],1))*1,"") -> 4 | I92: =IFERROR(LEFT(Table1[[#This Row],[S]],1)*1,"") | J92: =IFERROR(RIGHT(LEFT(Table1[[#This Row],[S]],2),1)*1,"") | K92: =IF(Table1[[#This Row],[Plac]]="",0,IFERROR(VLOOKUP(Table1[[#This Row],[Plac]],Referens!$B$16:$C$28,2,0),1)) -> 6 | L92: =Table1[[#This Row],[Poäng]] -> 6 | M92: 9 | N92: 73 | O92: Hugo Grändemark | P92: Föreningen Nässjö Ski | Q92: 154 | S92: 0.92430556 | T92: 0.20833333 | U92: 1.1326389 | V92: 0.31944444
A93: Pojkar 14-15 | B93: Nässjö 18/1 Kortdistans | F93: =IFERROR(LEFT(Table1[[#This Row],[L]],1)*1,"") | G93: =IFERROR(RIGHT(LEFT(Table1[[#This Row],[L]],2),1)*1,"") | H93: =IFERROR(IF(Table1[[#This Row],[Skott]]=10,"",RIGHT(Table1[[#This Row],[L]],1))*1,"") | I93: =IFERROR(LEFT(Table1[[#This Row],[S]],1)*1,"") | J93: =IFERROR(RIGHT(LEFT(Table1[[#This Row],[S]],2),1)*1,"") | N93: 79 | O93: Oliver Qvist | P93: Föreningen Nässjö Ski | S93: - | T93: - | U93: - | W93: DNS
A94: Flickor 14-15 | B94: Nässjö 18/1 Kortdistans | C94: 15 | D94: =Table1[[#This Row],[Skott]]-SUM(Table1[[#This Row],[T1]:[T5]]) -> 10 | E94: =IFERROR(-(SUM(Table1[[#This Row],[T1]:[T5]])-Table1[[#This Row],[Skott]])/Table1[[#This Row],[Skott]],"") -> 0.66666667 | F94: =IFERROR(LEFT(Table1[[#This Row],[L]],1)*1,"") -> 2 | G94: =IFERROR(RIGHT(LEFT(Table1[[#This Row],[L]],2),1)*1,"") -> 2 | H94: =IFERROR(IF(Table1[[#This Row],[Skott]]=10,"",RIGHT(Table1[[#This Row],[L]],1))*1,"") -> 1 | I94: =IFERROR(LEFT(Table1[[#This Row],[S]],1)*1,"") | J94: =IFERROR(RIGHT(LEFT(Table1[[#This Row],[S]],2),1)*1,"") | K94: =IF(Table1[[#This Row],[Plac]]="",0,IFERROR(VLOOKUP(Table1[[#This Row],[Plac]],Referens!$B$16:$C$28,2,0),1)) -> 11 | L94: =Table1[[#This Row],[Poäng]] -> 11 | M94: 4 | N94: 83 | O94: Isabelle Hörnberg | P94: Föreningen Nässjö Ski | Q94: 221 | S94: 1.1020833 | T94: 0.10416667 | U94: 1.20625 | V94: 0.31875
A95: Flickor 14-15 | B95: Nässjö 18/1 Kortdistans | F95: =IFERROR(LEFT(Table1[[#This Row],[L]],1)*1,"") | G95: =IFERROR(RIGHT(LEFT(Table1[[#This Row],[L]],2),1)*1,"") | H95: =IFERROR(IF(Table1[[#This Row],[Skott]]=10,"",RIGHT(Table1[[#This Row],[L]],1))*1,"") | I95: =IFERROR(LEFT(Table1[[#This Row],[S]],1)*1,"") | J95: =IFERROR(RIGHT(LEFT(Table1[[#This Row],[S]],2),1)*1,"") | N95: 87 | O95: Alma Lundqvist | P95: Föreningen Nässjö Ski | S95: - | T95: - | U95: - | W95: DNS
A96: Herrar 16-17 | B96: Nässjö 18/1 Kortdistans | C96: 20 | D96: =Table1[[#This Row],[Skott]]-SUM(Table1[[#This Row],[T1]:[T5]]) -> 8 | E96: =IFERROR(-(SUM(Table1[[#This Row],[T1]:[T5]])-Table1[[#This Row],[Skott]])/Table1[[#This Row],[Skott]],"") -> 0.4 | F96: =IFERROR(LEFT(Table1[[#This Row],[L]],1)*1,"") -> 1 | G96: =IFERROR(RIGHT(LEFT(Table1[[#This Row],[L]],2),1)*1,"") -> 2 | H96: =IFERROR(IF(Table1[[#This Row],[Skott]]=10,"",RIGHT(Table1[[#This Row],[L]],1))*1,"") -> 2 | I96: =IFERROR(LEFT(Table1[[#This Row],[S]],1)*1,"") -> 4 | J96: =IFERROR(RIGHT(LEFT(Table1[[#This Row],[S]],2),1)*1,"") -> 3 | K96: =IF(Table1[[#This Row],[Plac]]="",0,IFERROR(VLOOKUP(Table1[[#This Row],[Plac]],Referens!$B$16:$C$28,2,0),1)) -> 15 | L96: =Table1[[#This Row],[Poäng]] -> 15 | M96: 1 | N96: 90 | O96: Hampus Karlsson | P96: Föreningen Nässjö Ski | Q96: 12 | R96: 43 | S96: 1.1201389 | T96: 0.3125 | U96: 1.4326389 | V96: -
A97: Damer senior_motion | B97: Nässjö 18/1 Kortdistans | C97: 20 | D97: =Table1[[#This Row],[Skott]]-SUM(Table1[[#This Row],[T1]:[T5]]) -> 3 | E97: =IFERROR(-(SUM(Table1[[#This Row],[T1]:[T5]])-Table1[[#This Row],[Skott]])/Table1[[#This Row],[Skott]],"") -> 0.15 | F97: =IFERROR(LEFT(Table1[[#This Row],[L]],1)*1,"") -> 3 | G97: =IFERROR(RIGHT(LEFT(Table1[[#This Row],[L]],2),1)*1,"") -> 5 | I97: =IFERROR(LEFT(Table1[[#This Row],[S]],1)*1,"") -> 5 | J97: =IFERROR(RIGHT(LEFT(Table1[[#This Row],[S]],2),1)*1,"") -> 4 | K97: =IF(Table1[[#This Row],[Plac]]="",0,IFERROR(VLOOKUP(Table1[[#This Row],[Plac]],Referens!$B$16:$C$28,2,0),1)) -> 13 | L97: =Table1[[#This Row],[Poäng]] -> 13 | M97: 2 | N97: 108 | O97: Sara Fjärrnäs | P97: Föreningen Nässjö Ski | Q97: 35 | R97: 54 | S97: 1.1423611 | T97: 0.53125 | U97: 1.6736111 | V97: 0.21597222
A98: Pojkar 10-11 | B98: Trollhättan 31/1 Sprint | C98: 10 | D98: =Table1[[#This Row],[Skott]]-SUM(Table1[[#This Row],[T1]:[T5]]) -> 7 | E98: =IFERROR(-(SUM(Table1[[#This Row],[T1]:[T5]])-Table1[[#This Row],[Skott]])/Table1[[#This Row],[Skott]],"") -> 0.7 | F98: =IFERROR(LEFT(Table1[[#This Row],[L]],1)*1,"") -> 2 | G98: =IFERROR(RIGHT(LEFT(Table1[[#This Row],[L]],2),1)*1,"") -> 1 | H98: =IFERROR(IF(Table1[[#This Row],[Skott]]=10,"",RIGHT(Table1[[#This Row],[L]],1))*1,"") | I98: =IFERROR(LEFT(Table1[[#This Row],[S]],1)*1,"") | J98: =IFERROR(RIGHT(LEFT(Table1[[#This Row],[S]],2),1)*1,"") | K98: =IF(Table1[[#This Row],[Plac]]="",0,IFERROR(VLOOKUP(Table1[[#This Row],[Plac]],Referens!$B$16:$C$28,2,0),1)) -> 13 | L98: 5 | M98: 2 | N98: 3 | O98: Jamie Qvist | P98: Föreningen Nässjö Ski | Q98: 21 | S98: 0.5875 | T98: - | U98: 0.5875 | V98: 0.018055556
A99: Flickor 10-11 | B99: Trollhättan 31/1 Sprint | C99: 10 | D99: =Table1[[#This Row],[Skott]]-SUM(Table1[[#This Row],[T1]:[T5]]) -> 4 | E99: =IFERROR(-(SUM(Table1[[#This Row],[T1]:[T5]])-Table1[[#This Row],[Skott]])/Table1[[#This Row],[Skott]],"") -> 0.4 | F99: =IFERROR(LEFT(Table1[[#This Row],[L]],1)*1,"") -> 2 | G99: =IFERROR(RIGHT(LEFT(Table1[[#This Row],[L]],2),1)*1,"") -> 4 | H99: =IFERROR(IF(Table1[[#This Row],[Skott]]=10,"",RIGHT(Table1[[#This Row],[L]],1))*1,"") | I99: =IFERROR(LEFT(Table1[[#This Row],[S]],1)*1,"") | J99: =IFERROR(RIGHT(LEFT(Table1[[#This Row],[S]],2),1)*1,"") | K99: =IF(Table1[[#This Row],[Plac]]="",0,IFERROR(VLOOKUP(Table1[[#This Row],[Plac]],Referens!$B$16:$C$28,2,0),1)) -> 13 | L99: 5 | M99: 2 | N99: 9 | O99: Amelia Fjärrnäs | P99: Föreningen Nässjö Ski | Q99: 24 | S99: 0.59583333 | T99: - | U99: 0.59583333 | V99: 0.11597222
A100: Pojkar 12-13 | B100: Trollhättan 31/1 Sprint | C100: 10 | D100: =Table1[[#This Row],[Skott]]-SUM(Table1[[#This Row],[T1]:[T5]]) -> 6 | E100: =IFERROR(-(SUM(Table1[[#This Row],[T1]:[T5]])-Table1[[#This Row],[Skott]])/Table1[[#This Row],[Skott]],"") -> 0.6 | F100: =IFERROR(LEFT(Table1[[#This Row],[L]],1)*1,"") -> 2 | G100: =IFERROR(RIGHT(LEFT(Table1[[#This Row],[L]],2),1)*1,"") -> 2 | H100: =IFERROR(IF(Table1[[#This Row],[Skott]]=10,"",RIGHT(Table1[[#This Row],[L]],1))*1,"") | I100: =IFERROR(LEFT(Table1[[#This Row],[S]],1)*1,"") | J100: =IFERROR(RIGHT(LEFT(Table1[[#This Row],[S]],2),1)*1,"") | K100: =IF(Table1[[#This Row],[Plac]]="",0,IFERROR(VLOOKUP(Table1[[#This Row],[Plac]],Referens!$B$16:$C$28,2,0),1)) -> 10 | L100: =Table1[[#This Row],[Poäng]] -> 10 | M100: 5 | N100: 16 | O100: Felix Hamrin | P100: Föreningen Nässjö Ski | Q100: 22 | S100: 0.76527778 | T100: - | U100: 0.76527778 | V100: 0.10833333
...

Sheet Referens
A2: Följande regler gäller för tävlingar i Syd Cup
A3: Cupens deltävlingar kan variera i antal från år till år och mellan sommar- och vintercup. Om cupen består av tre deltävlingar räknas alla tävlingarna med i cupresultatet. Därefter beräknas resultaten enligt följande:
A5: 4 tävlingar = resultatet från en tävling räknas bort
A6: 5-7 tävlingar = resultatet från två tävlingar räknas bort
A7: 8-10 tävlingar = resultatet från tre tävlingar räknas bort
A8: 11-14 tävlingar = resultatet från fyra tävlingar räknas bort
A10: Det är alltid tävlingarna med de sämsta placeringarna som tas bort.
A11: För att få pris ska man vara med på minst 3 tävlingar.
A12: Individuella poäng ges i den klass man tävlat i för respektive tävling. Man kan inte delta i och få poäng i två klasser i samma tävling. (Detta utifrån att aktiva kan välja att tävla i närmaste högre klass)
A13: Tävlande från klubbar utanför Region Syd kan vara med i deltävlingarna men de räknas inte in i cupen. Så vid beräkning av cup poäng bortser man från utomstående deltagare och justerar placeringarna att gälla enbart deltagare från Region Syd.
A14: Poängsystem
A15: Placering och antal poäng som delas ut vid varje deltävling
A16: 1 = 15 poäng | B16: 1 | C16: 15
A17: 2 = 13 poäng | B17: 2 | C17: 13
A18: 3 = 12 poäng | B18: 3 | C18: 12
A19: 4 = 11 poäng | B19: 4 | C19: 11
A20: 5 = 10 poäng | B20: 5 | C20: 10
A21: 6 = 9 poäng | B21: 6 | C21: 9
A22: 7 = 8 poäng | B22: 7 | C22: 8
A23: 8 = 7 poäng | B23: 8 | C23: 7
A24: 9 = 6 poäng | B24: 9 | C24: 6
A25: 10 = 5 poäng | B25: 10 | C25: 5
A26: 11 = 4 poäng | B26: 11 | C26: 4
A27: 12 = 3 poäng | B27: 12 | C27: 3
A28: 13 = 2 poäng | B28: 13 | C28: 2
A29: 14 = 1 poäng
A30: Alla övriga = 1 poäng
A31: Om två eller flera tävlande har samma placeringspoäng vid cupens slut så är det skyttet som blir utslagsgivande. Den som har högst träffprocent på de tävlingar som räknas in i cupens resultat vinner. Om det fortfarande är lika så blir det delad placering.
A32: Utrustning
A34: Obligatoriskt med hjälm för alla. Medför startförbud.
A35: Obligatoriskt med knäskydd upp till och med klassen H/D12-13 (medför startförbud) och rekommenderas för alla.
A36: Inga tävlingshjul får användas, inte i någon klass. Det medför diskvalificering.
A37: Endast träningshjul får användas. Följande hjul är godkända:
A38: Marwe 0:or eller trögare (Rullskidskytte JSM/Senior SM går på Marwe 6:or)
A39: Swenor 2:or eller trögare - undantag i klasser 10-13 år där Swenor Skate Junior 80 mm standardhjul får användas.
A40: Swix Skate 2:or eller trögare
A41: Elpex Skate Normal /2:or eller trögare
... A47: Senast uppdaterad: 2024-04-18

Sheet Cup statistik
A1: Cup | B1: Tävlingar | C1: Antal klubbar | D1: Starter | E1: Deltagare | F1: Placerade deltagare | G1: Total skytteprocent | H1: Största tävling (Syd deltagare tävlingsklass) | I1: Största klass i en tävling | J1: Klubbkamp vinnare | K1: Klubb träffprocent | L1: Klubb Medaljliga
A2: Vinter 2015 (endast 12-15) | B2: 3 | C2: 6 | D2: 52 | E2: 25 | F2: 12 | H2: Boxholmsjakten 20 deltagare | I2: D12-13 Boxholmsjakten 10 deltagare
A3: Vinter 2016 (ej sen, vet) | B3: 2 | C3: 6 | D3: 75 | E3: 57 | F3: 0 | H3: Nässjö 46 deltagare | I3: D10-11 och H14-15 Nässjö 9 deltagare
A4: Sommar 2016 | B4: 5 | C4: 6 | D4: 157 | E4: 58 | F4: 27 | H4: Nässjö 35 deltagare | I4: H35 2 tävlingar, D14-15 3 tävlingar 6 deltagare
A5: Vinter 2017 | B5: 4 | C5: 7 | D5: 130 | E5: 55 | F5: 25 | H5: Nässjö Biathlon Race 36 deltagare | I5: H35 Nässjö, D14-15 Borås och Landehof 7 deltagare
A6: Sommar 2017 | B6: 6 | C6: 9 | D6: 185 | E6: 73 | F6: 32 | G6: 50,0% | H6: Kimstadkampen 37 deltagare | I6: H35 Kimstadkampen 9 deltagare | J6: Kimstad GoIF 490 p | K6: Nässjö Ski 54% | L6: OK Landehof 19 guld
A7: Vinter 2018 | B7: 5 | C7: 9 | D7: 211 | E7: 69 | F7: 39 | G7: 55,8% | H7: Regionsmästerskap Nässjö 46 deltagare | I7: H10-11 Hestraträffen 12 deltagare | J7: Kimstad GoIF 561 p | K7: OK Landehof 61% | L7: Kimstad GoIF 18 guld
A8: Sommar 2018 | B8: 6 | C8: 9 | D8: 227 | E8: 83 | F8: 33 | G8: 49,4% | H8: Ute och Inne Biathlon dag 1, Petersburgträffen 41 deltagare | I8: H35 Ätranträffen 9 deltagare | J8: Kimstad GoIF 704 p | K8: Nässjö Ski 57% | L8: OK Landehof 19 guld
A9: Vinter 2019 | B9: 3 | C9: 11 | D9: 141 | E9: 79 | F9: 20 | G9: 48,6% | H9: Kimstadträffen 60 deltagare | I9: D10-11 Kimstadträffen 10 deltagare | J9: Kimstad GoIF 332 p | K9: Nässjö Ski 62% | L9: OK Landehof 10 guld
A10: Sommar 2019 | B10: 6 | C10: 10 | D10: 259 | E10: 87 | F10: 43 | G10: 54,3% | H10: Petersburgträffen 54 deltagare | I10: H12-13 Petersburgträffen 15 deltagare | J10: Kimstad GoIF 625 p | K10: IF Hallby 59% | L10: Kimstad GoIF 18 guld
A11: Vinter 2020 | B11: 1 | C11: 10 | D11: 39 | E11: 39 | F11: 0 | G11: 53,6% | H11: Hestraträffen 39 deltagare | I11: H12-13 Hestraträffen 10 deltagare | J11: OK Landehof 71 p | K11: OK Landehof 57,5% | L11: Boxholm-Ekeby 3 guld
A12: Sommar 2020 | B12: 3 | C12: 8 | D12: 114 | E12: 65 | F12: 16 | G12: 55,7% | H12: Kimstads Rullträff 56 deltagare | I12: H12-13 Kimstads Rullträff 14 deltagare | J12: Kimstad GoIF 340 p | K12: Nässjö Ski 65% | L12: OK Landehof 12 guld
A13: Vinter 2021 | B13: 3 | C13: 14 | D13: 163 | E13: 96 | F13: 19 | G13: 53,9% | H13: Landehof Trollskytte BR 55 deltagare | I13: H12-13 Regionsfinal Lövhult 14 deltagare | J13: Kimstad GoIF 283 p | K13: IF Hallby 67,3% | L13: Kimstad GoIF 5 guld
A14: Sommar 2021 | B14: 6 | C14: 16 | D14: 315 | E14: 126 | F14: 50 | G14: 60,7% | H14: Petersburgträffen 69 deltagare | I14: H14-15 Petersburgträffen 13 deltagare | J14: Kimstad GoIF 787p | K14: Boxholm-Ekeby 65,3% | L14: OK Landehof 24 guld
A15: Vinter 2022 | B15: 5 | C15: 17 | D15: 366 | E15: 154 | F15: 64 | G15: 54,6% | H15: Borås Biathlon Race 93 deltagare | I15: P12-13 Borås BR 18 deltagare | J15: Kimstad GoIF 558p | K15: Kimstad GoIF 61,7% | L15: OK Landehof 14 guld
A16: Sommar 2022 | B16: 8 | C16: 12 | D16: 410 | E16: 129 | F16: 67 | G16: 58,4% | H16: Petersburgträffen 75 deltagare | I16: P12-13 och P14-15 Petersburgträffen 13 deltagare | J16: Kimstad GoIF 1473p | K16: Linköpings SK 67,1% | L16: OK Landehof 29 guld
A17: Vinter 2023 | B17: 5 | C17: 14 | D17: 347 | E17: 134 | F17: 61 | G17: 55,5% | H17: Nässjöträffen, Kimstadträffen 84 deltagare | I17: P14-15 Nässjöträffen 14 deltagare | J17: Kimstad GoIF 1051p | K17: OK Landehof 65,4% | L17: OK Landehof 20 guld
... A23: Vinter 2026 | B23: 6 | C23: 18 | D23: 410 | E23: 206 | F23: 44 | G23: 43,7% | H23: Kimstadträffen 89 deltagare | I23: P10-11 Kimstadträffen 18 deltagare | J23: Föreningen Nässjö Ski 818p | K23: OK Landehof 61,8% | L23: Borås SK 19 Guld
