Workbook

Sheet Individuell
A2: Row Labels | B2: Poäng Totalt | C2: Tävlingar | D2: Antal Skott | E2: Antal Träff
A3: Damer 16-17 | B3: 70 | C3: 5 | D3: 100 | E3: 46 | F3: =E3/D3 -> 0.46
A4: Agnes Tapper | B4: 27 | C4: 2 | D4: 40 | E4: 16 | F4: =E4/D4 -> 0.4
A5: Felicia Hedberg | B5: 15 | C5: 1 | D5: 20 | E5: 14 | F5: =E5/D5 -> 0.7
A6: Solveig Ghisler-Solvang | B6: 15 | C6: 1 | D6: 20 | E6: 12 | F6: =E6/D6 -> 0.6
A7: Ebba Sundling | B7: 13 | C7: 1 | D7: 20 | E7: 4 | F7: =E7/D7 -> 0.2
A8: Damer 18-21 | B8: 58 | C8: 4 | D8: 80 | E8: 32 | F8: =E8/D8 -> 0.4
A9: Ida Mürvin | B9: 15 | C9: 1 | D9: 20 | E9: 5 | F9: =E9/D9 -> 0.25
A10: Ylva Oppås | B10: 15 | C10: 1 | D10: 20 | E10: 10 | F10: =E10/D10 -> 0.5
A11: Jennifer Stigsson | B11: 15 | C11: 1 | D11: 20 | E11: 7 | F11: =E11/D11 -> 0.35
A12: Agnes Eklund | B12: 13 | C12: 1 | D12: 20 | E12: 10 | F12: =E12/D12 -> 0.5
A13: Magda Persson | F13: =E13/D13 -> #DIV/0!
A14: Damer 18-22 | B14: 15 | C14: 1 | D14: 20 | E14: 2 | F14: =E14/D14 -> 0.1
A15: Jennifer Stigsson | B15: 15 | C15: 1 | D15: 20 | E15: 2 | F15: =E15/D15 -> 0.1
A16: Flickor 10-11 | B16: 130 | C16: 26 | D16: 260 | E16: 134 | F16: =E16/D16 -> 0.51538462
A17: Amelia Fjärrnäs | B17: 30 | C17: 6 | D17: 60 | E17: 46 | F17: =E17/D17 -> 0.76666667
A18: Ines Hall | B18: 30 | C18: 6 | D18: 60 | E18: 34 | F18: =E18/D18 -> 0.56666667
A19: Tove Eklund | B19: 10 | C19: 2 | D19: 20 | E19: 6 | F19: =E19/D19 -> 0.3
A20: Elsie Hahlin | B20: 10 | C20: 2 | D20: 20 | E20: 10 | F20: =E20/D20 -> 0.5
A21: Sigrid Nordlander | B21: 10 | C21: 2 | D21: 20 | E21: 14 | F21: =E21/D21 -> 0.7
A22: Signe Brodén | B22: 5 | C22: 1 | D22: 10 | E22: 3 | F22: =E22/D22 -> 0.3
A23: Märta Turunen | B23: 5 | C23: 1 | D23: 10 | E23: 4 | F23: =E23/D23 -> 0.4
A24: Hanna Pettersson | B24: 5 | C24: 1 | D24: 10 | E24: 5 | F24: =E24/D24 -> 0.5
A25: Stina Mürvin | B25: 5 | C25: 1 | D25: 10 | E25: 2 | F25: =E25/D25 -> 0.2
... A48: Astrid Karlsson | B48: 4 | C48: 1 | D48: 15 | E48: 6 | F48: =E48/D48 -> 0.4
A49: Rut Ireholm | F49: =E49/D49 -> #DIV/0!
A50: Flickor 14-15 | B50: 216 | C50: 17 | D50: 250 | E50: 142 | F50: =E50/D50 -> 0.568
A51: Ella Keller | B51: 63 | C51: 5 | D51: 70 | E51: 37 | F51: =E51/D51 -> 0.52857143
A52: Julia Nilsson | B52: 45 | C52: 3 | D52: 45 | E52: 30 | F52: =E52/D52 -> 0.66666667
A53: Isabelle Hörnberg | B53: 32 | C53: 3 | D53: 45 | E53: 21 | F53: =E53/D53 -> 0.46666667
A54: Hanna Johansson | B54: 26 | C54: 2 | D54: 30 | E54: 16 | F54: =E54/D54 -> 0.53333333
A55: Linnea Forsberg | B55: 15 | C55: 1 | D55: 15 | E55: 11 | F55: =E55/D55 -> 0.73333333
A56: Elin Bennstam | B56: 13 | C56: 1 | D56: 15 | E56: 7 | F56: =E56/D56 -> 0.46666667
A57: Ella Sandh | B57: 12 | C57: 1 | D57: 15 | E57: 12 | F57: =E57/D57 -> 0.8
A58: Selma Pettersson | B58: 10 | C58: 1 | D58: 15 | E58: 8 | F58: =E58/D58 -> 0.53333333
A59: Edit Brask | F59: =E59/D59 -> #DIV/0!
A60: Alma Lundqvist | F60: =E60/D60 -> #DIV/0!
A61: Emma Landgren | F61: =E61/D61 -> #DIV/0!
A62: Herrar 16-17 | B62: 210 | C62: 16 | D62: 310 | E62: 108 | F62: =E62/D62 -> 0.3483871
A63: Georg Fladrich | B63: 43 | C63: 3 | D63: 50 | E63: 27 | F63: =E63/D63 -> 0.54
...

Sheet Sammanställning klubb
A1: Poängställning Klubbkampen | D1: Medaljligan | J1: Träffprocent | R1: Medaljligan
R3: Klass | S3: (Multiple Items)
A4: Klass | B4: (All) | D4: Klass | E4: (All) | J4: Klass | K4: (Multiple Items) | R4: Klubb | S4: (Multiple Items)
A6: Row Labels | B6: Sum of P2 | D6: Antal Medaljplaceringar | E6: Filter | J6: Row Labels | K6: Antal Skott | L6: Antal Träff | M6: Procent | R6: Row Labels | S6: Count of Namn
A7: Föreningen Nässjö Ski | B7: 818 | D7: Row Labels | E7: Guld | F7: Silver | G7: Brons | H7: Medajer | J7: ASK Växjö | K7: 65 | L7: 24 | M7: =L7/K7 -> 0.36923077 | R7: Borås Biathlon Race 7/3 | S7: 54
A8: Borås Skidlöparklubb | B8: 628 | D8: Borås Skidlöparklubb | E8: 19 | F8: 13 | G8: 11 | H8: 43 | J8: Borås Skidlöparklubb | K8: 850 | L8: 406 | M8: =L8/K8 -> 0.47764706 | R8: Kimstadträffen 8/3 | S8: 89
A9: Kimstad Gymnastik o IF | B9: 399 | D9: Föreningen Nässjö Ski | E9: 9 | F9: 11 | G9: 14 | H9: 34 | J9: Boxholm-Ekeby Skidklubb | K9: 35 | L9: 10 | M9: =L9/K9 -> 0.28571429 | R9: Landehof 1/2 Kortdistans | S9: 49
A10: OK Landehof | B10: 321 | D10: OK Landehof | E10: 12 | F10: 5 | G10: 3 | H10: 20 | J10: Föreningen Nässjö Ski | K10: 1200 | L10: 515 | M10: =L10/K10 -> 0.42916667 | R10: Nässjö 18/1 Kortdistans | S10: 80
A11: Trollhättans Skid o Orienteringsklubb | B11: 320 | D11: Trollhättans Skid o Orienteringsklubb | E11: 5 | F11: 5 | G11: 5 | H11: 15 | J11: IF Hallby Skid o Orienteringsklubb | K11: 65 | L11: 25 | M11: =L11/K11 -> 0.38461538 | R11: Trollhättan 31/1 Sprint | S11: 53
A12: Sya Skidklubb | B12: 189 | D12: Kimstad Gymnastik o IF | E12: 6 | F12: 7 | G12: 2 | H12: 15 | J12: IF Ski Team Skåne | K12: 20 | L12: 12 | M12: =L12/K12 -> 0.6 | R12: Ätran 7/2 Kortdistans | S12: 26
A13: Svaide Roma Skid- och Orienteringsklubb | B13: 130 | D13: Sya Skidklubb | E13: 2 | F13: 5 | G13: 1 | H13: 8 | J13: Kimstad Gymnastik o IF | K13: 610 | L13: 266 | M13: =L13/K13 -> 0.43606557 | R13: Medajer | S13: 351
A14: Linköpings Skidklubb | B14: 115 | D14: Linköpings Skidklubb | E14: 3 | F14: 2 | G14: 1 | H14: 6 | J14: Landsbro IF Skidklubb | K14: 75 | L14: 22 | M14: =L14/K14 -> 0.29333333
A15: IF Hallby Skid o Orienteringsklubb | B15: 70 | D15: Vreta Skid o Motionsklubb | G15: 3 | H15: 3 | J15: Linköpings Skidklubb | K15: 185 | L15: 105 | M15: =L15/K15 -> 0.56756757
A16: Vreta Skid o Motionsklubb | B16: 63 | D16: Landsbro IF Skidklubb | F16: 3 | H16: 3 | J16: OK Landehof | K16: 390 | L16: 241 | M16: =L16/K16 -> 0.61794872
A17: Ulricehamns Idrottsförening | B17: 58 | D17: IF Hallby Skid o Orienteringsklubb | F17: 3 | H17: 3 | J17: Svaide Roma Skid- och Orienteringsklubb | K17: 235 | L17: 64 | M17: =L17/K17 -> 0.27234043
A18: Landsbro IF Skidklubb | B18: 47 | D18: Ulricehamns Idrottsförening | G18: 2 | H18: 2 | J18: Sya Skidklubb | K18: 225 | L18: 97 | M18: =L18/K18 -> 0.43111111
A19: Boxholm-Ekeby Skidklubb | B19: 44 | D19: Ätrans IF | G19: 2 | H19: 2 | J19: Trollhättans Skid o Orienteringsklubb | K19: 415 | L19: 145 | M19: =L19/K19 -> 0.34939759
A20: ASK Växjö | B20: 40 | D20: DEN | E20: 2 | H20: 2 | J20: Ulricehamns Idrottsförening | K20: 90 | L20: 27 | M20: =L20/K20 -> 0.3
A21: DEN | B21: 30 | D21: ASK Växjö | E21: 1 | H21: 1 | J21: Vreta Skid o Motionsklubb | K21: 80 | L21: 22 | M21: =L21/K21 -> 0.275
A22: Skidklubben Bore Torsby | B22: 18 | D22: Biathlon Östersund Idrottsförening | E22: 1 | H22: 1 | J22: Idrottsklubben Stern | M22: =L22/K22 -> #DIV/0!
A23: Ätrans IF | B23: 15 | D23: Svaide Roma Skid- och Orienteringsklubb | E23: 1 | H23: 1 | J23: Biathlon Östersund Idrottsförening | K23: 20 | L23: 9 | M23: =L23/K23 -> 0.45
A24: Biathlon Östersund Idrottsförening | B24: 15 | D24: IF Ski Team Skåne | E24: 1 | H24: 1 | J24: Ätrans IF | K24: 20 | L24: 4 | M24: =L24/K24 -> 0.2
A25: IF Ski Team Skåne | B25: 15 | D25: Boxholm-Ekeby Skidklubb | G25: 1 | H25: 1 | J25: Söderköpings Skidklubb | K25: 15 | L25: 7 | M25: =L25/K25 -> 0.46666667
A26: Idrottsklubben Stern | B26: 15 | D26: Medajer | E26: 62 | F26: 54 | G26: 45 | H26: 161 | J26: Garphyttans Idrottsförening | K26: 15 | L26: 7 | M26: =L26/K26 -> 0.46666667
A27: Söderköpings Skidklubb | B27: 9 | J27: Skidklubben Bore Torsby | K27: 30 | L27: 17 | M27: =L27/K27 -> 0.56666667
A28: Garphyttans Idrottsförening | B28: 6 | J28: DEN | K28: 40 | L28: 18 | M28: =L28/K28 -> 0.45
A29: (blank) | B29: 0 | J29: Grand Total | K29: 4680 | L29: 2043 | M29: =L29/K29 -> 0.43653846
A30: Grand Total | B30: 3365

Sheet Rådata
A1: Klass | B1: Tävling | C1: Skott | D1: Träff | E1: T% | F1: T1 | G1: T2 | H1: T3 | I1: T4 | J1: T5 | K1: Poäng | L1: P2 | M1: Plac | N1: Nr | O1: Namn | P1: Klubb | Q1: L | R1: S | S1: Åktid | T1: Tillägg | U1: Totaltid | V1: Diff | W1: Kommentar
A2: Pojkar 10-11 | B2: Nässjö 18/1 Kortdistans | C2: 10 | D2: =Table1[[#This Row],[Skott]]-SUM(Table1[[#This Row],[T1]:[T5]]) -> 2 | E2: =IFERROR(-(SUM(Table1[[#This Row],[T1]:[T5]])-Table1[[#This Row],[Skott]])/Table1[[#This Row],[Skott]],"") -> 0.2 | F2: =IFERROR(LEFT(Table1[[#This Row],[L]],1)*1,"") -> 3 | G2: =IFERROR(RIGHT(LEFT(Table1[[#This Row],[L]],2),1)*1,"") -> 5 | H2: =IFERROR(IF(Table1[[#This Row],[Skott]]=10,"",RIGHT(Table1[[#This Row],[L]],1))*1,"") | I2: =IFERROR(LEFT(Table1[[#This Row],[S]],1)*1,"") | J2: =IFERROR(RIGHT(LEFT(Table1[[#This Row],[S]],2),1)*1,"") | K2: =IF(Table1[[#This Row],[Plac]]="",0,IFERROR(VLOOKUP(Table1[[#This Row],[Plac]],Referens!$B$16:$C$28,2,0),1)) -> 8 | L2: 5 | M2: 7 | N2: 6 | O2: Tore Wallquist | P2: ASK Växjö | Q2: 35 | S2: 0.39791667 | T2: 0.16666667 | U2: 0.56458333 | V2: 0.24652778
A3: Pojkar 10-11 | B3: Nässjö 18/1 Kortdistans | F3: =IFERROR(LEFT(Table1[[#This Row],[L]],1)*1,"") | G3: =IFERROR(RIGHT(LEFT(Table1[[#This Row],[L]],2),1)*1,"") | H3: =IFERROR(IF(Table1[[#This Row],[Skott]]=10,"",RIGHT(Table1[[#This Row],[L]],1))*1,"") | I3: =IFERROR(LEFT(Table1[[#This Row],[S]],1)*1,"") | J3: =IFERROR(RIGHT(LEFT(Table1[[#This Row],[S]],2),1)*1,"") | N3: 8 | O3: Nils Norrlin | P3: ASK Växjö | S3: - | T3: - | U3: - | W3: DNS
A4: Pojkar 12-13 | B4: Nässjö 18/1 Kortdistans | C4: 15 | D4: =Table1[[#This Row],[Skott]]-SUM(Table1[[#This Row],[T1]:[T5]]) -> 9 | E4: =IFERROR(-(SUM(Table1[[#This Row],[T1]:[T5]])-Table1[[#This Row],[Skott]])/Table1[[#This Row],[Skott]],"") -> 0.6 | F4: =IFERROR(LEFT(Table1[[#This Row],[L]],1)*1,"") -> 3 | G4: =IFERROR(RIGHT(LEFT(Table1[[#This Row],[L]],2),1)*1,"") -> 2 | H4: =IFERROR(IF(Table1[[#This Row],[Skott]]=10,"",RIGHT(Table1[[#This Row],[L]],1))*1,"") -> 1 | I4: =IFERROR(LEFT(Table1[[#This Row],[S]],1)*1,"") | J4: =IFERROR(RIGHT(LEFT(Table1[[#This Row],[S]],2),1)*1,"") | K4: =IF(Table1[[#This Row],[Plac]]="",0,IFERROR(VLOOKUP(Table1[[#This Row],[Plac]],Referens!$B$16:$C$28,2,0),1)) -> 7 | L4: =Table1[[#This Row],[Poäng]] -> 7 | M4: 8 | N4: 33 | O4: Arvid Palmblad | P4: ASK Växjö | Q4: 321 | S4: 0.69027778 | T4: 0.125 | U4: 0.81527778 | V4: 0.22083333
A5: Pojkar 12-13 | B5: Nässjö 18/1 Kortdistans | C5: 15 | D5: =Table1[[#This Row],[Skott]]-SUM(Table1[[#This Row],[T1]:[T5]]) -> 4 | E5: =IFERROR(-(SUM(Table1[[#This Row],[T1]:[T5]])-Table1[[#This Row],[Skott]])/Table1[[#This Row],[Skott]],"") -> 0.26666667 | F5: =IFERROR(LEFT(Table1[[#This Row],[L]],1)*1,"") -> 4 | G5: =IFERROR(RIGHT(LEFT(Table1[[#This Row],[L]],2),1)*1,"") -> 4 | H5: =IFERROR(IF(Table1[[#This Row],[Skott]]=10,"",RIGHT(Table1[[#This Row],[L]],1))*1,"") -> 3 | I5: =IFERROR(LEFT(Table1[[#This Row],[S]],1)*1,"") | J5: =IFERROR(RIGHT(LEFT(Table1[[#This Row],[S]],2),1)*1,"") | K5: =IF(Table1[[#This Row],[Plac]]="",0,IFERROR(VLOOKUP(Table1[[#This Row],[Plac]],Referens!$B$16:$C$28,2,0),1)) -> 4 | L5: =Table1[[#This Row],[Poäng]] -> 4 | M5: 11 | N5: 28 | O5: John Palmblad | P5: ASK Växjö | Q5: 443 | S5: 0.65763889 | T5: 0.22916667 | U5: 0.88680556 | V5: 0.29236111
A6: Öppen klass/nybörjare | B6: Nässjö 18/1 Kortdistans | C6: 10 | D6: =Table1[[#This Row],[Skott]]-SUM(Table1[[#This Row],[T1]:[T5]]) -> 2 | E6: =IFERROR(-(SUM(Table1[[#This Row],[T1]:[T5]])-Table1[[#This Row],[Skott]])/Table1[[#This Row],[Skott]],"") -> 0.2 | F6: =IFERROR(LEFT(Table1[[#This Row],[L]],1)*1,"") -> 4 | G6: =IFERROR(RIGHT(LEFT(Table1[[#This Row],[L]],2),1)*1,"") -> 4 | H6: =IFERROR(IF(Table1[[#This Row],[Skott]]=10,"",RIGHT(Table1[[#This Row],[L]],1))*1,"") | I6: =IFERROR(LEFT(Table1[[#This Row],[S]],1)*1,"") | J6: =IFERROR(RIGHT(LEFT(Table1[[#This Row],[S]],2),1)*1,"") | K6: =IF(Table1[[#This Row],[Plac]]="",0,IFERROR(VLOOKUP(Table1[[#This Row],[Plac]],Referens!$B$16:$C$28,2,0),1)) -> 0 | L6: 5 | N6: 40 | O6: Nora Wallquist | P6: ASK Växjö | Q6: 44 | S6: 0.32152778 | T6: - | U6: 0.32152778 | V6: 0.1
A7: Flickor 12-13 | B7: Nässjö 18/1 Kortdistans | C7: 15 | D7: =Table1[[#This Row],[Skott]]-SUM(Table1[[#This Row],[T1]:[T5]]) -> 6 | E7: =IFERROR(-(SUM(Table1[[#This Row],[T1]:[T5]])-Table1[[#This Row],[Skott]])/Table1[[#This Row],[Skott]],"") -> 0.4 | F7: =IFERROR(LEFT(Table1[[#This Row],[L]],1)*1,"") -> 2 | G7: =IFERROR(RIGHT(LEFT(Table1[[#This Row],[L]],2),1)*1,"") -> 4 | H7: =IFERROR(IF(Table1[[#This Row],[Skott]]=10,"",RIGHT(Table1[[#This Row],[L]],1))*1,"") -> 3 | I7: =IFERROR(LEFT(Table1[[#This Row],[S]],1)*1,"") | J7: =IFERROR(RIGHT(LEFT(Table1[[#This Row],[S]],2),1)*1,"") | K7: =IF(Table1[[#This Row],[Plac]]="",0,IFERROR(VLOOKUP(Table1[[#This Row],[Plac]],Referens!$B$16:$C$28,2,0),1)) -> 4 | L7: =Table1[[#This Row],[Poäng]] -> 4 | M7: 11 | N7: 53 | O7: Astrid Karlsson | P7: ASK Växjö | Q7: 243 | S7: 0.72222222 | T7: 0.1875 | U7: 0.90972222 | V7: 0.25972222
A8: Pojkar 10-11 | B8: Ätran 7/2 Kortdistans | C8: 10 | D8: =Table1[[#This Row],[Skott]]-SUM(Table1[[#This Row],[T1]:[T5]]) -> 3 | E8: =IFERROR(-(SUM(Table1[[#This Row],[T1]:[T5]])-Table1[[#This Row],[Skott]])/Table1[[#This Row],[Skott]],"") -> 0.3 | F8: =IFERROR(LEFT(Table1[[#This Row],[L]],1)*1,"") -> 5 | G8: =IFERROR(RIGHT(LEFT(Table1[[#This Row],[L]],2),1)*1,"") -> 2 | I8: =IFERROR(LEFT(Table1[[#This Row],[S]],1)*1,"") | J8: =IFERROR(RIGHT(LEFT(Table1[[#This Row],[S]],2),1)*1,"") | K8: =IF(Table1[[#This Row],[Plac]]="",0,IFERROR(VLOOKUP(Table1[[#This Row],[Plac]],Referens!$B$16:$C$28,2,0),1)) -> 15 | L8: 5 | M8: 1 | N8: 12 | O8: Tore Wallquist | P8: ASK Växjö | Q8: 52 | S8: 0.62222222 | T8: 0.14583333 | U8: 0.76805556 | V8: -
A9: Öppen klass/nybörjare | B9: Ätran 7/2 Kortdistans | C9: 10 | D9: =Table1[[#This Row],[Skott]]-SUM(Table1[[#This Row],[T1]:[T5]]) -> 6 | E9: =IFERROR(-(SUM(Table1[[#This Row],[T1]:[T5]])-Table1[[#This Row],[Skott]])/Table1[[#This Row],[Skott]],"") -> 0.6 | F9: =IFERROR(LEFT(Table1[[#This Row],[L]],1)*1,"") -> 0 | G9: =IFERROR(RIGHT(LEFT(Table1[[#This Row],[L]],2),1)*1,"") -> 4 | H9: =IFERROR(IF(Table1[[#This Row],[Skott]]=10,"",RIGHT(Table1[[#This Row],[L]],1))*1,"") | I9: =IFERROR(LEFT(Table1[[#This Row],[S]],1)*1,"") | J9: =IFERROR(RIGHT(LEFT(Table1[[#This Row],[S]],2),1)*1,"") | L9: 5 | N9: 53 | O9: Nora Wallquist | P9: ASK Växjö | Q9: 04 | S9: 0.55694444 | T9: 0.083333333 | U9: 0.64027778 | V9: 0.19444444
A10: Öppen klass/nybörjare | B10: Ätran 7/2 Kortdistans | C10: 20 | D10: =Table1[[#This Row],[Skott]]-SUM(Table1[[#This Row],[T1]:[T5]]) -> 5 | E10: =IFERROR(-(SUM(Table1[[#This Row],[T1]:[T5]])-Table1[[#This Row],[Skott]])/Table1[[#This Row],[Skott]],"") -> 0.25 | F10: =IFERROR(LEFT(Table1[[#This Row],[L]],1)*1,"") -> 3 | G10: =IFERROR(RIGHT(LEFT(Table1[[#This Row],[L]],2),1)*1,"") -> 5 | I10: =IFERROR(LEFT(Table1[[#This Row],[S]],1)*1,"") -> 3 | J10: =IFERROR(RIGHT(LEFT(Table1[[#This Row],[S]],2),1)*1,"") -> 4 | L10: 5 | N10: 70 | O10: Elin Wallquist | P10: ASK Växjö | Q10: 35 | R10: 34 | S10: 1.0993056 | T10: 0.3125 | U10: 1.4118056 | V10: 0.175
A11: Damer senior_motion | B11: Landehof 1/2 Kortdistans | C11: 20 | D11: =Table1[[#This Row],[Skott]]-SUM(Table1[[#This Row],[T1]:[T5]]) -> 9 | E11: =IFERROR(-(SUM(Table1[[#This Row],[T1]:[T5]])-Table1[[#This Row],[Skott]])/Table1[[#This Row],[Skott]],"") -> 0.45 | F11: =IFERROR(LEFT(Table1[[#This Row],[L]],1)*1,"") -> 3 | G11: =IFERROR(RIGHT(LEFT(Table1[[#This Row],[L]],2),1)*1,"") -> 4 | I11: =IFERROR(LEFT(Table1[[#This Row],[S]],1)*1,"") -> 1 | J11: =IFERROR(RIGHT(LEFT(Table1[[#This Row],[S]],2),1)*1,"") -> 3 | K11: =IF(Table1[[#This Row],[Plac]]="",0,IFERROR(VLOOKUP(Table1[[#This Row],[Plac]],Referens!$B$16:$C$28,2,0),1)) -> 15 | L11: =Table1[[#This Row],[Poäng]] -> 15 | M11: 1 | N11: 69 | O11: Olivia Grönkvist | P11: Biathlon Östersund Idrottsförening | Q11: 34 | R11: 13 | S11: 0.99027778 | T11: 0.22916667 | U11: 1.2194444 | V11: -
A12: Pojkar 10-11 | B12: Nässjö 18/1 Kortdistans | C12: 10 | D12: =Table1[[#This Row],[Skott]]-SUM(Table1[[#This Row],[T1]:[T5]]) -> 4 | E12: =IFERROR(-(SUM(Table1[[#This Row],[T1]:[T5]])-Table1[[#This Row],[Skott]])/Table1[[#This Row],[Skott]],"") -> 0.4 | F12: =IFERROR(LEFT(Table1[[#This Row],[L]],1)*1,"") -> 3 | G12: =IFERROR(RIGHT(LEFT(Table1[[#This Row],[L]],2),1)*1,"") -> 3 | H12: =IFERROR(IF(Table1[[#This Row],[Skott]]=10,"",RIGHT(Table1[[#This Row],[L]],1))*1,"") | I12: =IFERROR(LEFT(Table1[[#This Row],[S]],1)*1,"") | J12: =IFERROR(RIGHT(LEFT(Table1[[#This Row],[S]],2),1)*1,"") | K12: =IF(Table1[[#This Row],[Plac]]="",0,IFERROR(VLOOKUP(Table1[[#This Row],[Plac]],Referens!$B$16:$C$28,2,0),1)) -> 11 | L12: 5 | M12: 4 | N12: 11 | O12: Karl Bergh | P12: Borås Skidlöparklubb | Q12: 33 | S12: 0.36111111 | T12: 0.125 | U12: 0.48611111 | V12: 0.16805556 | W12: Korrigering efter fel på mål
A13: Flickor 10-11 | B13: Nässjö 18/1 Kortdistans | C13: 10 | D13: =Table1[[#This Row],[Skott]]-SUM(Table1[[#This Row],[T1]:[T5]]) -> 5 | E13: =IFERROR(-(SUM(Table1[[#This Row],[T1]:[T5]])-Table1[[#This Row],[Skott]])/Table1[[#This Row],[Skott]],"") -> 0.5 | F13: =IFERROR(LEFT(Table1[[#This Row],[L]],1)*1,"") -> 3 | G13: =IFERROR(RIGHT(LEFT(Table1[[#This Row],[L]],2),1)*1,"") -> 2 | H13: =IFERROR(IF(Table1[[#This Row],[Skott]]=10,"",RIGHT(Table1[[#This Row],[L]],1))*1,"") | I13: =IFERROR(LEFT(Table1[[#This Row],[S]],1)*1,"") | J13: =IFERROR(RIGHT(LEFT(Table1[[#This Row],[S]],2),1)*1,"") | K13: =IF(Table1[[#This Row],[Plac]]="",0,IFERROR(VLOOKUP(Table1[[#This Row],[Plac]],Referens!$B$16:$C$28,2,0),1)) -> 12 | L13: 5 | M13: 3 | N13: 17 | O13: Ines Hall | P13: Borås Skidlöparklubb | Q13: 32 | S13: 0.37083333 | T13: 0.10416667 | U13: 0.475 | V13: 0.090972222
A14: Pojkar 12-13 | B14: Nässjö 18/1 Kortdistans | C14: 15 | D14: =Table1[[#This Row],[Skott]]-SUM(Table1[[#This Row],[T1]:[T5]]) -> 12 | E14: =IFERROR(-(SUM(Table1[[#This Row],[T1]:[T5]])-Table1[[#This Row],[Skott]])/Table1[[#This Row],[Skott]],"") -> 0.8 | F14: =IFERROR(LEFT(Table1[[#This Row],[L]],1)*1,"") -> 1 | G14: =IFERROR(RIGHT(LEFT(Table1[[#This Row],[L]],2),1)*1,"") -> 1 | H14: =IFERROR(IF(Table1[[#This Row],[Skott]]=10,"",RIGHT(Table1[[#This Row],[L]],1))*1,"") -> 1 | I14: =IFERROR(LEFT(Table1[[#This Row],[S]],1)*1,"") | J14: =IFERROR(RIGHT(LEFT(Table1[[#This Row],[S]],2),1)*1,"") | K14: =IF(Table1[[#This Row],[Plac]]="",0,IFERROR(VLOOKUP(Table1[[#This Row],[Plac]],Referens!$B$16:$C$28,2,0),1)) -> 15 | L14: =Table1[[#This Row],[Poäng]] -> 15 | M14: 1 | N14: 29 | O14: Gustav Frick Gräslund | P14: Borås Skidlöparklubb | Q14: 111 | S14: 0.53194444 | T14: 0.0625 | U14: 0.59444444 | V14: -
A15: Pojkar 12-13 | B15: Nässjö 18/1 Kortdistans | C15: 15 | D15: =Table1[[#This Row],[Skott]]-SUM(Table1[[#This Row],[T1]:[T5]]) -> 10 | E15: =IFERROR(-(SUM(Table1[[#This Row],[T1]:[T5]])-Table1[[#This Row],[Skott]])/Table1[[#This Row],[Skott]],"") -> 0.66666667 | F15: =IFERROR(LEFT(Table1[[#This Row],[L]],1)*1,"") -> 1 | G15: =IFERROR(RIGHT(LEFT(Table1[[#This Row],[L]],2),1)*1,"") -> 2 | H15: =IFERROR(IF(Table1[[#This Row],[Skott]]=10,"",RIGHT(Table1[[#This Row],[L]],1))*1,"") -> 2 | I15: =IFERROR(LEFT(Table1[[#This Row],[S]],1)*1,"") | J15: =IFERROR(RIGHT(LEFT(Table1[[#This Row],[S]],2),1)*1,"") | K15: =IF(Table1[[#This Row],[Plac]]="",0,IFERROR(VLOOKUP(Table1[[#This Row],[Plac]],Referens!$B$16:$C$28,2,0),1)) -> 12 | L15: =Table1[[#This Row],[Poäng]] -> 12 | M15: 3 | N15: 38 | O15: Erik Vidunger | P15: Borås Skidlöparklubb | Q15: 122 | S15: 0.55277778 | T15: 0.10416667 | U15: 0.65694444 | V15: 0.0625
A16: Pojkar 12-13 | B16: Nässjö 18/1 Kortdistans | C16: 15 | D16: =Table1[[#This Row],[Skott]]-SUM(Table1[[#This Row],[T1]:[T5]]) -> 9 | E16: =IFERROR(-(SUM(Table1[[#This Row],[T1]:[T5]])-Table1[[#This Row],[Skott]])/Table1[[#This Row],[Skott]],"") -> 0.6 | F16: =IFERROR(LEFT(Table1[[#This Row],[L]],1)*1,"") -> 3 | G16: =IFERROR(RIGHT(LEFT(Table1[[#This Row],[L]],2),1)*1,"") -> 1 | H16: =IFERROR(IF(Table1[[#This Row],[Skott]]=10,"",RIGHT(Table1[[#This Row],[L]],1))*1,"") -> 2 | I16: =IFERROR(LEFT(Table1[[#This Row],[S]],1)*1,"") | J16: =IFERROR(RIGHT(LEFT(Table1[[#This Row],[S]],2),1)*1,"") | K16: =IF(Table1[[#This Row],[Plac]]="",0,IFERROR(VLOOKUP(Table1[[#This Row],[Plac]],Referens!$B$16:$C$28,2,0),1)) -> 11 | L16: =Table1[[#This Row],[Poäng]] -> 11 | M16: 4 | N16: 27 | O16: Erik Bergh | P16: Borås Skidlöparklubb | Q16: 312 | S16: 0.55833333 | T16: 0.125 | U16: 0.68333333 | V16: 0.088888889
A17: Flickor 12-13 | B17: Nässjö 18/1 Kortdistans | C17: 15 | D17: =Table1[[#This Row],[Skott]]-SUM(Table1[[#This Row],[T1]:[T5]]) -> 8 | E17: =IFERROR(-(SUM(Table1[[#This Row],[T1]:[T5]])-Table1[[#This Row],[Skott]])/Table1[[#This Row],[Skott]],"") -> 0.53333333 | F17: =IFERROR(LEFT(Table1[[#This Row],[L]],1)*1,"") -> 4 | G17: =IFERROR(RIGHT(LEFT(Table1[[#This Row],[L]],2),1)*1,"") -> 3 | H17: =IFERROR(IF(Table1[[#This Row],[Skott]]=10,"",RIGHT(Table1[[#This Row],[L]],1))*1,"") -> 0 | I17: =IFERROR(LEFT(Table1[[#This Row],[S]],1)*1,"") | J17: =IFERROR(RIGHT(LEFT(Table1[[#This Row],[S]],2),1)*1,"") | K17: =IF(Table1[[#This Row],[Plac]]="",0,IFERROR(VLOOKUP(Table1[[#This Row],[Plac]],Referens!$B$16:$C$28,2,0),1)) -> 15 | L17: =Table1[[#This Row],[Poäng]] -> 15 | M17: 1 | N17: 47 | O17: Ester Hall | P17: Borås Skidlöparklubb | Q17: 430 | S17: 0.50416667 | T17: 0.14583333 | U17: 0.65 | V17: -
A18: Flickor 12-13 | B18: Nässjö 18/1 Kortdistans | C18: 15 | D18: =Table1[[#This Row],[Skott]]-SUM(Table1[[#This Row],[T1]:[T5]]) -> 8 | E18: =IFERROR(-(SUM(Table1[[#This Row],[T1]:[T5]])-Table1[[#This Row],[Skott]])/Table1[[#This Row],[Skott]],"") -> 0.53333333 | F18: =IFERROR(LEFT(Table1[[#This Row],[L]],1)*1,"") -> 1 | G18: =IFERROR(RIGHT(LEFT(Table1[[#This Row],[L]],2),1)*1,"") -> 5 | H18: =IFERROR(IF(Table1[[#This Row],[Skott]]=10,"",RIGHT(Table1[[#This Row],[L]],1))*1,"") -> 1 | I18: =IFERROR(LEFT(Table1[[#This Row],[S]],1)*1,"") | J18: =IFERROR(RIGHT(LEFT(Table1[[#This Row],[S]],2),1)*1,"") | K18: =IF(Table1[[#This Row],[Plac]]="",0,IFERROR(VLOOKUP(Table1[[#This Row],[Plac]],Referens!$B$16:$C$28,2,0),1)) -> 13 | L18: =Table1[[#This Row],[Poäng]] -> 13 | M18: 2 | N18: 46 | O18: Karin Frick Gräslund | P18: Borås Skidlöparklubb | Q18: 151 | S18: 0.53958333 | T18: 0.14583333 | U18: 0.68541667 | V18: 0.035416667
A19: Pojkar 14-15 | B19: Nässjö 18/1 Kortdistans | C19: 15 | D19: =Table1[[#This Row],[Skott]]-SUM(Table1[[#This Row],[T1]:[T5]]) -> 10 | E19: =IFERROR(-(SUM(Table1[[#This Row],[T1]:[T5]])-Table1[[#This Row],[Skott]])/Table1[[#This Row],[Skott]],"") -> 0.66666667 | F19: =IFERROR(LEFT(Table1[[#This Row],[L]],1)*1,"") -> 2 | G19: =IFERROR(RIGHT(LEFT(Table1[[#This Row],[L]],2),1)*1,"") -> 3 | H19: =IFERROR(IF(Table1[[#This Row],[Skott]]=10,"",RIGHT(Table1[[#This Row],[L]],1))*1,"") -> 0 | I19: =IFERROR(LEFT(Table1[[#This Row],[S]],1)*1,"") | J19: =IFERROR(RIGHT(LEFT(Table1[[#This Row],[S]],2),1)*1,"") | K19: =IF(Table1[[#This Row],[Plac]]="",0,IFERROR(VLOOKUP(Table1[[#This Row],[Plac]],Referens!$B$16:$C$28,2,0),1)) -> 10 | L19: =Table1[[#This Row],[Poäng]] -> 10 | M19: 5 | N19: 76 | O19: Harry Skoog | P19: Borås Skidlöparklubb | Q19: 230 | S19: 0.89722222 | T19: 0.10416667 | U19: 1.0013889 | V19: 0.18819444
A20: Herrar senior_motion | B20: Nässjö 18/1 Kortdistans | C20: 20 | D20: =Table1[[#This Row],[Skott]]-SUM(Table1[[#This Row],[T1]:[T5]]) -> 7 | E20: =IFERROR(-(SUM(Table1[[#This Row],[T1]:[T5]])-Table1[[#This Row],[Skott]])/Table1[[#This Row],[Skott]],"") -> 0.35 | F20: =IFERROR(LEFT(Table1[[#This Row],[L]],1)*1,"") -> 4 | G20: =IFERROR(RIGHT(LEFT(Table1[[#This Row],[L]],2),1)*1,"") -> 4 | I20: =IFERROR(LEFT(Table1[[#This Row],[S]],1)*1,"") -> 3 | J20: =IFERROR(RIGHT(LEFT(Table1[[#This Row],[S]],2),1)*1,"") -> 2 | K20: =IF(Table1[[#This Row],[Plac]]="",0,IFERROR(VLOOKUP(Table1[[#This Row],[Plac]],Referens!$B$16:$C$28,2,0),1)) -> 15 | L20: =Table1[[#This Row],[Poäng]] -> 15 | M20: 1 | N20: 101 | O20: Christoffer Skoog | P20: Borås Skidlöparklubb | Q20: 44 | R20: 32 | S20: 1.0090278 | T20: 0.40625 | U20: 1.4152778 | V20: -
A21: Herrar senior_motion | B21: Nässjö 18/1 Kortdistans | C21: 20 | D21: =Table1[[#This Row],[Skott]]-SUM(Table1[[#This Row],[T1]:[T5]]) -> 4 | E21: =IFERROR(-(SUM(Table1[[#This Row],[T1]:[T5]])-Table1[[#This Row],[Skott]])/Table1[[#This Row],[Skott]],"") -> 0.2 | F21: =IFERROR(LEFT(Table1[[#This Row],[L]],1)*1,"") -> 4 | G21: =IFERROR(RIGHT(LEFT(Table1[[#This Row],[L]],2),1)*1,"") -> 5 | I21: =IFERROR(LEFT(Table1[[#This Row],[S]],1)*1,"") -> 4 | J21: =IFERROR(RIGHT(LEFT(Table1[[#This Row],[S]],2),1)*1,"") -> 3 | K21: =IF(Table1[[#This Row],[Plac]]="",0,IFERROR(VLOOKUP(Table1[[#This Row],[Plac]],Referens!$B$16:$C$28,2,0),1)) -> 13 | L21: =Table1[[#This Row],[Poäng]] -> 13 | M21: 2 | N21: 100 | O21: Linus Hall | P21: Borås Skidlöparklubb | Q21: 45 | R21: 43 | S21: 0.97569444 | T21: 0.5 | U21: 1.4756944 | V21: 0.060416667
A22: Damer senior_motion | B22: Nässjö 18/1 Kortdistans | C22: 20 | D22: =Table1[[#This Row],[Skott]]-SUM(Table1[[#This Row],[T1]:[T5]]) -> 5 | E22: =IFERROR(-(SUM(Table1[[#This Row],[T1]:[T5]])-Table1[[#This Row],[Skott]])/Table1[[#This Row],[Skott]],"") -> 0.25 | F22: =IFERROR(LEFT(Table1[[#This Row],[L]],1)*1,"") -> 5 | G22: =IFERROR(RIGHT(LEFT(Table1[[#This Row],[L]],2),1)*1,"") -> 3 | I22: =IFERROR(LEFT(Table1[[#This Row],[S]],1)*1,"") -> 3 | J22: =IFERROR(RIGHT(LEFT(Table1[[#This Row],[S]],2),1)*1,"") -> 4 | K22: =IF(Table1[[#This Row],[Plac]]="",0,IFERROR(VLOOKUP(Table1[[#This Row],[Plac]],Referens!$B$16:$C$28,2,0),1)) -> 15 | L22: =Table1[[#This Row],[Poäng]] -> 15 | M22: 1 | N22: 106 | O22: Sofia Frick | P22: Borås Skidlöparklubb | Q22: 53 | R22: 34 | S22: 0.98888889 | T22: 0.46875 | U22: 1.4576389 | V22: -
A23: Damer senior_motion | B23: Nässjö 18/1 Kortdistans | C23: 20 | D23: =Table1[[#This Row],[Skott]]-SUM(Table1[[#This Row],[T1]:[T5]]) -> 5 | E23: =IFERROR(-(SUM(Table1[[#This Row],[T1]:[T5]])-Table1[[#This Row],[Skott]])/Table1[[#This Row],[Skott]],"") -> 0.25 | F23: =IFERROR(LEFT(Table1[[#This Row],[L]],1)*1,"") -> 4 | G23: =IFERROR(RIGHT(LEFT(Table1[[#This Row],[L]],2),1)*1,"") -> 3 | I23: =IFERROR(LEFT(Table1[[#This Row],[S]],1)*1,"") -> 4 | J23: =IFERROR(RIGHT(LEFT(Table1[[#This Row],[S]],2),1)*1,"") -> 4 | K23: =IF(Table1[[#This Row],[Plac]]="",0,IFERROR(VLOOKUP(Table1[[#This Row],[Plac]],Referens!$B$16:$C$28,2,0),1)) -> 12 | L23: =Table1[[#This Row],[Poäng]] -> 12 | M23: 3 | N23: 105 | O23: Kristin Vidunger | P23: Borås Skidlöparklubb | Q23: 43 | R23: 44 | S23: 1.2138889 | T23: 0.46875 | U23: 1.6826389 | V23: 0.225
A24: Pojkar 10-11 | B24: Trollhättan 31/1 Sprint | C24: 10 | D24: =Table1[[#This Row],[Skott]]-SUM(Table1[[#This Row],[T1]:[T5]]) -> 2 | E24: =IFERROR(-(SUM(Table1[[#This Row],[T1]:[T5]])-Table1[[#This Row],[Skott]])/Table1[[#This Row],[Skott]],"") -> 0.2 | F24: =IFERROR(LEFT(Table1[[#This Row],[L]],1)*1,"") -> 4 | G24: =IFERROR(RIGHT(LEFT(Table1[[#This Row],[L]],2),1)*1,"") -> 4 | H24: =IFERROR(IF(Table1[[#This Row],[Skott]]=10,"",RIGHT(Table1[[#This Row],[L]],1))*1,"") | I24: =IFERROR(LEFT(Table1[[#This Row],[S]],1)*1,"") | J24: =IFERROR(RIGHT(LEFT(Table1[[#This Row],[S]],2),1)*1,"") | K24: =IF(Table1[[#This Row],[Plac]]="",0,IFERROR(VLOOKUP(Table1[[#This Row],[Plac]],Referens!$B$16:$C$28,2,0),1)) -> 15 | L24: 5 | M24: 1 | N24: 1 | O24: Karl Bergh | P24: Borås Skidlöparklubb | Q24: 44 | S24: 0.56944444 | T24: - | U24: 0.56944444 | V24: -
A25: Flickor 10-11 | B25: Trollhättan 31/1 Sprint | C25: 10 | D25: =Table1[[#This Row],[Skott]]-SUM(Table1[[#This Row],[T1]:[T5]]) -> 8 | E25: =IFERROR(-(SUM(Table1[[#This Row],[T1]:[T5]])-Table1[[#This Row],[Skott]])/Table1[[#This Row],[Skott]],"") -> 0.8 | F25: =IFERROR(LEFT(Table1[[#This Row],[L]],1)*1,"") -> 1 | G25: =IFERROR(RIGHT(LEFT(Table1[[#This Row],[L]],2),1)*1,"") -> 1 | H25: =IFERROR(IF(Table1[[#This Row],[Skott]]=10,"",RIGHT(Table1[[#This Row],[L]],1))*1,"") | I25: =IFERROR(LEFT(Table1[[#This Row],[S]],1)*1,"") | J25: =IFERROR(RIGHT(LEFT(Table1[[#This Row],[S]],2),1)*1,"") | K25: =IF(Table1[[#This Row],[Plac]]="",0,IFERROR(VLOOKUP(Table1[[#This Row],[Plac]],Referens!$B$16:$C$28,2,0),1)) -> 15 | L25: 5 | M25: 1 | N25: 8 | O25: Ines Hall | P25: Borås Skidlöparklubb | Q25: 1 | S25: 0.47986111 | T25: - | U25: 0.47986111 | V25: -
A26: Pojkar 12-13 | B26: Trollhättan 31/1 Sprint | C26: 10 | D26: =Table1[[#This Row],[Skott]]-SUM(Table1[[#This Row],[T1]:[T5]]) -> 8 | E26: =IFERROR(-(SUM(Table1[[#This Row],[T1]:[T5]])-Table1[[#This Row],[Skott]])/Table1[[#This Row],[Skott]],"") -> 0.8 | F26: =IFERROR(LEFT(Table1[[#This Row],[L]],1)*1,"") -> 1 | G26: =IFERROR(RIGHT(LEFT(Table1[[#This Row],[L]],2),1)*1,"") -> 1 | H26: =IFERROR(IF(Table1[[#This Row],[Skott]]=10,"",RIGHT(Table1[[#This Row],[L]],1))*1,"") | I26: =IFERROR(LEFT(Table1[[#This Row],[S]],1)*1,"") | J26: =IFERROR(RIGHT(LEFT(Table1[[#This Row],[S]],2),1)*1,"") | K26: =IF(Table1[[#This Row],[Plac]]="",0,IFERROR(VLOOKUP(Table1[[#This Row],[Plac]],Referens!$B$16:$C$28,2,0),1)) -> 15 | L26: =Table1[[#This Row],[Poäng]] -> 15 | M26: 1 | N26: 12 | O26: Erik Vidunger | P26: Borås Skidlöparklubb | Q26: 11 | S26: 0.65694444 | T26: - | U26: 0.65694444 | V26: -
A27: Pojkar 12-13 | B27: Trollhättan 31/1 Sprint | C27: 10 | D27: =Table1[[#This Row],[Skott]]-SUM(Table1[[#This Row],[T1]:[T5]]) -> 5 | E27: =IFERROR(-(SUM(Table1[[#This Row],[T1]:[T5]])-Table1[[#This Row],[Skott]])/Table1[[#This Row],[Skott]],"") -> 0.5 | F27: =IFERROR(LEFT(Table1[[#This Row],[L]],1)*1,"") -> 2 | G27: =IFERROR(RIGHT(LEFT(Table1[[#This Row],[L]],2),1)*1,"") -> 3 | H27: =IFERROR(IF(Table1[[#This Row],[Skott]]=10,"",RIGHT(Table1[[#This Row],[L]],1))*1,"") | I27: =IFERROR(LEFT(Table1[[#This Row],[S]],1)*1,"") | J27: =IFERROR(RIGHT(LEFT(Table1[[#This Row],[S]],2),1)*1,"") | K27: =IF(Table1[[#This Row],[Plac]]="",0,IFERROR(VLOOKUP(Table1[[#This Row],[Plac]],Referens!$B$16:$C$28,2,0),1)) -> 12 | L27: =Table1[[#This Row],[Poäng]] -> 12 | M27: 3 | N27: 13 | O27: Erik Bergh | P27: Borås Skidlöparklubb | Q27: 23 | S27: 0.71527778 | T27: - | U27: 0.71527778 | V27: 0.058333333
A28: Flickor 12-13 | B28: Trollhättan 31/1 Sprint | C28: 10 | D28: =Table1[[#This Row],[Skott]]-SUM(Table1[[#This Row],[T1]:[T5]]) -> 8 | E28: =IFERROR(-(SUM(Table1[[#This Row],[T1]:[T5]])-Table1[[#This Row],[Skott]])/Table1[[#This Row],[Skott]],"") -> 0.8 | F28: =IFERROR(LEFT(Table1[[#This Row],[L]],1)*1,"") -> 1 | G28: =IFERROR(RIGHT(LEFT(Table1[[#This Row],[L]],2),1)*1,"") -> 1 | H28: =IFERROR(IF(Table1[[#This Row],[Skott]]=10,"",RIGHT(Table1[[#This Row],[L]],1))*1,"") | I28: =IFERROR(LEFT(Table1[[#This Row],[S]],1)*1,"") | J28: =IFERROR(RIGHT(LEFT(Table1[[#This Row],[S]],2),1)*1,"") | K28: =IF(Table1[[#This Row],[Plac]]="",0,IFERROR(VLOOKUP(Table1[[#This Row],[Plac]],Referens!$B$16:$C$28,2,0),1)) -> 15 | L28: =Table1[[#This Row],[Poäng]] -> 15 | M28: 1 | N28: 26 | O28: Ester Hall | P28: Borås Skidlöparklubb | Q28: 11 | S28: 0.58333333 | T28: - | U28: 0.58333333 | V28: - | W28: Tid ej exakt inlagd. Placering är rätt.
A29: Pojkar 14-15 | B29: Trollhättan 31/1 Sprint | C29: 10 | D29: =Table1[[#This Row],[Skott]]-SUM(Table1[[#This Row],[T1]:[T5]]) -> 4 | E29: =IFERROR(-(SUM(Table1[[#This Row],[T1]:[T5]])-Table1[[#This Row],[Skott]])/Table1[[#This Row],[Skott]],"") -> 0.4 | F29: =IFERROR(LEFT(Table1[[#This Row],[L]],1)*1,"") -> 2 | G29: =IFERROR(RIGHT(LEFT(Table1[[#This Row],[L]],2),1)*1,"") -> 4 | H29: =IFERROR(IF(Table1[[#This Row],[Skott]]=10,"",RIGHT(Table1[[#This Row],[L]],1))*1,"") | I29: =IFERROR(LEFT(Table1[[#This Row],[S]],1)*1,"") | J29: =IFERROR(RIGHT(LEFT(Table1[[#This Row],[S]],2),1)*1,"") | K29: =IF(Table1[[#This Row],[Plac]]="",0,IFERROR(VLOOKUP(Table1[[#This Row],[Plac]],Referens!$B$16:$C$28,2,0),1)) -> 10 | L29: =Table1[[#This Row],[Poäng]] -> 10 | M29: 5 | N29: 46 | O29: Harry Skoog | P29: Borås Skidlöparklubb | Q29: 24 | S29: 0.75902778 | T29: - | U29: 0.75902778 | V29: 0.10208333
A30: Herrar senior_motion | B30: Trollhättan 31/1 Sprint | C30: 20 | D30: =Table1[[#This Row],[Skott]]-SUM(Table1[[#This Row],[T1]:[T5]]) -> 2 | E30: =IFERROR(-(SUM(Table1[[#This Row],[T1]:[T5]])-Table1[[#This Row],[Skott]])/Table1[[#This Row],[Skott]],"") -> 0.1 | F30: =IFERROR(LEFT(Table1[[#This Row],[L]],1)*1,"") -> 4 | G30: =IFERROR(RIGHT(LEFT(Table1[[#This Row],[L]],2),1)*1,"") -> 4 | I30: =IFERROR(LEFT(Table1[[#This Row],[S]],1)*1,"") -> 5 | J30: =IFERROR(RIGHT(LEFT(Table1[[#This Row],[S]],2),1)*1,"") -> 5 | K30: =IF(Table1[[#This Row],[Plac]]="",0,IFERROR(VLOOKUP(Table1[[#This Row],[Plac]],Referens!$B$16:$C$28,2,0),1)) -> 15 | L30: =Table1[[#This Row],[Poäng]] -> 15 | M30: 1 | N30: 60 | O30: Linus Hall | P30: Borås Skidlöparklubb | Q30: 4 | R30: 5 | S30: 1.0152778 | T30: - | U30: 1.0152778 | V30: -
A31: Herrar senior_motion | B31: Trollhättan 31/1 Sprint | C31: 20 | D31: =Table1[[#This Row],[Skott]]-SUM(Table1[[#This Row],[T1]:[T5]]) -> 4 | E31: =IFERROR(-(SUM(Table1[[#This Row],[T1]:[T5]])-Table1[[#This Row],[Skott]])/Table1[[#This Row],[Skott]],"") -> 0.2 | F31: =IFERROR(LEFT(Table1[[#This Row],[L]],1)*1,"") -> 4 | G31: =IFERROR(RIGHT(LEFT(Table1[[#This Row],[L]],2),1)*1,"") -> 4 | I31: =IFERROR(LEFT(Table1[[#This Row],[S]],1)*1,"") -> 4 | J31: =IFERROR(RIGHT(LEFT(Table1[[#This Row],[S]],2),1)*1,"") -> 4 | K31: =IF(Table1[[#This Row],[Plac]]="",0,IFERROR(VLOOKUP(Table1[[#This Row],[Plac]],Referens!$B$16:$C$28,2,0),1)) -> 13 | L31: =Table1[[#This Row],[Poäng]] -> 13 | M31: 2 | N31: 61 | O31: Christoffer Skoog | P31: Borås Skidlöparklubb | Q31: 4 | R31: 4 | S31: 1.0701389 | T31: - | U31: 1.0701389 | V31: 0.054861111
A32: Herrar senior_motion | B32: Trollhättan 31/1 Sprint | C32: 20 | D32: =Table1[[#This Row],[Skott]]-SUM(Table1[[#This Row],[T1]:[T5]]) -> 2 | E32: =IFERROR(-(SUM(Table1[[#This Row],[T1]:[T5]])-Table1[[#This Row],[Skott]])/Table1[[#This Row],[Skott]],"") -> 0.1 | F32: =IFERROR(LEFT(Table1[[#This Row],[L]],1)*1,"") -> 5 | G32: =IFERROR(RIGHT(LEFT(Table1[[#This Row],[L]],2),1)*1,"") -> 5 | I32: =IFERROR(LEFT(Table1[[#This Row],[S]],1)*1,"") -> 4 | J32: =IFERROR(RIGHT(LEFT(Table1[[#This Row],[S]],2),1)*1,"") -> 4 | K32: =IF(Table1[[#This Row],[Plac]]="",0,IFERROR(VLOOKUP(Table1[[#This Row],[Plac]],Referens!$B$16:$C$28,2,0),1)) -> 10 | L32: =Table1[[#This Row],[Poäng]] -> 10 | M32: 5 | N32: 59 | O32: Niclas Bergh | P32: Borås Skidlöparklubb | Q32: 5 | R32: 4 | S32: 1.2430556 | T32: - | U32: 1.2430556 | V32: 0.22777778
A33: Damer senior_motion | B33: Trollhättan 31/1 Sprint | C33: 20 | D33: =Table1[[#This Row],[Skott]]-SUM(Table1[[#This Row],[T1]:[T5]]) -> 2 | E33: =IFERROR(-(SUM(Table1[[#This Row],[T1]:[T5]])-Table1[[#This Row],[Skott]])/Table1[[#This Row],[Skott]],"") -> 0.1 | F33: =IFERROR(LEFT(Table1[[#This Row],[L]],1)*1,"") -> 4 | G33: =IFERROR(RIGHT(LEFT(Table1[[#This Row],[L]],2),1)*1,"") -> 4 | I33: =IFERROR(LEFT(Table1[[#This Row],[S]],1)*1,"") -> 5 | J33: =IFERROR(RIGHT(LEFT(Table1[[#This Row],[S]],2),1)*1,"") -> 5 | K33: =IF(Table1[[#This Row],[Plac]]="",0,IFERROR(VLOOKUP(Table1[[#This Row],[Plac]],Referens!$B$16:$C$28,2,0),1)) -> 13 | L33: =Table1[[#This Row],[Poäng]] -> 13 | M33: 2 | N33: 63 | O33: Kristin Vidunger | P33: Borås Skidlöparklubb | Q33: 4 | R33: 5 | S33: 1.2590278 | T33: - | U33: 1.2590278 | V33: 0.11666667
A34: Flickor 10-11 | B34: Landehof 1/2 Kortdistans | C34: 10 | D34: =Table1[[#This Row],[Skott]]-SUM(Table1[[#This Row],[T1]:[T5]]) -> 7 | E34: =IFERROR(-(SUM(Table1[[#This Row],[T1]:[T5]])-Table1[[#This Row],[Skott]])/Table1[[#This Row],[Skott]],"") -> 0.7 | F34: =IFERROR(LEFT(Table1[[#This Row],[L]],1)*1,"") -> 1 | G34: =IFERROR(RIGHT(LEFT(Table1[[#This Row],[L]],2),1)*1,"") -> 2 | H34: =IFERROR(IF(Table1[[#This Row],[Skott]]=10,"",RIGHT(Table1[[#This Row],[L]],1))*1,"") | I34: =IFERROR(LEFT(Table1[[#This Row],[S]],1)*1,"") | J34: =IFERROR(RIGHT(LEFT(Table1[[#This Row],[S]],2),1)*1,"") | K34: =IF(Table1[[#This Row],[Plac]]="",0,IFERROR(VLOOKUP(Table1[[#This Row],[Plac]],Referens!$B$16:$C$28,2,0),1)) -> 13 | L34: 5 | M34: 2 | N34: 18 | O34: Ines Hall | P34: Borås Skidlöparklubb | Q34: 12 | S34: 0.50625 | T34: 0.0625 | U34: 0.56875 | V34: 0.025694444
A35: Pojkar 10-11 | B35: Landehof 1/2 Kortdistans | C35: 10 | D35: =Table1[[#This Row],[Skott]]-SUM(Table1[[#This Row],[T1]:[T5]]) -> 7 | E35: =IFERROR(-(SUM(Table1[[#This Row],[T1]:[T5]])-Table1[[#This Row],[Skott]])/Table1[[#This Row],[Skott]],"") -> 0.7 | F35: =IFERROR(LEFT(Table1[[#This Row],[L]],1)*1,"") -> 1 | G35: =IFERROR(RIGHT(LEFT(Table1[[#This Row],[L]],2),1)*1,"") -> 2 | H35: =IFERROR(IF(Table1[[#This Row],[Skott]]=10,"",RIGHT(Table1[[#This Row],[L]],1))*1,"") | I35: =IFERROR(LEFT(Table1[[#This Row],[S]],1)*1,"") | J35: =IFERROR(RIGHT(LEFT(Table1[[#This Row],[S]],2),1)*1,"") | K35: =IF(Table1[[#This Row],[Plac]]="",0,IFERROR(VLOOKUP(Table1[[#This Row],[Plac]],Referens!$B$16:$C$28,2,0),1)) -> 15 | L35: 5 | M35: 1 | N35: 24 | O35: Karl Bergh | P35: Borås Skidlöparklubb | Q35: 12 | S35: 0.52916667 | T35: 0.0625 | U35: 0.59166667 | V35: -
A36: Flickor 12-13 | B36: Landehof 1/2 Kortdistans | C36: 15 | D36: =Table1[[#This Row],[Skott]]-SUM(Table1[[#This Row],[T1]:[T5]]) -> 14 | E36: =IFERROR(-(SUM(Table1[[#This Row],[T1]:[T5]])-Table1[[#This Row],[Skott]])/Table1[[#This Row],[Skott]],"") -> 0.93333333 | F36: =IFERROR(LEFT(Table1[[#This Row],[L]],1)*1,"") -> 0 | G36: =IFERROR(RIGHT(LEFT(Table1[[#This Row],[L]],2),1)*1,"") -> 0 | H36: =IFERROR(IF(Table1[[#This Row],[Skott]]=10,"",RIGHT(Table1[[#This Row],[L]],1))*1,"") -> 1 | I36: =IFERROR(LEFT(Table1[[#This Row],[S]],1)*1,"") | J36: =IFERROR(RIGHT(LEFT(Table1[[#This Row],[S]],2),1)*1,"") | K36: =IF(Table1[[#This Row],[Plac]]="",0,IFERROR(VLOOKUP(Table1[[#This Row],[Plac]],Referens!$B$16:$C$28,2,0),1)) -> 15 | L36: =Table1[[#This Row],[Poäng]] -> 15 | M36: 1 | N36: 35 | O36: Karin Frick Gräslund | P36: Borås Skidlöparklubb | Q36: 001 | S36: 0.65069444 | T36: 0.020833333 | U36: 0.67152778 | V36: -
A37: Flickor 12-13 | B37: Landehof 1/2 Kortdistans | C37: 15 | D37: =Table1[[#This Row],[Skott]]-SUM(Table1[[#This Row],[T1]:[T5]]) -> 10 | E37: =IFERROR(-(SUM(Table1[[#This Row],[T1]:[T5]])-Table1[[#This Row],[Skott]])/Table1[[#This Row],[Skott]],"") -> 0.66666667 | F37: =IFERROR(LEFT(Table1[[#This Row],[L]],1)*1,"") -> 3 | G37: =IFERROR(RIGHT(LEFT(Table1[[#This Row],[L]],2),1)*1,"") -> 2 | H37: =IFERROR(IF(Table1[[#This Row],[Skott]]=10,"",RIGHT(Table1[[#This Row],[L]],1))*1,"") -> 0 | I37: =IFERROR(LEFT(Table1[[#This Row],[S]],1)*1,"") | J37: =IFERROR(RIGHT(LEFT(Table1[[#This Row],[S]],2),1)*1,"") | K37: =IF(Table1[[#This Row],[Plac]]="",0,IFERROR(VLOOKUP(Table1[[#This Row],[Plac]],Referens!$B$16:$C$28,2,0),1)) -> 13 | L37: =Table1[[#This Row],[Poäng]] -> 13 | M37: 2 | N37: 38 | O37: Ester Hall | P37: Borås Skidlöparklubb | Q37: 320 | S37: 0.56944444 | T37: 0.10416667 | U37: 0.67361111 | V37: 0.0020833333
A38: Pojkar 12-13 | B38: Landehof 1/2 Kortdistans | C38: 15 | D38: =Table1[[#This Row],[Skott]]-SUM(Table1[[#This Row],[T1]:[T5]]) -> 13 | E38: =IFERROR(-(SUM(Table1[[#This Row],[T1]:[T5]])-Table1[[#This Row],[Skott]])/Table1[[#This Row],[Skott]],"") -> 0.86666667 | F38: =IFERROR(LEFT(Table1[[#This Row],[L]],1)*1,"") -> 1 | G38: =IFERROR(RIGHT(LEFT(Table1[[#This Row],[L]],2),1)*1,"") -> 1 | H38: =IFERROR(IF(Table1[[#This Row],[Skott]]=10,"",RIGHT(Table1[[#This Row],[L]],1))*1,"") -> 0 | I38: =IFERROR(LEFT(Table1[[#This Row],[S]],1)*1,"") | J38: =IFERROR(RIGHT(LEFT(Table1[[#This Row],[S]],2),1)*1,"") | K38: =IF(Table1[[#This Row],[Plac]]="",0,IFERROR(VLOOKUP(Table1[[#This Row],[Plac]],Referens!$B$16:$C$28,2,0),1)) -> 13 | L38: =Table1[[#This Row],[Poäng]] -> 13 | M38: 2 | N38: 42 | O38: Gustav Frick Gräslund | P38: Borås Skidlöparklubb | Q38: 110 | S38: 0.59652778 | T38: 0.041666667 | U38: 0.63819444 | V38: 0.054861111
A39: Pojkar 12-13 | B39: Landehof 1/2 Kortdistans | C39: 15 | D39: =Table1[[#This Row],[Skott]]-SUM(Table1[[#This Row],[T1]:[T5]]) -> 12 | E39: =IFERROR(-(SUM(Table1[[#This Row],[T1]:[T5]])-Table1[[#This Row],[Skott]])/Table1[[#This Row],[Skott]],"") -> 0.8 | F39: =IFERROR(LEFT(Table1[[#This Row],[L]],1)*1,"") -> 0 | G39: =IFERROR(RIGHT(LEFT(Table1[[#This Row],[L]],2),1)*1,"") -> 2 | H39: =IFERROR(IF(Table1[[#This Row],[Skott]]=10,"",RIGHT(Table1[[#This Row],[L]],1))*1,"") -> 1 | I39: =IFERROR(LEFT(Table1[[#This Row],[S]],1)*1,"") | J39: =IFERROR(RIGHT(LEFT(Table1[[#This Row],[S]],2),1)*1,"") | K39: =IF(Table1[[#This Row],[Plac]]="",0,IFERROR(VLOOKUP(Table1[[#This Row],[Plac]],Referens!$B$16:$C$28,2,0),1)) -> 12 | L39: =Table1[[#This Row],[Poäng]] -> 12 | M39: 3 | N39: 48 | O39: Erik Vidunger | P39: Borås Skidlöparklubb | Q39: 021 | S39: 0.59791667 | T39: 0.0625 | U39: 0.66041667 | V39: 0.077083333
A40: Pojkar 12-13 | B40: Landehof 1/2 Kortdistans | C40: 15 | D40: =Table1[[#This Row],[Skott]]-SUM(Table1[[#This Row],[T1]:[T5]]) -> 8 | E40: =IFERROR(-(SUM(Table1[[#This Row],[T1]:[T5]])-Table1[[#This Row],[Skott]])/Table1[[#This Row],[Skott]],"") -> 0.53333333 | F40: =IFERROR(LEFT(Table1[[#This Row],[L]],1)*1,"") -> 3 | G40: =IFERROR(RIGHT(LEFT(Table1[[#This Row],[L]],2),1)*1,"") -> 1 | H40: =IFERROR(IF(Table1[[#This Row],[Skott]]=10,"",RIGHT(Table1[[#This Row],[L]],1))*1,"") -> 3 | I40: =IFERROR(LEFT(Table1[[#This Row],[S]],1)*1,"") | J40: =IFERROR(RIGHT(LEFT(Table1[[#This Row],[S]],2),1)*1,"") | K40: =IF(Table1[[#This Row],[Plac]]="",0,IFERROR(VLOOKUP(Table1[[#This Row],[Plac]],Referens!$B$16:$C$28,2,0),1)) -> 10 | L40: =Table1[[#This Row],[Poäng]] -> 10 | M40: 5 | N40: 47 | O40: Erik Bergh | P40: Borås Skidlöparklubb | Q40: 313 | S40: 0.62916667 | T40: 0.14583333 | U40: 0.775 | V40: 0.19166667
...

Sheet Referens
A2: Följande regler gäller för tävlingar i Syd Cup
A3: Cupens deltävlingar kan variera i antal från år till år och mellan sommar- och vintercup. Om cupen består av tre deltävlingar räknas alla tävlingarna med i cupresultatet. Därefter beräknas resultaten enligt följande:
A5: 4 tävlingar = resultatet från en tävling räknas bort
A6: 5-7 tävlingar = resultatet från två tävlingar räknas bort
A7: 8-10 tävlingar = resultatet från tre tävlingar räknas bort
A8: 11-14 tävlingar = resultatet från fyra tävlingar räknas bort
A10: Det är alltid tävlingarna med de sämsta placeringarna som tas bort.
A11: För att få pris ska man vara med på minst 3 tävlingar.
A12: Individuella poäng ges i den klass man tävlat i för respektive tävling. Man kan inte delta i och få poäng i två klasser i samma tävling. (Detta utifrån att aktiva kan välja att tävla i närmaste högre klass)
A13: Tävlande från klubbar utanför Region Syd kan vara med i deltävlingarna men de räknas inte in i cupen. Så vid beräkning av cup poäng bortser man från utomstående deltagare och justerar placeringarna att gälla enbart deltagare från Region Syd.
A14: Poängsystem
A15: Placering och antal poäng som delas ut vid varje deltävling
A16: 1 = 15 poäng | B16: 1 | C16: 15
A17: 2 = 13 poäng | B17: 2 | C17: 13
A18: 3 = 12 poäng | B18: 3 | C18: 12
A19: 4 = 11 poäng | B19: 4 | C19: 11
A20: 5 = 10 poäng | B20: 5 | C20: 10
A21: 6 = 9 poäng | B21: 6 | C21: 9
A22: 7 = 8 poäng | B22: 7 | C22: 8
A23: 8 = 7 poäng | B23: 8 | C23: 7
A24: 9 = 6 poäng | B24: 9 | C24: 6
A25: 10 = 5 poäng | B25: 10 | C25: 5
A26: 11 = 4 poäng | B26: 11 | C26: 4
A27: 12 = 3 poäng | B27: 12 | C27: 3
A28: 13 = 2 poäng | B28: 13 | C28: 2
A29: 14 = 1 poäng
A30: Alla övriga = 1 poäng
A31: Om två eller flera tävlande har samma placeringspoäng vid cupens slut så är det skyttet som blir utslagsgivande. Den som har högst träffprocent på de tävlingar som räknas in i cupens resultat vinner. Om det fortfarande är lika så blir det delad placering.
A32: Utrustning
A34: Obligatoriskt med hjälm för alla. Medför startförbud.
A35: Obligatoriskt med knäskydd upp till och med klassen H/D12-13 (medför startförbud) och rekommenderas för alla.
A36: Inga tävlingshjul får användas, inte i någon klass. Det medför diskvalificering.
A37: Endast träningshjul får användas. Följande hjul är godkända:
A38: Marwe 0:or eller trögare (Rullskidskytte JSM/Senior SM går på Marwe 6:or)
A39: Swenor 2:or eller trögare - undantag i klasser 10-13 år där Swenor Skate Junior 80 mm standardhjul får användas.
A40: Swix Skate 2:or eller trögare
A41: Elpex Skate Normal /2:or eller trögare
... A47: Senast uppdaterad: 2024-04-18

Sheet Cup statistik
A1: Cup | B1: Tävlingar | C1: Antal klubbar | D1: Starter | E1: Deltagare | F1: Placerade deltagare | G1: Total skytteprocent | H1: Största tävling (Syd deltagare tävlingsklass) | I1: Största klass i en tävling | J1: Klubbkamp vinnare | K1: Klubb träffprocent | L1: Klubb Medaljliga
A2: Vinter 2015 (endast 12-15) | B2: 3 | C2: 6 | D2: 52 | E2: 25 | F2: 12 | H2: Boxholmsjakten 20 deltagare | I2: D12-13 Boxholmsjakten 10 deltagare
A3: Vinter 2016 (ej sen, vet) | B3: 2 | C3: 6 | D3: 75 | E3: 57 | F3: 0 | H3: Nässjö 46 deltagare | I3: D10-11 och H14-15 Nässjö 9 deltagare
A4: Sommar 2016 | B4: 5 | C4: 6 | D4: 157 | E4: 58 | F4: 27 | H4: Nässjö 35 deltagare | I4: H35 2 tävlingar, D14-15 3 tävlingar 6 deltagare
A5: Vinter 2017 | B5: 4 | C5: 7 | D5: 130 | E5: 55 | F5: 25 | H5: Nässjö Biathlon Race 36 deltagare | I5: H35 Nässjö, D14-15 Borås och Landehof 7 deltagare
A6: Sommar 2017 | B6: 6 | C6: 9 | D6: 185 | E6: 73 | F6: 32 | G6: 50,0% | H6: Kimstadkampen 37 deltagare | I6: H35 Kimstadkampen 9 deltagare | J6: Kimstad GoIF 490 p | K6: Nässjö Ski 54% | L6: OK Landehof 19 guld
A7: Vinter 2018 | B7: 5 | C7: 9 | D7: 211 | E7: 69 | F7: 39 | G7: 55,8% | H7: Regionsmästerskap Nässjö 46 deltagare | I7: H10-11 Hestraträffen 12 deltagare | J7: Kimstad GoIF 561 p | K7: OK Landehof 61% | L7: Kimstad GoIF 18 guld
A8: Sommar 2018 | B8: 6 | C8: 9 | D8: 227 | E8: 83 | F8: 33 | G8: 49,4% | H8: Ute och Inne Biathlon dag 1, Petersburgträffen 41 deltagare | I8: H35 Ätranträffen 9 deltagare | J8: Kimstad GoIF 704 p | K8: Nässjö Ski 57% | L8: OK Landehof 19 guld
A9: Vinter 2019 | B9: 3 | C9: 11 | D9: 141 | E9: 79 | F9: 20 | G9: 48,6% | H9: Kimstadträffen 60 deltagare | I9: D10-11 Kimstadträffen 10 deltagare | J9: Kimstad GoIF 332 p | K9: Nässjö Ski 62% | L9: OK Landehof 10 guld
A10: Sommar 2019 | B10: 6 | C10: 10 | D10: 259 | E10: 87 | F10: 43 | G10: 54,3% | H10: Petersburgträffen 54 deltagare | I10: H12-13 Petersburgträffen 15 deltagare | J10: Kimstad GoIF 625 p | K10: IF Hallby 59% | L10: Kimstad GoIF 18 guld
A11: Vinter 2020 | B11: 1 | C11: 10 | D11: 39 | E11: 39 | F11: 0 | G11: 53,6% | H11: Hestraträffen 39 deltagare | I11: H12-13 Hestraträffen 10 deltagare | J11: OK Landehof 71 p | K11: OK Landehof 57,5% | L11: Boxholm-Ekeby 3 guld
A12: Sommar 2020 | B12: 3 | C12: 8 | D12: 114 | E12: 65 | F12: 16 | G12: 55,7% | H12: Kimstads Rullträff 56 deltagare | I12: H12-13 Kimstads Rullträff 14 deltagare | J12: Kimstad GoIF 340 p | K12: Nässjö Ski 65% | L12: OK Landehof 12 guld
A13: Vinter 2021 | B13: 3 | C13: 14 | D13: 163 | E13: 96 | F13: 19 | G13: 53,9% | H13: Landehof Trollskytte BR 55 deltagare | I13: H12-13 Regionsfinal Lövhult 14 deltagare | J13: Kimstad GoIF 283 p | K13: IF Hallby 67,3% | L13: Kimstad GoIF 5 guld
A14: Sommar 2021 | B14: 6 | C14: 16 | D14: 315 | E14: 126 | F14: 50 | G14: 60,7% | H14: Petersburgträffen 69 deltagare | I14: H14-15 Petersburgträffen 13 deltagare | J14: Kimstad GoIF 787p | K14: Boxholm-Ekeby 65,3% | L14: OK Landehof 24 guld
A15: Vinter 2022 | B15: 5 | C15: 17 | D15: 366 | E15: 154 | F15: 64 | G15: 54,6% | H15: Borås Biathlon Race 93 deltagare | I15: P12-13 Borås BR 18 deltagare | J15: Kimstad GoIF 558p | K15: Kimstad GoIF 61,7% | L15: OK Landehof 14 guld
A16: Sommar 2022 | B16: 8 | C16: 12 | D16: 410 | E16: 129 | F16: 67 | G16: 58,4% | H16: Petersburgträffen 75 deltagare | I16: P12-13 och P14-15 Petersburgträffen 13 deltagare | J16: Kimstad GoIF 1473p | K16: Linköpings SK 67,1% | L16: OK Landehof 29 guld
A17: Vinter 2023 | B17: 5 | C17: 14 | D17: 347 | E17: 134 | F17: 61 | G17: 55,5% | H17: Nässjöträffen, Kimstadträffen 84 deltagare | I17: P14-15 Nässjöträffen 14 deltagare | J17: Kimstad GoIF 1051p | K17: OK Landehof 65,4% | L17: OK Landehof 20 guld
... A23: Vinter 2026 | B23: 6 | C23: 18 | D23: 410 | E23: 206 | F23: 44 | G23: 43,7% | H23: Kimstadträffen 89 deltagare | I23: P10-11 Kimstadträffen 18 deltagare | J23: Föreningen Nässjö Ski 818p | K23: OK Landehof 61,8% | L23: Borås SK 19 Guld
